BEGIN:VCALENDAR
VERSION:2.0
PRODID:-//Efterladte.dk - ECPv6.15.17.1//NONSGML v1.0//EN
CALSCALE:GREGORIAN
METHOD:PUBLISH
X-WR-CALNAME:Efterladte.dk
X-ORIGINAL-URL:https://efterladte.dk
X-WR-CALDESC:Begivenheder for Efterladte.dk
REFRESH-INTERVAL;VALUE=DURATION:PT1H
X-Robots-Tag:noindex
X-PUBLISHED-TTL:PT1H
BEGIN:VTIMEZONE
TZID:Europe/Copenhagen
BEGIN:DAYLIGHT
TZOFFSETFROM:+0100
TZOFFSETTO:+0200
TZNAME:CEST
DTSTART:20220327T010000
END:DAYLIGHT
BEGIN:STANDARD
TZOFFSETFROM:+0200
TZOFFSETTO:+0100
TZNAME:CET
DTSTART:20221030T010000
END:STANDARD
BEGIN:DAYLIGHT
TZOFFSETFROM:+0100
TZOFFSETTO:+0200
TZNAME:CEST
DTSTART:20230326T010000
END:DAYLIGHT
BEGIN:STANDARD
TZOFFSETFROM:+0200
TZOFFSETTO:+0100
TZNAME:CET
DTSTART:20231029T010000
END:STANDARD
BEGIN:DAYLIGHT
TZOFFSETFROM:+0100
TZOFFSETTO:+0200
TZNAME:CEST
DTSTART:20240331T010000
END:DAYLIGHT
BEGIN:STANDARD
TZOFFSETFROM:+0200
TZOFFSETTO:+0100
TZNAME:CET
DTSTART:20241027T010000
END:STANDARD
END:VTIMEZONE
BEGIN:VEVENT
DTSTART;TZID=Europe/Copenhagen:20230606T190000
DTEND;TZID=Europe/Copenhagen:20230606T210000
DTSTAMP:20260421T120259
CREATED:20221028T153739Z
LAST-MODIFIED:20230314T064607Z
UID:10363-1686078000-1686085200@efterladte.dk
SUMMARY:Caféaften med tema: Mærkedage - Odense
DESCRIPTION:Lokalkreds Fyn inviterer til caféaften med tema \nSted: Seniorhus Odense\, Toldbodgade 5\, 5000 Odense. Vi skal være i Værkstedet. \nAftenens tema: Mærkedage. \nVi lægger op til et par timers samvær og samtale med andre efterladte efter selvmord. \nHer er det OK at tale om sorgen\, savnet og de svære følelser.\nDet der tales om er i fortrolighed mellem deltagerne. \nDer serveres kaffe/te og kage. \nNB! Tilmelding senest søndag 4. juni kl. 18.00 via link: https://efterladte.nemtilmeld.dk/188/\, eller direkte til John Jespersen. \nAlle er velkomne! \n\nTil vore arrangementer møder du andre efterladte.\nDu får mulighed for at tale og dele erfaringer med andre i en lignende situation som dig.  –  I fortrolighed mellem deltagerne\, naturligvis.\nDu får mulighed for et varmt\, uformelt samvær i et forum\, hvor selvmord ikke er tabu.\nDu er altid velkommen til at tage en ven med\, hvis du har behov for det.\n\n  \nVel mødt og venlig hilsen \nBestyrelsen – Lokalkreds Fyn \nJohn Jespersen\, tlf. 2521 9109\, mail: john-vita@kalnet.dk \nGerda Elise Larsen\, Johanne Hess og Anne Hansen
URL:https://efterladte.dk/aktivitet/cafeaften-med-tema-maerkedage-odense/
LOCATION:Seniorhus Odense\, Toldbodgade 5\, Odense\, 5000
CATEGORIES:Cafémøde,Lokalkreds Fyn
ATTACH;FMTTYPE=image/jpeg:https://efterladte.dk/wp-content/uploads/2019/11/Odense-e1574000964456.jpg
ORGANIZER;CN="Lokalkreds Fyn - John":MAILTO:john-vita@kalnet.dk
END:VEVENT
BEGIN:VEVENT
DTSTART;TZID=Europe/Copenhagen:20230606T190000
DTEND;TZID=Europe/Copenhagen:20230606T210000
DTSTAMP:20260421T120259
CREATED:20230506T081157Z
LAST-MODIFIED:20230508T173726Z
UID:11579-1686078000-1686085200@efterladte.dk
SUMMARY:Caféaften - Esbjerg
DESCRIPTION:Landsforeningen for efterladte efter selvmord inviterer til caféaften \nDet har vist sit at være interesse for lokalt arbejde i Esbjerg\, derfor har Mona og Jannie besluttet at tilbyde caféaften tirsdag d. 6. juni\, kl. 19.00 – 21.00. \nSted: Frivillighuset Vindrosen. Vi skal være i mødelokale 7\, 2. sal \n  \nAftenens program – Samtale og samvær.  \nLandsforeningen er vært med lidt smørrebrød. \nVi lægger op til et par timers samvær og samtale med andre efterladte efter selvmord. \nHer er det OK at tale om sorgen\, savnet og de svære følelser.\nDet der tales om\, er i fortrolighed mellem deltagerne. \nDer serveres kaffe/te. \nVi aftaler hvornår vi skal mødes næste gang. \nNB! – Tilmelding senest d. 1. juni kl. 18.00 via link: https://efterladte.nemtilmeld.dk/239/ \nAlle er velkomne! \n\nTil café- og temaaftener møder du andre efterladte efter selvmord.\nDu får mulighed for at tale og dele erfaringer med andre i en lignende situation som dig. –  I fortrolighed mellem deltagerne\, naturligvis.\nDu får mulighed for et varmt\, uformelt samvær i et fællesskab\, hvor selvmord ikke er tabu.\nDu er altid velkommen til at tage en ven med\, hvis du har behov for det.\n\nVel mødt og venlig hilsen \nMona Dastrup\, mobil: 4031 2456\, mail: mndastrup@gmail.com \nJannie Pedersen\, mobil: 6054 0090\, mail: jannieoister@gmail.com
URL:https://efterladte.dk/aktivitet/cafeaften-esbjerg/
LOCATION:Frivillighuset Vindrosen – Esbjerg\, Exnersgade 4\, Esbjerg\, 6700
CATEGORIES:Cafémøde,Landsforeningen
ATTACH;FMTTYPE=image/jpeg:https://efterladte.dk/wp-content/uploads/2023/05/Esbjerg-e1683360664467.jpg
ORGANIZER;CN="Landsforeningen - Mona / Jytte / Maria":MAILTO:mndastrup@gmail.com / jyttemathilde@gmail.com / vogt1977@gmail.com
END:VEVENT
BEGIN:VEVENT
DTSTART;TZID=Europe/Copenhagen:20230608T190000
DTEND;TZID=Europe/Copenhagen:20230608T210000
DTSTAMP:20260421T120259
CREATED:20230317T141753Z
LAST-MODIFIED:20230317T142737Z
UID:11263-1686250800-1686258000@efterladte.dk
SUMMARY:Caféaften: En aften i ordenes tegn - Viborg
DESCRIPTION:Landsforeningen for efterladte efter selvmord inviterer til caféaften i Viborg \nSted: De Frivilliges Hus i Viborg\, Ll. Sankt Hans Gade 7\, 8800 Viborg \n  \nAftenens tema: En aften i ordenes tegn. \nOrd der minder os om vores elskede eller har hjulpet os efterfølgende i vores sorg. \nHvis du har lyst\, så medbring gerne citater\, digte eller artikler du har læst. \nDu er ikke alene. Til cafeaftener møder du andre efterladte. Vi er mange\, der har oplevet det kaos som selvmord udløser. \nDen ekspertise vi har\, er at vi selv er efterladte efter selvmord. \nDer serveres kaffe/the. \nNB! – Tilmelding senest d. 5. juni kl. 18.00 via link: https://efterladte.nemtilmeld.dk/227/ \nAlle er velkomne! \n\nTil café- og temaaftener møder du andre efterladte.\nDu får mulighed for at tale og dele erfaringer med andre i en lignende situation som dig. –  I fortrolighed mellem deltagerne\, naturligvis.\nDu får mulighed for et varmt\, uformelt samvær i et fællesskab\, hvor selvmord ikke er tabu.\nDu er altid velkommen til at tage en ven med\, hvis du har behov for det.\n\n  \nVel mødt og venlig hilsen \nMinna Vejen Østergaard \nMobil: 2467 7871\, Mail: mida9@outlook.dk
URL:https://efterladte.dk/aktivitet/cafeaften-en-aften-i-ordenes-tegn-viborg/
LOCATION:De Frivilliges Hus Viborg\, Ll. Sankt Hans Gade 7\, Viborg\, 8800\, Danmark
CATEGORIES:Cafémøde,Landsforeningen
ATTACH;FMTTYPE=image/jpeg:https://efterladte.dk/wp-content/uploads/2021/06/Viborg_by-e1622817675722.jpg
ORGANIZER;CN="Caf%C3%A9gruppe Viborg - Minna":MAILTO:mida9@outlook.dk
END:VEVENT
BEGIN:VEVENT
DTSTART;TZID=Europe/Copenhagen:20230608T190000
DTEND;TZID=Europe/Copenhagen:20230608T210000
DTSTAMP:20260421T120259
CREATED:20230317T144852Z
LAST-MODIFIED:20230317T145522Z
UID:11268-1686250800-1686258000@efterladte.dk
SUMMARY:Caféaften med tema - Aalborg
DESCRIPTION:Lokalkreds Nordjylland inviterer til caféaften med tema – Samtale og samvær \nSted: De Frivilliges Hus\, Hadsundvej 35\, 9000 Aalborg. Vi skal være i mødelokale 8 på 1. sal (der er elevator) \n  \nAftenens program:  \nSamtale og samvær – Aftenens tema: “At lære at leve med smerten”. \nDer er mulighed for at låne bøger fra vores bibliotek\, se bogliste http://efterladte.dk/litteratur/. Samlingen er efterhånden så stor\, at det er umuligt at have alle med. Er der en bestemt bog du gerne vil låne\, så send en mail til: nordjylland@efterladte.dk \nDer serveres kaffe/te og kage. \nAlle er velkomne! \nNB! Tilmelding senest 6. juni kl. 18.00 via link: https://efterladte.nemtilmeld.dk/228/ \n\nTil vore arrangementer møder du andre efterladte.\nDu får mulighed for at tale og dele erfaringer med andre i en lignende situation som dig. –  I fortrolighed mellem deltagerne\, naturligvis.\nDu får mulighed for et varmt\, uformelt samvær i et fællesskab\, hvor selvmord ikke er tabu.\nDu er altid velkommen til at tage en ven med\, hvis du har behov for det.\n\n  \nVel mødt og venlig hilsen \nBestyrelsen – Lokalkreds Nordjylland \nLars Agertoft Iversen\, Mogens Aarup\, Aase Worm\, Ejnar Bæk og \nEllen Bæk\, Sekretær / kontaktperson\, nordjylland@efterladte.dk \nMobil: 2423 4475
URL:https://efterladte.dk/aktivitet/cafeaften-med-tema-aalborg-3/
LOCATION:De Frivilliges Hus Aalborg\, Hadsundvej 35\, Aalborg\, 9000
CATEGORIES:Cafémøde,Lokalkreds Nordjylland
ATTACH;FMTTYPE=image/jpeg:https://efterladte.dk/wp-content/uploads/2016/12/aalborg-vandside.jpg
ORGANIZER;CN="Lokalkreds Nordjylland":MAILTO:nordjylland@efterladte.dk
END:VEVENT
BEGIN:VEVENT
DTSTART;TZID=Europe/Copenhagen:20230608T190000
DTEND;TZID=Europe/Copenhagen:20230608T210000
DTSTAMP:20260421T120259
CREATED:20230331T072741Z
LAST-MODIFIED:20230604T183724Z
UID:11369-1686250800-1686258000@efterladte.dk
SUMMARY:Foredragsaften: At leve med sorgen - Frederiksberg
DESCRIPTION:Landsforeningen for efterladte efter selvmord inviterer til foredragsaften med temaet: At leve med sorgen –  Oplæg v. psykoterapeut Line Bundgård-Poulsen \nSted: Bülowsvejhallen\, Bülowsvej 34\, 1870 Frederiksbeg. Vi skal være i mødelokalet på 1. sal (der er elevator) \nAftenens tema: At leve med sorgen \nAftenens program: \n\nNår vi mister en\, der står hjertet nært\, mister vi også… \nLidt om 2-sporsmodellen og lidt om senfølger som efterladt.\nHvordan lever man med sorgen efter et selvmord.\nKunsten at bede om hjælp\nMed berøringsangsten som modstander. \nKærlighed har mange ansigter.\n\nSpørgsmål fra deltagerne til mig. \n  \nKort om aftenens oplægsholder: \nLine Bundgård-Poulsen er 56 år. Mor til 2 døtre på 25 og 26. Selvstændig familie- og psykoterapeut\, gruppeleder hos Børnecancer Fonden og Foreningen Cancerramte Børn\, underviser Psykoterapeutisk Institut i ”Tab\, sorg og adskillelse”\, børnebogsforfatter og supervisor.  \nLink: https://www.kriseogsorg.dk/ \n  \nDialog om aftenens oplæg \nDer serveres kaffe/the med lidt sødt til. \nArrangementet er gratis. Der plads til 25 deltagere. \nNB – Tilmeldingsfristen er forlænget til 6. juni kl. 18.00 via NemTilmeld: https://efterladte.nemtilmeld.dk/236/ \nAlle er velkomne! \n\nTil vore arrangementer møder du andre efterladte.\nDu får mulighed for at tale og dele erfaringer med andre i en lignende situation som dig.  –  I fortrolighed mellem deltagerne\, naturligvis.\nDu får mulighed for et varmt\, uformelt samvær i et forum\, hvor selvmord ikke er tabu.\nDu er altid velkommen til at tage en ven med\, hvis du har behov for det.\n\n  \nVel mødt og venlig hilsen \nPå vegne af efterladte.dk \nMorten Slyngborg\, Mobil: 5283 8100 \nMail: mortenslyngborg62@gmail.com
URL:https://efterladte.dk/aktivitet/foredragsaften-at-leve-sorgen-frederiksberg/
LOCATION:Bülowsvejhallen\, Bülowvej 34\, Frederiksberg C\, 1870
CATEGORIES:Foredrag,Landsforeningen
ORGANIZER;CN="Landsforeningen - Morten Slyngborg":MAILTO:mortenslyngborg62@gmail.com
END:VEVENT
BEGIN:VEVENT
DTSTART;TZID=Europe/Copenhagen:20230610T093000
DTEND;TZID=Europe/Copenhagen:20230611T140000
DTSTAMP:20260421T120259
CREATED:20230208T153503Z
LAST-MODIFIED:20250518T185137Z
UID:11024-1686389400-1686492000@efterladte.dk
SUMMARY:Selvhjælpsseminar 2023 - Vejle - UDSOLGT
DESCRIPTION:Selvhjælpsseminaret er udsolgt. Der er mulighed for at blive skrevet på venteliste i tilfælde af afbud\, send mail til: info@efterladte.dk\n  \nLandsforeningen for efterladte efter selvmord inviterer til selvhjælpsseminar. \nMed en blanding af undervisning\, samtale\, personlig refleksion og gruppearbejde er selvhjælpsseminaret et tilbud til efterladte\, som ønsker hjælp og støtte efter et tab ved selvmord\, uanset hvornår tabet er sket og uanset\, om man tidligere har fået hjælp. \nSeminarets undervisere er Louise Møller Schmidt og Hanne Svensmark\, som også leder seminaret. \n  \n  \nLouise er psykolog og har gennem sit daglige arbejde mange års erfaring med mennesker\, som er ramt af sorg\, krise og traumer. Louise har endvidere i samarbejde med Efterladte afholdt weekendseminar for unge efterladte gennem de sidste 9 år. \nOverskriften for Louises oplæg er ”Hvem er jeg i dag?” Deltagerne vil med dette for øje blive præsenteret for klassisk sorgteori med fokus på nogle af de ting\, der er vigtige\, for at man bliver i stand til (på en sund måde) at leve videre som efterladt – herunder at genfinde mening med livet og blive i stand til at bevæge sig hen imod egne værdiger\, ønsker og drømme. Louise vil fortælle om vores følelsessystemer og om\, hvordan disse påvirkes\, når vi rammes af sorg ved selvmord med alle de følelser\, der også følger med – vrede\, angst\, skyld\, skam\, magtesløshed m.m. Der vil undervejs være små øvelser\, som giver plads til personlig refleksion både individuelt og i gruppe med øvrige deltagere. \n  \n  \nHanne er præst og uddannet psyko- og kunsterapeut. Hun er sognepræst i Dronninglund\, og har tidligere arbejdet i socialpsykiatrien og som selvstændig psykoterapeut. \nHanne har arbejdet i mange år med sorg og har et langvarigt samarbejde med Efterladte. Hun er selv efterladt efter selvmord og har på den måde både erfaring som pårørende og professionel. \nHannes oplæg handler om vores selvforståelse og hvordan den forandrer sig igennem sorgen – og viser frem imod hvordan vi kan være i relationerne til vores omgivelser og lære dem\, hvad vi har brug for. \n  \nProgrammet er vejledende\, da begge undervisere vil tage højde for\, hvordan dagene udvikler sig og hvad der er vigtigst for deltagerne. \n  \nProgram – Lørdag: \n09.30             Ankomst – formiddagsbuffet med diverse brød og tilbehør \n10.00              Intro v. Ellen Bæk\, formand for Landsforeningen \n10.15              Velkomst\, præsentation af alle\, temaet slås an\, v. Hanne Svensmark \n10.30              Sorg og identitet. \nHvad betyder det for vores selvforståelse\, at vi er sørgende? v. Hanne Svensmark \n12.30              Frokost med 1 øl eller vand \n13.30              Hvem er jeg i dag? v. Louise Møller Schmidt \n15.00              Kaffe/te med udvalg af kage og frugt \n15.30              Hvem er jeg i dag? v. Louise Møller Schmidt \n18.30              Pause \n19.00              Middag – 2 retter fastsat af køkkenet \nAften frit samvær \n  \nProgram – Søndag: \nFra 7.00         Morgenbuffet \n09.00             Hjælpekasse. Hvor henter jeg ro og kræfter? v. Louise Møller Schmidt \n10.15              Pause med kaffe/te og frugt \n10.30              Om at huske den vi savner\, v. Hanne Svensmark \n11.30              Afrunding og hvad nu v. Louise Møller Schmidt og Hanne Svensmark \n12.00              Evaluering – samt lidt om Landsforeningen v. Ellen Bæk \n13.00              Frokost – Farvel og tak for denne gang. \n  \nTilmelding: mail til info@efterladte.dk senest 14. maj 2023.  \nVi skal bruge navn\, mail\, postadresse og telefonnummer. Der er plads til max. 21 deltagere. \nI forbindelse med workshoppen deler Hanne og Louise deltagerne i grupper efter relationer\, derfor vil vi gerne have oplyst\, hvem du har mistet og hvornår det er sket. \nHar du særlige ønsker til kost – vegetar eller andet – så gør opmærksom på det ved tilmelding. \nSom udgangspunkt gives enkeltværelse\, men ønsker du at bo sammen med en anden deltager angives dette også ved tilmelding. \nVi kan få værelserne fra kl. 14.00 om lørdagen\, og om søndagen skal check ud ske inden kl. 9.00. \n  \nDeltagerprisen er 950 kr. for medlemmer og 1.350 kr. for ikke-medlemmer. Transport og drikkevarer er for egen regning. \nBeløbet indbetales på Reg.nr. 1551 kontonr. 4364059612 eller MobilePay 77809 \nNærmere oplysninger kan fås ved formand Ellen Bæk\, mobil 2423 4475 \n  \nVenlig hilsen \nLandsbestyrelsen
URL:https://efterladte.dk/aktivitet/selvhjaelpsseminar-2023-vejle/
LOCATION:Vejle Center Hotel\, Willy Sørensens Plads 3\, Vejle\, DK 7100
CATEGORIES:Landsforeningen,Seminar
ATTACH;FMTTYPE=image/webp:https://efterladte.dk/wp-content/uploads/2023/02/Vejle_Center_Hotel-e1675870983171.webp
ORGANIZER;CN="Landsforeningen":MAILTO:info@efterladte.dk
END:VEVENT
BEGIN:VEVENT
DTSTART;TZID=Europe/Copenhagen:20230613T170000
DTEND;TZID=Europe/Copenhagen:20230613T190000
DTSTAMP:20260421T120259
CREATED:20221022T134207Z
LAST-MODIFIED:20221022T134859Z
UID:10278-1686675600-1686682800@efterladte.dk
SUMMARY:Walk & Talk - Frederiksberg Have
DESCRIPTION:Har du lyst til at gå en tur sammen med andre som har mistet ved selvmord\, og tale om livet som efterladt efter selvmord? \nSå venter Ingeborg\, Morten og Senia ved hovedindgangen til Frederiksberg Have\, kl. 17.00\, tirsdag d. 13. juni. \nGåturen sammen giver god mulighed for et varmt\, uformelt samvær i et fællesskab\, hvor selvmord ikke er tabu. \nVi forventer at gå i 1 ½ – 2 timer\, og vi går også tur selvom det regner og blæser. \nVi vil gerne have tilmelding til arrangementet senest mandag d. 12. juni kl. 18.00 via link: https://efterladte.nemtilmeld.dk/182/ \nVi  skal aftale\, om aktiviteten skal fortsætte efter sommerferien. \nAlle er velkomne! \nDu må gerne tage en ven med\, hvis du har behov for det. \nDet der tales om er i fortrolighed mellem deltagerne. \nWalk & Talk er et tilbud fra Landsforeningen for efterladte efter selvmord: www.efterladte.dk \n  \nNærmere oplysninger om Walk & Talk fås hos: \nIngeborg Fangel Mo\, Mobil: 5391 2445 \nMail: ingebomo@gmail.com \n 
URL:https://efterladte.dk/aktivitet/walk-talk-frederiksberg-have-14/
LOCATION:Frederiksberg Have – Hovedindgang\, Frederiksberg Runddel 3D\, Frederiksberg\, 2000
CATEGORIES:Landsforeningen,Walk & Talk
ATTACH;FMTTYPE=image/jpeg:https://efterladte.dk/wp-content/uploads/2020/10/nature-2912359_640-e1606550994953.jpg
ORGANIZER;CN="Landsforeningen - Ingeborg":MAILTO:ingebomo@gmail.com
END:VEVENT
BEGIN:VEVENT
DTSTART;TZID=Europe/Copenhagen:20230613T190000
DTEND;TZID=Europe/Copenhagen:20230613T210000
DTSTAMP:20260421T120259
CREATED:20230313T174946Z
LAST-MODIFIED:20230314T104857Z
UID:11173-1686682800-1686690000@efterladte.dk
SUMMARY:Caféaften med tema - Aarhus
DESCRIPTION:Lokalkreds Midtjylland – Aarhus inviterer til caféaften med tema \nMødested: Frivilligcenter Aarhus\, Sønder Allé 33\, 8000 Aarhus C. Vi skal være i Konferencesalen. \n  \nAftenens tema: En snak om hvordan sorgen har forandret vores tilværelse. \nVi lægger op til et par timers samvær og samtale med andre efterladte efter selvmord. \nHer er det OK at tale om sorgen\, savnet og de svære følelser.\nDet der tales om\, er i fortrolighed mellem deltagerne. \nDer serveres kaffe/the. \nNB! – Tilmelding senest søndag 11. juni kl. 18.00 via link: https://efterladte.nemtilmeld.dk/225/ \nAlle er velkomne! \n\nTil vore arrangementer møder du andre efterladte.\nDu får mulighed for at tale og dele erfaringer med andre i en lignende situation som dig. – I fortrolighed mellem deltagerne\, naturligvis.\nDu får mulighed for et varmt\, uformelt samvær i et fællesskab\, hvor selvmord ikke er tabu.\n\n  \nVel mødt og venlig hilsen \nBestyrelsen – Lokalkreds Midtjylland \nSara Lorentsen\, mobil 4043 9699 – for evt. spørgsmål om arrangementet \nMorten Holler\, Pia Højsager\, Preben Bøgelund\, Susanne Bertram Sørensen\, Karina Mortensen og Arne Jensen \n 
URL:https://efterladte.dk/aktivitet/cafeaften-med-tema-aarhus/
LOCATION:Frivilligcenter Aarhus\, Sønder Allé 33\, Aarhus\, 8000
CATEGORIES:Cafémøde,Lokalkreds Aarhus
ATTACH;FMTTYPE=image/jpeg:https://efterladte.dk/wp-content/uploads/2017/06/aarhus-Aros-e1499094266639.jpg
ORGANIZER;CN="Lokalkreds Aarhus - Preben":MAILTO:aarhus@efterladte.dk
END:VEVENT
BEGIN:VEVENT
DTSTART;TZID=Europe/Copenhagen:20230618T100000
DTEND;TZID=Europe/Copenhagen:20230618T120000
DTSTAMP:20260421T120259
CREATED:20230314T164023Z
LAST-MODIFIED:20230314T164130Z
UID:11208-1687082400-1687089600@efterladte.dk
SUMMARY:Walk & Talk "Ringe sø rundt" - Ringe
DESCRIPTION:Har du lyst til at gå en tur sammen med andre som har mistet ved selvmord\, og få mulighed for at tale om livet som efterladt efter selvmord? \nSå venter Johanne  kl. 10.00\, ved Ringe Menighedshus\, Søvej 31\, 5750 Ringe \nVi forventer at turen slutter ca. kl. 12.00. Hvis der er stemning for det\, kan turen afsluttes over en kop kaffe eller andet for egen regning på en af byens cafeer. \nDette er sidste tur inden sommerferien – God sommer! \nVi går tur uanset hvordan vejret er! \nAlle er velkomne! \nDet der bliver talt om er i fortrolighed mellem deltagerne. \nWalk & Talk er et tilbud fra Lokalkreds Fyn\, Landsforeningen for efterladte efter selvmord. www.efterladte.dk \n  \nNærmere oplysninger om Walk & Talk fås hos: \nJohn Jespersen\, tlf.: 25 21 91 09\, mail: John-vita@kalnet.dk
URL:https://efterladte.dk/aktivitet/walk-talk-ringe-soe-rundt-ringe/
LOCATION:Menighedshuset i Ringe\, Søvej 31\, Ringe\, 5750
CATEGORIES:Lokalkreds Fyn,Walk & Talk
ATTACH;FMTTYPE=image/jpeg:https://efterladte.dk/wp-content/uploads/2017/01/Ringe_i_træ-e1760042258686.jpg
ORGANIZER;CN="Lokalkreds Fyn - John":MAILTO:john-vita@kalnet.dk
END:VEVENT
BEGIN:VEVENT
DTSTART;TZID=Europe/Copenhagen:20230620T180000
DTEND;TZID=Europe/Copenhagen:20230620T210000
DTSTAMP:20260421T120259
CREATED:20230407T075409Z
LAST-MODIFIED:20230407T080054Z
UID:11427-1687284000-1687294800@efterladte.dk
SUMMARY:Caféaften med samtale - Holstebro
DESCRIPTION:Cafégruppen i Holstebro inviterer til caféaften med samtale \nSted: Kultur- og Frivillighuset\, Nygade 22\, 7500 Holstebro \n  \nAftenens program: Samtale og erfaringsudveksling. \nVi lægger op til et par timers samvær og samtale med andre efterladte efter selvmord. \nHer er det OK at tale om sorgen\, savnet og de svære følelser.\nDet der tales om er i fortrolighed mellem deltagerne. \nDer serveres kaffe/the med kage og frugt. \nNB! – Tilmelding senest søndag l8. juni kl. 18.00 via NemTilmeld: https://efterladte.nemtilmeld.dk/238/ \nAlle er velkomne! \n\nTil vore arrangementer møder du andre efterladte.\nDu får mulighed for at tale og dele erfaringer med andre i en lignende situation som dig. – I fortrolighed mellem deltagerne\, naturligvis.\nDu får mulighed for et varmt\, uformelt samvær i et fællesskab\, hvor selvmord ikke er tabu.\nDu er altid velkommen til at tage en ven med\, hvis du har behov for det.\n\nKontaktperson for cafégruppen i Holstebro: \nHanne Tang\, Tlf. 2240 8784 eller hanne@tang.dk
URL:https://efterladte.dk/aktivitet/cafeaften-med-samtale-holstebro-3/
LOCATION:Kultur- og Frivillighuset Holstebro\, Nygade 22\, Holstebro\, 7500
CATEGORIES:Cafégruppen i Holstebro,Cafémøde
ATTACH;FMTTYPE=image/jpeg:https://efterladte.dk/wp-content/uploads/2017/06/Holstebro_2-e1496586730175.jpg
ORGANIZER;CN="Holstebro - Tina / Hanne":MAILTO:hanne@tang.dk
END:VEVENT
BEGIN:VEVENT
DTSTART;TZID=Europe/Copenhagen:20230621T190000
DTEND;TZID=Europe/Copenhagen:20230621T210000
DTSTAMP:20260421T120259
CREATED:20230409T055107Z
LAST-MODIFIED:20230619T135321Z
UID:11438-1687374000-1687381200@efterladte.dk
SUMMARY:Walk & Talk i Kronborg Plantage - Thisted - AFLYST!
DESCRIPTION:Vi må desværre aflyse Walk & Talk på onsdag – Vi går igen d. 19. juli kl. 19.00. \n\nHar du lyst til at gå en tur sammen med andre efterladte\, hvor vi kan tale og dele erfaringer med hinanden? \nLokalkreds Thy inviterer til Walk & Talk i sommerperioden. \nMødestedet er Kronborg Plantage i det nordlige Thisted. Her er borde og bænke\, overdækket område og handicapvenlige stier. Der vil være mulighed for Walk & Talk eller for at man sætter sig ved et bord og taler sammen. Alt efter\, hvad deltagerne har lyst og kræfter til. \nVi mødes i Kronborg Plantage følgende onsdage kl. 19.00: 21. juni\, 19. juli og 23. august. Vi har kaffe og kage med. \nTilmelding senest tirsdagen før til Anders eller Hanne (se kontaktoplysninger nedenfor) \nKørselsvejledning: Adressen er Kronborgvej 118. Lige før Kronborgvej munder ud i A11 drejes til højre ad grusvej. Efter ca. 500 m kommer man til en P-plads med borde\, bænke og bålplads. Her mødes vi. \n\n Til vore arrangementer møder du andre efterladte.\nDu får mulighed for at tale og dele erfaringer med andre i en lignende situation som dig.\nDu får mulighed for et varmt\, uformelt samvær i et fællesskab\, hvor selvmord ikke er tabu.\nDu er altid velkommen til at tage en ven med\, hvis du har behov for det.\nDeltagere i vore arrangementer betaler 30 kr.\, som delvis dækning af vore udgifter.\n\nKontaktpersoner for Lokalkreds Thy: \nHanne Tang\, tlf. 22 40 87 84 eller hanne@tang.dk \nLisbeth og Anders Hornstrup\, Tlf.: 30 57 04 88
URL:https://efterladte.dk/aktivitet/walk-talk-i-kronborg-plantage-thisted-4/
LOCATION:P-pladsen i Kronborg Plantage\, Kronborgvej 118\, Thisted\, 7700
CATEGORIES:Lokalkreds Thy,Walk & Talk
ATTACH;FMTTYPE=image/jpeg:https://efterladte.dk/wp-content/uploads/2017/04/Skov-e1491923322329.jpg
ORGANIZER;CN="Lokalkreds Thy":MAILTO:hanne@tang.dk
END:VEVENT
BEGIN:VEVENT
DTSTART;TZID=Europe/Copenhagen:20230627T190000
DTEND;TZID=Europe/Copenhagen:20230627T210000
DTSTAMP:20260421T120259
CREATED:20230322T073233Z
LAST-MODIFIED:20230322T075248Z
UID:11294-1687892400-1687899600@efterladte.dk
SUMMARY:Caféaften - København
DESCRIPTION:Landsforeningen for efterladte efter selvmord inviterer til caféaften i København \nAftenens program: Samtale og samvær \nVi lægger op til et par timers samvær og samtale med andre efterladte efter selvmord. \nHer er det OK at tale om sorgen\, savnet og de svære følelser.\nDet der tales om er i fortrolighed mellem deltagerne. \nVi mødes i Johannes på Torvet\, Sankt Hans Torv 30\, 2200 København\, kl. 19.00 – 21.00 \nDer serveres kaffe og te med lidt sødt til. \nNB! – Tilmelding senest 25. juni kl. 18.00  via NemTilmeld: https://efterladte.nemtilmeld.dk/230/ \nDette møde er sidste gang inden sommerferien. \nAlle er velkomne! \n\nTil vore arrangementer møder du andre efterladte.\nDu får mulighed for at tale og dele erfaringer med andre i en lignende situation som dig.  –  I fortrolighed mellem deltagerne\, naturligvis.\nDu får mulighed for et varmt\, uformelt samvær i et forum\, hvor selvmord ikke er tabu.\nDu er altid velkommen til at tage en ven med\, hvis du har behov for det.\n\n  \nVel mødt og venlig hilsen \nPå vegne af efterladte.dk \nMorten Slyngborg\, Mobil: 5283 8100 \nMail: mortenslyngborg62@gmail.com
URL:https://efterladte.dk/aktivitet/cafeaften-koebenhavn-14/
LOCATION:Johannes på Torvet\, Sankt Hans Torv 30\, st.\, København N\, 2200
CATEGORIES:Cafémøde,Landsforeningen
ATTACH;FMTTYPE=image/jpeg:https://efterladte.dk/wp-content/uploads/2020/11/Hjerte_Kbh-e1667548473756.jpg
ORGANIZER;CN="Landsforeningen - Morten Slyngborg":MAILTO:mortenslyngborg62@gmail.com
END:VEVENT
END:VCALENDAR