BEGIN:VCALENDAR
VERSION:2.0
PRODID:-//Efterladte.dk - ECPv6.15.17.1//NONSGML v1.0//EN
CALSCALE:GREGORIAN
METHOD:PUBLISH
X-ORIGINAL-URL:https://efterladte.dk
X-WR-CALDESC:Begivenheder for Efterladte.dk
REFRESH-INTERVAL;VALUE=DURATION:PT1H
X-Robots-Tag:noindex
X-PUBLISHED-TTL:PT1H
BEGIN:VTIMEZONE
TZID:Europe/Copenhagen
BEGIN:DAYLIGHT
TZOFFSETFROM:+0100
TZOFFSETTO:+0200
TZNAME:CEST
DTSTART:20220327T010000
END:DAYLIGHT
BEGIN:STANDARD
TZOFFSETFROM:+0200
TZOFFSETTO:+0100
TZNAME:CET
DTSTART:20221030T010000
END:STANDARD
BEGIN:DAYLIGHT
TZOFFSETFROM:+0100
TZOFFSETTO:+0200
TZNAME:CEST
DTSTART:20230326T010000
END:DAYLIGHT
BEGIN:STANDARD
TZOFFSETFROM:+0200
TZOFFSETTO:+0100
TZNAME:CET
DTSTART:20231029T010000
END:STANDARD
BEGIN:DAYLIGHT
TZOFFSETFROM:+0100
TZOFFSETTO:+0200
TZNAME:CEST
DTSTART:20240331T010000
END:DAYLIGHT
BEGIN:STANDARD
TZOFFSETFROM:+0200
TZOFFSETTO:+0100
TZNAME:CET
DTSTART:20241027T010000
END:STANDARD
END:VTIMEZONE
BEGIN:VEVENT
DTSTART;TZID=Europe/Copenhagen:20230502T190000
DTEND;TZID=Europe/Copenhagen:20230502T210000
DTSTAMP:20260421T101952
CREATED:20221028T150519Z
LAST-MODIFIED:20221029T064244Z
UID:10351-1683054000-1683061200@efterladte.dk
SUMMARY:Foredragsaften: Sorgens ansigter - Odense
DESCRIPTION:Lokalkreds Fyn inviterer til foredragsaften “Sorgens ansigter” v. Dorte Prang\, Silkeborg \nSted: Seniorhus Odense\, Toldbodgade 5\, 5000 Odense. Vi skal være i lokale 1.  \n  \nAftenens program: \nOplæg ved Dorte Prang med overskriften: Sorgens ansigter \nDorte Prang mistede i 2004 sin søn\, Søren\, på 22 år\, som tog sit eget liv. I sit foredrag tager hun udgangspunkt i sin egen oplevelse af at miste\, og fortæller om sorgens mange ansigter\, og hvordan man kan skabe et liv igen\, trods savnet og sorgen. En vej ud af mørket\, hvor der opstår andre farver end bare sort. Lykken får en anden farve på vejen tilbage til livet og kærligheden. I foredraget vil Dorte Prang også beskrive omgivelsernes måde at reagere/ikke reagere på og hvordan man kan støtte op omkring den sørgende. \nLæs mere her: https://dorteprang.dk \nDebat om Dorte Prangs oplæg\, samtale og samvær. \nDer serveres kaffe/the med kage og frugt. \nNB! Tilmelding senest søndag d. 30. april kl. 18.00 via link: https://efterladte.nemtilmeld.dk/187/\, eller direkte til John Jespersen. \nAlle er velkomne! \n\nTil vore arrangementer møder du andre efterladte.\nDu får mulighed for at tale og dele erfaringer med andre i en lignende situation som dig –  I fortrolighed mellem deltagerne\, naturligvis.\nDu får mulighed for et varmt\, uformelt samvær i et fællesskab\, hvor selvmord ikke er tabu.\nDu er altid velkommen til at tage en ven med\, hvis du har behov for det.\n\n  \nVel mødt og venlig hilsen \nBestyrelsen – Lokalkreds Fyn \nJohn Jespersen\, tlf. 2521 9109\, mail: john-vita@kalnet.dk \nGerda Elise Larsen\, Johanne Hess og Anne Hansen \n  \n  \n 
URL:https://efterladte.dk/aktivitet/foredragsaften-sorgens-ansigter-odense/
LOCATION:Seniorhus Odense\, Toldbodgade 5\, Odense\, 5000
CATEGORIES:Foredrag,Lokalkreds Fyn
ATTACH;FMTTYPE=image/jpeg:https://efterladte.dk/wp-content/uploads/2019/11/Odense-e1574000964456.jpg
ORGANIZER;CN="Lokalkreds Fyn - John":MAILTO:john-vita@kalnet.dk
END:VEVENT
BEGIN:VEVENT
DTSTART;TZID=Europe/Copenhagen:20230510T193000
DTEND;TZID=Europe/Copenhagen:20230510T213000
DTSTAMP:20260421T101952
CREATED:20221208T151857Z
LAST-MODIFIED:20221208T151933Z
UID:10774-1683747000-1683754200@efterladte.dk
SUMMARY:Dans med døden med Ingeborg Fangel Mo
DESCRIPTION:Foredrag i Folkekirkens Hus onsdag 10. maj 2023\, kl. 19.30\nSorgen har hun bragt med ind i livet som sanger og teaterleder\nDANS MED DØDEN – en samtalerække med gæster\, der har døden tæt inde på livet.\nVært: Tidl. hospitalspræst Ruth Østergaard Poulsen.\n  \nAt vandre med sorgen. Det har Ingeborg Fangel Mo gjort det meste af sit liv. Hun mister sin far som barn\, sin mor som ung\, og sin mand til selvmord i 2020. Nu står hun alene med fire børn. Der er dage hvor livet synes for tungt at bære\, men en stærk tro og en grundlæggende dyb tillid til livet og dets rige muligheder holder hende oppe. Ikke mindst når hun bruger sorgen som katalysator i arbejdet med børneopera\, hvor hun skaber et rum til alt det svære\, vi bærer med os i livet. \nIngeborg Fangel Mo er uddannet operasangerinde\, og sorgen har hun bragt med ind i livet som sanger og teaterleder\, hvor hun har været med til at skabe flere forestillinger med tabet af en elsket som omdrejningspunkt. \nDenne aften er Ingeborg Fangel Mo er gæst hos forhenværende hospitalspræst Ruth Østergaard Poulsen i samtalesalonen Dans med Døden. Her tager de en snak om de store eksistentielle spørgsmål og erkendelser der opstår\, når tæppet gang på gang trækkes væk under en. Hvordan finder man en ny mening i livet\, når den gamle forsvinder med et knipseslag? \nVærten Ruth Østergaard Poulsen\, har arbejdet som hospitalspræst på Aalborg Universitetshospital i 20 år. Døden er et stort tabu\, ifølge hende. Hun mener\, at “hvis ikke man ser døden i øjnene\, så får man den i hælene”\, og at vi derfor skal tale noget mere om den. \nDer er i alt fire Dans med Døden-aftener i 2023. \n  \nBilletpris 90 kr. + gebyr.  \nLokalkreds Nordjylland har købt et mindre antal billetter\, som kan reserveres ved henvendelse til Ellen Bæk\, tlf. 2423 4475 eller mail: nordjylland@efterladte.dk \nEller de kan købes direkte ved Folkekirken Hus: \nhttps://www.place2book.com/da/sw2/sales/3hnvnm347q
URL:https://efterladte.dk/aktivitet/dans-med-doeden-med-ingeborg-fangel-mo/
LOCATION:Folkekirkens Hus Aalborg\, Gammeltorv 8\, Aalborg\, 9000\, Danmark
CATEGORIES:Foredrag
ATTACH;FMTTYPE=image/jpeg:https://efterladte.dk/wp-content/uploads/2016/12/Folkekirkens_Hus-e1483561727746.jpg
END:VEVENT
BEGIN:VEVENT
DTSTART;TZID=Europe/Copenhagen:20230511T190000
DTEND;TZID=Europe/Copenhagen:20230511T210000
DTSTAMP:20260421T101952
CREATED:20221107T151341Z
LAST-MODIFIED:20230331T070058Z
UID:10564-1683831600-1683838800@efterladte.dk
SUMMARY:Foredragsaften: Glem ikke os pårørende - Aalborg
DESCRIPTION:Lokalkreds Nordjylland inviterer til foredragsaften med Pia Engstrøm \nSted: De Frivilliges Hus\, Hadsundvej  35\, 9000 Aalborg. Vi skal være i mødelokale 8 på 1. sal (der er elevator) \nAftenens tema: Glem ikke os pårørende \nMan siger at tiden læger alle sår. Passer det? Er tiden vores ven? \nEt oplæg om hvad der sker med kommunikationen i familier og blandt venner og kollegaer\, og en betragtning over tidens indflydelse. \nHvordan lever man videre med så stor en smerte\, og kan man egentlig få den hjælp man har brug for. Hvorfor kan kommunikationen være så svær og hvad kan man gøre for at hjælpe den på vej. \n \nOplægsholder: Pia Engstrøm er uddannet psykoterapeut og mentor og har i mange år arbejdet som rådgiver i NEFOS. Oplægget giver mulighed for erfaringsudveksling og spørgsmål. \nLink: Psykoterapeut Pia Engstrøm – Risskov\, Danmark (piaengstroem.dk) \nDialog om aftenens oplæg. \nDer serveres kaffe/the. \nNB! – Tilmelding senest d. 9. maj kl. 18.00 via link: https://efterladte.nemtilmeld.dk/206/ \nAlle er velkomne! \n\nTil café- og temaaftener møder du andre efterladte.\nDu får mulighed for at tale og dele erfaringer med andre i en lignende situation som dig. –  I fortrolighed mellem deltagerne\, naturligvis.\nDu får mulighed for et varmt\, uformelt samvær i et fællesskab\, hvor selvmord ikke er tabu.\nDu er altid velkommen til at tage en ven med\, hvis du har behov for det.\n\n  \nVel mødt og venlig hilsen \nBestyrelsen – Lokalkreds Nordjylland \nLars Agertoft Iversen\, Mogens Aarup\, Aase Worm\, Ejnar Bæk og \nEllen Bæk\, Sekretær / kontaktperson\, nordjylland@efterladte.dk \nMobil: 2423 4475
URL:https://efterladte.dk/aktivitet/foredragsaften-glem-ikke-os-paaroerende-aalborg/
LOCATION:De Frivilliges Hus Aalborg\, Hadsundvej 35\, Aalborg\, 9000
CATEGORIES:Foredrag,Lokalkreds Nordjylland
ATTACH;FMTTYPE=image/jpeg:https://efterladte.dk/wp-content/uploads/2016/12/aalborg-vandside.jpg
ORGANIZER;CN="Lokalkreds Midtjylland":MAILTO:morten@blirup.nu
END:VEVENT
BEGIN:VEVENT
DTSTART;TZID=Europe/Copenhagen:20230513T130000
DTEND;TZID=Europe/Copenhagen:20230513T163000
DTSTAMP:20260421T101952
CREATED:20230217T103745Z
LAST-MODIFIED:20230507T164719Z
UID:11068-1683982800-1683995400@efterladte.dk
SUMMARY:Temalørdag: Før og efter et selvmord og livsbalance med mindfulness - Frederiksberg
DESCRIPTION:Landsforeningen for efterladte efter selvmord inviterer til temalørdag d. 13. maj\, kl. 13.00 – ca. 16.30\, Bülowsvejhallen\, Bülowsvej 34\, 1870 Frederiksberg. Vi skal være i mødelokalet. \n  \nFør og efter et selvmord og livsbalance med mindfulness \nOplæg ved: Mai Bakmand og Kim Oechsle\, Egå \nKim og Mai mistede deres 16-årige søn til selvmord i 2018. Fem år efter har de begge skiftet spor i livet. Det var den samme skelsættende begivenhed\, der førte dem nye retninger. \nKim arbejder som terapeut med metakognitiv terapi\, mindfulness og hypnose. Mai er kommunikationsmedarbejder på et hospital. \nMais oplæg handler om sønnen Martin\, som led af angst og skolevægring. Hun fortæller både om hans liv og tiden efter hans død. \nKims oplæg handler om at bruge mindfulness som et redskab til at finde balance i livet ved at blive mere bevidst om tanker\, følelser og sanser i nuet. \n  \nDer serveres kaffe/te og lidt sødt i løbet af eftermiddagen. \nArrangementet er gratis. Der plads til 25 deltagere. \nTilmeldingsfristen er forlænget til 11. maj 2023\, kl. 18.00 via NemTilmeld: https://efterladte.nemtilmeld.dk/223/ \nAlle er velkomne! \n\nTil vore arrangementer møder du andre efterladte.\nDu får mulighed for at tale og dele erfaringer med andre i en lignende situation som dig. –  I fortrolighed mellem deltagerne\, naturligvis.\nDu får mulighed for et varmt\, uformelt samvær i et fællesskab\, hvor selvmord ikke er tabu.\nDu er altid velkommen til at tage en ven med\, hvis du har behov for det.\n\n  \nFor spørgsmål kontakt: Ellen Bæk\, mobil: 2423 4475\, mail: info@efterladte.dk \n 
URL:https://efterladte.dk/aktivitet/temaloerdag-foer-og-efter-et-selvmord-og-livsbalance-med-mindfulness/
LOCATION:Bülowsvejhallen\, Bülowvej 34\, Frederiksberg C\, 1870
CATEGORIES:Landsforeningen,Temamøde
ATTACH;FMTTYPE=image/jpeg:https://efterladte.dk/wp-content/uploads/2023/02/mindfulness-g43ed77070_640-e1676629916724.jpg
ORGANIZER;CN="Landsforeningen":MAILTO:info@efterladte.dk
END:VEVENT
BEGIN:VEVENT
DTSTART;TZID=Europe/Copenhagen:20230514T140000
DTEND;TZID=Europe/Copenhagen:20230514T160000
DTSTAMP:20260421T101952
CREATED:20230313T163236Z
LAST-MODIFIED:20230405T071759Z
UID:11161-1684072800-1684080000@efterladte.dk
SUMMARY:Walk & Talk i Marselisborg Mindepark - Aarhus
DESCRIPTION:Kunne du tænke dig at gå en tur sammen med andre efterladte efter selvmord\, hvor vi kan tale og dele erfaringer med hinanden? \nLokalkreds Midtjylland – Aarhus inviterer til Walk & Talk i Marselisborg Mindepark. \nVi mødes i Parkens nordlige del ved legepladsen kl. 14.00\, læs evt. mere: Marselisborg-mindepark \nGåturen sammen giver god mulighed for et varmt\, uformelt samvær i et fællesskab\, hvor selvmord ikke er tabu. Vi går tur uanset hvordan vejret er! \nTuren varer ca. halvanden time\, og så runder vi af med en kop kaffe/the. (OBS! Vi tager kaffe/the med – Tag selv en kop med) \nAlle er velkomne! \nDu må gerne tage en ven med\, hvis du har behov for det. \nDet der tales om\, er i fortrolighed mellem deltagerne. \nVi vil gerne have tilmelding til arrangementet senest fredag d. 12. maj kl. 18.00 via link: https://efterladte.nemtilmeld.dk/224/ \n  \nVel mødt og venlig hilsen \nBestyrelsen – Lokalkreds Midtjylland \nSara Lorentsen\, mobil 4043 9699 – for evt. spørgsmål om arrangementet \nMorten Holler\, Pia Højsager\, Preben Bøgelund\, Susanne Bertram Sørensen\, Karina Mortensen og Arne Jensen \n 
URL:https://efterladte.dk/aktivitet/walk-talk-i-marselisborg-mindepark-aarhus/
LOCATION:Marselisborg Mindepark\, Kongevejen 100\, Aarhus C\, 8000
CATEGORIES:Lokalkreds Aarhus,Walk & Talk
ATTACH;FMTTYPE=image/jpeg:https://efterladte.dk/wp-content/uploads/2023/03/Park-e1678809822117.jpg
ORGANIZER;CN="Lokalkreds Aarhus - Preben":MAILTO:aarhus@efterladte.dk
END:VEVENT
BEGIN:VEVENT
DTSTART;TZID=Europe/Copenhagen:20230516T170000
DTEND;TZID=Europe/Copenhagen:20230516T190000
DTSTAMP:20260421T101952
CREATED:20221022T132806Z
LAST-MODIFIED:20221022T133653Z
UID:10273-1684256400-1684263600@efterladte.dk
SUMMARY:Walk & Talk - Frederiksberg Have
DESCRIPTION:Har du lyst til at gå en tur sammen med andre som har mistet ved selvmord\, og tale om livet som efterladt efter selvmord? \nSå venter Ingeborg\, Morten og Senia ved hovedindgangen til Frederiksberg Have\, kl. 17.00\, tirsdag d. 16. maj. \nGåturen sammen giver god mulighed for et varmt\, uformelt samvær i et fællesskab\, hvor selvmord ikke er tabu. \nVi forventer at gå i 1 ½ – 2 timer\, og vi går også tur selvom det regner og blæser. \nVi vil gerne have tilmelding til arrangementet senest mandag d. 15. maj kl. 18.00 via link: https://efterladte.nemtilmeld.dk/181/ \nVi går igen tirsdag kl. 17.00: 13. juni\, her aftaler vi om aktiviteten skal fortsætte efter sommerferien. \nAlle er velkomne! \nDu må gerne tage en ven med\, hvis du har behov for det. \nDet der tales om er i fortrolighed mellem deltagerne. \nWalk & Talk er et tilbud fra Landsforeningen for efterladte efter selvmord: www.efterladte.dk \n  \nNærmere oplysninger om Walk & Talk fås hos: \nIngeborg Fangel Mo\, Mobil: 5391 2445 \nMail: ingebomo@gmail.com \n 
URL:https://efterladte.dk/aktivitet/walk-talk-frederiksberg-have-13/
LOCATION:Frederiksberg Have – Hovedindgang\, Frederiksberg Runddel 3D\, Frederiksberg\, 2000
CATEGORIES:Landsforeningen,Walk & Talk
ATTACH;FMTTYPE=image/jpeg:https://efterladte.dk/wp-content/uploads/2020/10/nature-2912359_640-e1606550994953.jpg
ORGANIZER;CN="Landsforeningen - Ingeborg":MAILTO:ingebomo@gmail.com
END:VEVENT
BEGIN:VEVENT
DTSTART;TZID=Europe/Copenhagen:20230521T130000
DTEND;TZID=Europe/Copenhagen:20230521T150000
DTSTAMP:20260421T101952
CREATED:20230314T163123Z
LAST-MODIFIED:20230314T163410Z
UID:11201-1684674000-1684681200@efterladte.dk
SUMMARY:Walk & Talk "Sundet rundt" - Fåborg
DESCRIPTION:Har du lyst til at gå en tur sammen med andre som har mistet ved selvmord\, og få mulighed for at tale om livet som efterladt efter selvmord? \nSå venter Gerda\, Vita og John\,  kl. 13.00\, ved Fåborg Gymnasiums P-plads\, Sundagervej 42\, 5600 Fåborg \nVi forventer at turen slutter ca. kl. 15.00. Hvis der er stemning for det\, kan turen afsluttes over en kop kaffe eller andet for egen regning på en af byens cafeer. \nVi går igen søndag: 18. juni\, kl. 10.00 i Ringe \nVi går tur uanset hvordan vejret er! \nAlle er velkomne! \nDet der bliver talt om er i fortrolighed mellem deltagerne. \nWalk & Talk er et tilbud fra Lokalkreds Fyn\, Landsforeningen for efterladte efter selvmord. www.efterladte.dk \n  \nNærmere oplysninger om Walk & Talk fås hos: \nJohn Jespersen\, tlf.: 25 21 91 09\, mail: John-vita@kalnet.dk
URL:https://efterladte.dk/aktivitet/walk-talk-sundet-rundt-faaborg/
LOCATION:Fåborg Gymnasiums P-plads\, Sundagervej 42\, Fåborg\, 5600
CATEGORIES:Lokalkreds Fyn,Walk & Talk
ATTACH;FMTTYPE=image/jpeg:https://efterladte.dk/wp-content/uploads/2023/03/Faaborg-kirketaarn-e1678811625649.jpg
ORGANIZER;CN="Lokalkreds Fyn - John":MAILTO:john-vita@kalnet.dk
END:VEVENT
BEGIN:VEVENT
DTSTART;TZID=Europe/Copenhagen:20230523T190000
DTEND;TZID=Europe/Copenhagen:20230523T210000
DTSTAMP:20260421T101952
CREATED:20230407T074057Z
LAST-MODIFIED:20230407T074814Z
UID:11424-1684868400-1684875600@efterladte.dk
SUMMARY:Caféaften med film og samtale - Holstebro
DESCRIPTION:Cafegruppen i Holstebro inviterer til caféaften med film og samtale \nSted: Kultur- og Frivillighuset\, Nygade 22\, 7500 Holstebro \n  \nAftenens program: Vi ser en film\, derefter samtale og erfaringsudveksling. \nVi lægger op til et par timers samvær og samtale med andre efterladte efter selvmord. \nHer er det OK at tale om sorgen\, savnet og de svære følelser.\nDet der tales om er i fortrolighed mellem deltagerne. \nDer serveres kaffe/the med kage og frugt. \nNB! – Tilmelding senest søndag 21. maj kl. 18.00 via NemTilmeld: https://efterladte.nemtilmeld.dk/237/ \nAlle er velkomne! \n\nTil vore arrangementer møder du andre efterladte.\nDu får mulighed for at tale og dele erfaringer med andre i en lignende situation som dig. – I fortrolighed mellem deltagerne\, naturligvis.\nDu får mulighed for et varmt\, uformelt samvær i et fællesskab\, hvor selvmord ikke er tabu.\nDu er altid velkommen til at tage en ven med\, hvis du har behov for det.\n\nKontaktperson for cafégruppen i Holstebro: \nHanne Tang\, Tlf. 2240 8784 eller hanne@tang.dk
URL:https://efterladte.dk/aktivitet/cafeaften-med-film-og-samtale-holstebro/
LOCATION:Kultur- og Frivillighuset Holstebro\, Nygade 22\, Holstebro\, 7500
CATEGORIES:Cafégruppen i Holstebro,Cafémøde
ATTACH;FMTTYPE=image/jpeg:https://efterladte.dk/wp-content/uploads/2017/06/Holstebro_2-e1496586730175.jpg
ORGANIZER;CN="Holstebro - Tina / Hanne":MAILTO:hanne@tang.dk
END:VEVENT
BEGIN:VEVENT
DTSTART;TZID=Europe/Copenhagen:20230524T190000
DTEND;TZID=Europe/Copenhagen:20230524T210000
DTSTAMP:20260421T101952
CREATED:20221111T164118Z
LAST-MODIFIED:20230314T064640Z
UID:10664-1684954800-1684962000@efterladte.dk
SUMMARY:Caféaften med oplæg - Thisted
DESCRIPTION:Lokalkreds Thy inviterer til caféaften med oplæg v. provst Lisbeth Damgren\, Thisted \nSted: Frivillig Thy\, Nytorv 8\, 7700 Thisted \n  \nAftenens program: Oplæg v. provst Lisbeth Damgren \nDebat om aftenens oplæg – Samtale og erfaringsudveksling \nVi lægger op til et par timers samvær og samtale med andre efterladte efter selvmord. \nHer er det OK at tale om sorgen\, savnet og de svære følelser.\nDet der tales om er i fortrolighed mellem deltagerne. \nDer serveres kaffe/the med kage og frugt. Deltagere i vore arrangementer betaler 30 kr.\, som delvis dækning af vore udgifter. \nNB! – Tilmelding senest mandag d. 22. maj kl. 18.00 via link: https://efterladte.nemtilmeld.dk/219/ \nAlle er velkomne! \n\nTil café- og temaaftener møder du andre efterladte.\nDu får mulighed for at tale og dele erfaringer med andre i en lignende situation som dig. –  I fortrolighed mellem deltagerne\, naturligvis.\nDu får mulighed for et varmt\, uformelt samvær i et fællesskab\, hvor selvmord ikke er tabu.\nDu er altid velkommen til at tage en ven med\, hvis du har behov for det.\n\nKontaktpersoner for Lokalkreds Thy: \nHanne Tang\, tlf. 2240 8784 eller hanne@tang.dk \nLisbeth og Anders Hornstrup\, tlf. 3057 0488
URL:https://efterladte.dk/aktivitet/cafeaften-med-oplaeg-thisted-6/
LOCATION:Frivillig Thy\, Nytorv 8\, Thisted\, 7700
CATEGORIES:Foredrag,Lokalkreds Thy
ATTACH;FMTTYPE=image/jpeg:https://efterladte.dk/wp-content/uploads/2017/08/Thy_nationalprak-e1501743996649.jpg
ORGANIZER;CN="Lokalkreds Thy":MAILTO:hanne@tang.dk
END:VEVENT
BEGIN:VEVENT
DTSTART;TZID=Europe/Copenhagen:20230524T190000
DTEND;TZID=Europe/Copenhagen:20230524T210000
DTSTAMP:20260421T101952
CREATED:20230315T121324Z
LAST-MODIFIED:20230317T140115Z
UID:11229-1684954800-1684962000@efterladte.dk
SUMMARY:Caféaften med temaet: Del dine minder - Vejle
DESCRIPTION:Landsforeningen for efterladte efter selvmord inviterer til caféaften med temaet: “Del dine minder” \nSted: Foreningernes Hus Vejle\, Vissingsgade 31\, 7100 Vejle \nVi har planlagt 4 caféaftener med tema i 2023\, de kommer alle til at foregå i Foreningernes Hus Vejle. Til hvert møde inviterer vi en gæst\, det kan være en psykolog\, en præst\, en forfatter\, der vil være med til at sætte ord på det tema\, som vi har valgt for den pågældende aften. Derudover vil vi selv være med til at danne rammen for et par gode timer\, hvor vi får talt om nogle af de emner\, der kan være relevant\, at tale om\, når man er efterladt efter selvmord. \nVi er en lille gruppe bestående af Karin\, Gurli\, Janne og Helle\, vi har alle mistet til selvmord – enten forældre\, kæreste\, mand eller barn. \n2. møde i temarækken er onsdag d. 24. maj\, overskriften for aftenen er: “Del din minder” \nDel dine oplevelser og minder med cafe-gruppen\, det kan være musik\, litteratur eller andet\, du synes\, der har været godt og hjælpsomt for dig i sorgen. Medbring gerne musikken\, digtet\, maleriet eller hvad det nu kan være. Det er frivilligt om du har lyst til at dele\, og vi glæder os til at se dig til en uformel snak om det at være efterladt. \nNB! Tilmelding senest 21. maj kl. 18.00 via link: https://efterladte.nemtilmeld.dk/226/ \n3. møde i temarækker er onsdag 20. september: “Håb” v. præst Lone Vesterdal. 4. møde i temarække er onsdag 22. november: “Højtider” v. psykoterapeut Pia Engstrøm. Mere info om begge møder følger senere. \nTil mødet byder vi på en kop kaffe\, lidt at drikke og der serveres kage. Vi håber\, du møder op til en uformel snak med andre\, der har mistet til selvmord. \nEn af os\, vil stå udenfor og tage imod dig\, så det bliver lidt lettere at finde lokalet. \nPS! vær påpasselig med parkering\, så du ikke får en bøde. \nHvis du vil have gratis parkering kan man parkere\, i Trondur P-hus\, Volmersgade 9\, 7100 Vejle \nAlle er velkomne! \n\nTil vore arrangementer møder du andre efterladte.\nDu får mulighed for at tale og dele erfaringer med andre i en lignende situation som dig. –  I fortrolighed mellem deltagerne\, naturligvis.\nDu får mulighed for et varmt\, uformelt samvær i et fællesskab\, hvor selvmord ikke er tabu.\nDu er altid velkommen til at tage en ven med\, hvis du har behov for det.\n\n  \nFor spørgsmål: Send en SMS\, indtal en besked\, eller send en mail til: \nHelle Damm-Henrichsen\, Mobil: 5224 1018\, mail: stadsvej@gmail.com \nKarin Christiansen\, Mobil: 3045 1045\, christiansenkarin@yahoo.com \n 
URL:https://efterladte.dk/aktivitet/cafeaften-med-temaet-del-dine-minder-vejle/
LOCATION:Foreningernes Hus Vejle\, Vissingsgade 31\, Vejle\, DK 7100
CATEGORIES:Cafémøde,Landsforeningen
ATTACH;FMTTYPE=image/jpeg:https://efterladte.dk/wp-content/uploads/2020/12/Vejle-e1608308152724.jpg
ORGANIZER;CN="Landsforeningen%2C Helle / Karin":MAILTO:stadsvej@gmail.com / christiansenkarin@yahoo.com
END:VEVENT
BEGIN:VEVENT
DTSTART;TZID=Europe/Copenhagen:20230530T190000
DTEND;TZID=Europe/Copenhagen:20230530T210000
DTSTAMP:20260421T101952
CREATED:20230321T153843Z
LAST-MODIFIED:20230321T154656Z
UID:11290-1685473200-1685480400@efterladte.dk
SUMMARY:Caféaften - København
DESCRIPTION:Landsforeningen for efterladte efter selvmord inviterer til caféaften i København \nAftenens program: Samtale og samvær \nVi lægger op til et par timers samvær og samtale med andre efterladte efter selvmord. \nHer er det OK at tale om sorgen\, savnet og de svære følelser.\nDet der tales om er i fortrolighed mellem deltagerne. \nVi mødes i Johannes på Torvet\, Sankt Hans Torv 30\, 2200 København\, kl. 19.00 – 21.00 \nDer serveres kaffe og te med lidt sødt til. \nNB! – Tilmelding senest 28. maj kl. 18.00  via NemTilmeld: https://efterladte.nemtilmeld.dk/229/ \nVi mødes følgende datoer i 2023 kl. 19.00: 27. juni er sidste gang inden sommerferien. \nAlle er velkomne! \n\nTil vore arrangementer møder du andre efterladte.\nDu får mulighed for at tale og dele erfaringer med andre i en lignende situation som dig.  –  I fortrolighed mellem deltagerne\, naturligvis.\nDu får mulighed for et varmt\, uformelt samvær i et forum\, hvor selvmord ikke er tabu.\nDu er altid velkommen til at tage en ven med\, hvis du har behov for det.\n\n  \nVel mødt og venlig hilsen \nPå vegne af efterladte.dk \nMorten Slyngborg\, Mobil: 5283 8100 \nMail: mortenslyngborg62@gmail.com
URL:https://efterladte.dk/aktivitet/cafeaften-koebenhavn-12/
LOCATION:Johannes på Torvet\, Sankt Hans Torv 30\, st.\, København N\, 2200
CATEGORIES:Cafémøde,Landsforeningen
ATTACH;FMTTYPE=image/jpeg:https://efterladte.dk/wp-content/uploads/2020/11/Hjerte_Kbh-e1667548473756.jpg
ORGANIZER;CN="Landsforeningen - Morten Slyngborg":MAILTO:mortenslyngborg62@gmail.com
END:VEVENT
END:VCALENDAR