BEGIN:VCALENDAR
VERSION:2.0
PRODID:-//Efterladte.dk - ECPv6.15.17.1//NONSGML v1.0//EN
CALSCALE:GREGORIAN
METHOD:PUBLISH
X-ORIGINAL-URL:https://efterladte.dk
X-WR-CALDESC:Begivenheder for Efterladte.dk
REFRESH-INTERVAL;VALUE=DURATION:PT1H
X-Robots-Tag:noindex
X-PUBLISHED-TTL:PT1H
BEGIN:VTIMEZONE
TZID:Europe/Copenhagen
BEGIN:DAYLIGHT
TZOFFSETFROM:+0100
TZOFFSETTO:+0200
TZNAME:CEST
DTSTART:20220327T010000
END:DAYLIGHT
BEGIN:STANDARD
TZOFFSETFROM:+0200
TZOFFSETTO:+0100
TZNAME:CET
DTSTART:20221030T010000
END:STANDARD
BEGIN:DAYLIGHT
TZOFFSETFROM:+0100
TZOFFSETTO:+0200
TZNAME:CEST
DTSTART:20230326T010000
END:DAYLIGHT
BEGIN:STANDARD
TZOFFSETFROM:+0200
TZOFFSETTO:+0100
TZNAME:CET
DTSTART:20231029T010000
END:STANDARD
BEGIN:DAYLIGHT
TZOFFSETFROM:+0100
TZOFFSETTO:+0200
TZNAME:CEST
DTSTART:20240331T010000
END:DAYLIGHT
BEGIN:STANDARD
TZOFFSETFROM:+0200
TZOFFSETTO:+0100
TZNAME:CET
DTSTART:20241027T010000
END:STANDARD
END:VTIMEZONE
BEGIN:VEVENT
DTSTART;TZID=Europe/Copenhagen:20230401T130000
DTEND;TZID=Europe/Copenhagen:20230401T163000
DTSTAMP:20260421T120523
CREATED:20221104T120255Z
LAST-MODIFIED:20221104T121422Z
UID:10461-1680354000-1680366600@efterladte.dk
SUMMARY:Temalørdag: Skriveterapi - Odense
DESCRIPTION:Landsforeningen for efterladte efter selvmord tilbyder skriveterapi\, lørdag d. 1. april  kl. 13.00 – ca. 16.30\, Seniorhus Odense\, Toldbodgade 5\, 5000 Odense. Vi skal være i Værkstedet \n  \nAt skrive sin sorg \nHvis du vil se på og undersøge sorgen på en supplerende måde\, er en eftermiddag med skrive terapi en mulighed. \nDer kræves ingen forudsætninger eller træning i at skrive\, så uanset om man allerede bruger skrivningen som kanal for sin sorg eller om man endnu ikke har erfaring med det\, vil man få nye erfaringer med fra dagen. \nDer vil være guidede øvelser med efterfølgende forslag til skrive arbejde\, der vil være inspiration fra billeder og erindringer og der vil være indbyrdes samtale om det skrevne og om den måde det påvirker den enkelte. \nDer vil være vejledning om at fortsætte skrivningen på egen hånd efter kurset. \n  \nKurset ledes af psykoterapeut og traumeterapeut Karin Westh Langgaard\, mangeårig underviser på selvhjælps seminarer for efterladte efter selvmord \n  \n  \nDeltagerpris: 100 kr. for medlemmer og 200 kr. for ikke medlemmer\, inkl. materiale (små bøger og postkort) samt kaffe/te. \nDer er plads 8 deltagere. \nSidste frist for tilmelding er 28. marts 2023 via link: https://efterladte.nemtilmeld.dk/199/ \n\nTil vore arrangementer møder du andre efterladte.\nDu får mulighed for at tale og dele erfaringer med andre i en lignende situation som dig. –  I fortrolighed mellem deltagerne\, naturligvis.\nDu får mulighed for et varmt\, uformelt samvær i et fællesskab\, hvor selvmord ikke er tabu.\n\nFor spørgsmål kontakt: \nEllen Bæk\, mobil: 2423 4475\, mail: info@efterladte.dk
URL:https://efterladte.dk/aktivitet/temaloerdag-skriveterapi-odense/
LOCATION:Seniorhus Odense\, Toldbodgade 5\, Odense\, 5000
CATEGORIES:Landsforeningen,Skriveterapi
ATTACH;FMTTYPE=image/png:https://efterladte.dk/wp-content/uploads/2022/07/Skriveterapi-e1657365665371.png
ORGANIZER;CN="Landsforeningen":MAILTO:info@efterladte.dk
END:VEVENT
BEGIN:VEVENT
DTSTART;TZID=Europe/Copenhagen:20230411T170000
DTEND;TZID=Europe/Copenhagen:20230411T190000
DTSTAMP:20260421T120523
CREATED:20221022T131632Z
LAST-MODIFIED:20221022T132344Z
UID:10270-1681232400-1681239600@efterladte.dk
SUMMARY:Walk & Talk - Frederiksberg Have
DESCRIPTION:Har du lyst til at gå en tur sammen med andre som har mistet ved selvmord\, og tale om livet som efterladt efter selvmord? \nSå venter Ingeborg\, Morten og Senia ved hovedindgangen til Frederiksberg Have\, kl. 17.00\, tirsdag d. 11. april. \nGåturen sammen giver god mulighed for et varmt\, uformelt samvær i et fællesskab\, hvor selvmord ikke er tabu. \nVi forventer at gå i 1 ½ – 2 timer\, og vi går også tur selvom det regner og blæser. \nVi vil gerne have tilmelding til arrangementet senest mandag d. 10. april kl. 18.00 via link: https://efterladte.nemtilmeld.dk/180/ \nVi går følgende tirsdage kl. 17.00: 16. maj og 13. juni. \nAlle er velkomne! \nDu må gerne tage en ven med\, hvis du har behov for det. \nDet der tales om er i fortrolighed mellem deltagerne. \nWalk & Talk er et tilbud fra Landsforeningen for efterladte efter selvmord: www.efterladte.dk \n  \nNærmere oplysninger om Walk & Talk fås hos: \nIngeborg Fangel Mo\, Mobil: 5391 2445 \nMail: ingebomo@gmail.com \n 
URL:https://efterladte.dk/aktivitet/walk-talk-frederiksberg-have-12/
LOCATION:Frederiksberg Have – Hovedindgang\, Frederiksberg Runddel 3D\, Frederiksberg\, 2000
CATEGORIES:Landsforeningen,Walk & Talk
ATTACH;FMTTYPE=image/jpeg:https://efterladte.dk/wp-content/uploads/2020/10/nature-2912359_640-e1606550994953.jpg
ORGANIZER;CN="Landsforeningen - Ingeborg":MAILTO:ingebomo@gmail.com
END:VEVENT
BEGIN:VEVENT
DTSTART;TZID=Europe/Copenhagen:20230413T190000
DTEND;TZID=Europe/Copenhagen:20230413T210000
DTSTAMP:20260421T120523
CREATED:20221106T154726Z
LAST-MODIFIED:20221209T114236Z
UID:10547-1681412400-1681419600@efterladte.dk
SUMMARY:Generalforsamling og caféaften med tema - Aalborg
DESCRIPTION:Lokalkreds Nordjylland inviterer til generalforsamling og caféaften med tema \nSted: De Frivilliges Hus\, Hadsundvej 35\, 9000 Aalborg. Vi skal være i mødelokale 8 på 1. sal (der er elevator) \nProgram for aftenen er:  \nEn dialog om ønsker og forslag til aktiviteter i Lokalkreds Nordjylland. En kort generalforsamling\, dagsordenen er efter vedtægterne. Derefter caféaften med tema: Hvad har hjulpet dig? \nBestyrelsen består af: Lars Agertoft Iversen – Formand\, Mogens Aarup– Kasserer\, Aase Worm\, Ejnar Bæk og Ellen Bæk – Sekretær og kontaktperson. \nLars har beslutte at stoppe i bestyrelsen\, de øvrige er villige til genvalg. Vi vil gerne have nye kræfter med i bestyrelsen.  \nDagsorden for generalforsamlingen er: \n\nValg af dirigent.\nValg af referent.\nValg af to stemmetællere.\nGodkendelse af endelig dagsorden.\nBestyrelsens årsberetning.\nÅrsregnskab til godkendelse.\nValg til bestyrelse og suppleanter.\nValg af revisor og revisorsuppleant.\nIndkomne forslag.\nEventuelt.\n\nEfter generalforsamlingen caféaften med tema: Hvad har hjulpet dig? \n \nVi vil høre lidt fra Anette Wilhjelm Jahns CD:  \nBroder min – en sorgens vandring \nSpor 8: Til dig\, der vil hjælpe en efterladt \nOg tale om aftenens tema: Hvad har hjulpet dig? \nDer serveres kaffe/te og kage. \nAlle er velkomne! \nNB! Tilmelding senest 11. april kl. 18.00 via link: https://efterladte.nemtilmeld.dk/205/ \n\nTil vore arrangementer møder du andre efterladte.\nDu får mulighed for at tale og dele erfaringer med andre i en lignende situation som dig. –  I fortrolighed mellem deltagerne\, naturligvis.\nDu får mulighed for et varmt\, uformelt samvær i et fællesskab\, hvor selvmord ikke er tabu.\nDu er altid velkommen til at tage en ven med\, hvis du har behov for det.\n\n  \nVel mødt og venlig hilsen \nBestyrelsen – Lokalkreds Nordjylland \nLars Agertoft Iversen\, Mogens Aarup\, Aase Worm\, Ejnar Bæk og \nEllen Bæk\, Sekretær / kontaktperson\, nordjylland@efterladte.dk \nMobil: 2423 4475 \n 
URL:https://efterladte.dk/aktivitet/generalforsamling-og-cafeaften-med-tema-aalborg/
LOCATION:De Frivilliges Hus Aalborg\, Hadsundvej 35\, Aalborg\, 9000
CATEGORIES:Cafémøde,Generalforsamling,Lokalkreds Nordjylland
ATTACH;FMTTYPE=image/jpeg:https://efterladte.dk/wp-content/uploads/2016/12/aalborg-vandside.jpg
ORGANIZER;CN="Lokalkreds Nordjylland":MAILTO:nordjylland@efterladte.dk
END:VEVENT
BEGIN:VEVENT
DTSTART;TZID=Europe/Copenhagen:20230416T103000
DTEND;TZID=Europe/Copenhagen:20230416T120000
DTSTAMP:20260421T120523
CREATED:20230115T132555Z
LAST-MODIFIED:20230315T114059Z
UID:10897-1681641000-1681646400@efterladte.dk
SUMMARY:Walk & Talk - Vejle
DESCRIPTION:Har du lyst til at gå en tur sammen med andre som har mistet ved selvmord\, og tale om livet som efterladt efter selvmord? \nHelle\, Karin\, Gurli og Janne har besluttet\, at de gerne vil fortsætte med Walk & Talk i Vejle i 2023. Har du lyst til at gå med\, så er følgende dato aftalt i foråret 2023\, søndag d. 16. april\, kl. 10.30. Vi går igen d. 20. august og d. 22. oktober\, samme tid og sted. \nVi mødes udenfor Vejle Banegård. Der er to udgange\, og vi vil stå ved Reinholdts Plads. Vi vil gå en tur på ca. en time og afslutte med en kop kaffe\, for dem\, der har lyst til det. \nGåturen sammen giver god mulighed for et varmt\, uformelt samvær i et fællesskab\, hvor selvmord ikke er tabu. \nVi går tur uanset hvordan vejret er! \nAlle er velkomne! \nDu må gerne tage en ven med\, hvis du har behov for det. \nDet der tales om er i fortrolighed mellem deltagerne. \nTilmelding er ikke nødvendig. \nWalk & Talk er et tilbud fra Landsforeningen for efterladte efter selvmord: www.efterladte.dk \n  \nFor spørgsmål: Send en SMS\, indtal en besked\, eller send en mail til: \nHelle Damm-Henrichsen\, Mobil: 5224 1018\, mail: stadsvej@gmail.com \nKarin Christiansen\, Mobil: 3045 1045\, christiansenkarin@yahoo.com
URL:https://efterladte.dk/aktivitet/walk-talk-vejle-15/
LOCATION:Vejle Banegård\, Udgang v. Reinholdts Plads\, Vejle\, 7100
CATEGORIES:Landsforeningen,Walk & Talk
ATTACH;FMTTYPE=image/jpeg:https://efterladte.dk/wp-content/uploads/2020/12/Vejle-e1608308152724.jpg
ORGANIZER;CN="Landsforeningen%2C Helle / Karin":MAILTO:stadsvej@gmail.com / christiansenkarin@yahoo.com
END:VEVENT
BEGIN:VEVENT
DTSTART;TZID=Europe/Copenhagen:20230418T190000
DTEND;TZID=Europe/Copenhagen:20230418T210000
DTSTAMP:20260421T120523
CREATED:20221111T150337Z
LAST-MODIFIED:20230413T131539Z
UID:10645-1681844400-1681851600@efterladte.dk
SUMMARY:Caféaften med samtale - Holstebro - AFLYST
DESCRIPTION:Vi må desværre aflyse caféaftenen denne gang\, Hanne Tang er sygemeldt i tiden. \n\nCafegruppen i Holstebro inviterer til caféaften med samtale \nSted: Kultur- og Frivillighuset\, Nygade 22\, 7500 Holstebro \n  \nAftenens program: Samtale og erfaringsudveksling. \nVi lægger op til et par timers samvær og samtale med andre efterladte efter selvmord. \nHer er det OK at tale om sorgen\, savnet og de svære følelser.\nDet der tales om er i fortrolighed mellem deltagerne. \nDer serveres kaffe/the med kage og frugt. \nNB! – Tilmelding senest søndag 16. april kl. 18.00 via link: https://efterladte.nemtilmeld.dk/214/ \nAlle er velkomne! \n\nTil vore arrangementer møder du andre efterladte.\nDu får mulighed for at tale og dele erfaringer med andre i en lignende situation som dig. – I fortrolighed mellem deltagerne\, naturligvis.\nDu får mulighed for et varmt\, uformelt samvær i et fællesskab\, hvor selvmord ikke er tabu.\nDu er altid velkommen til at tage en ven med\, hvis du har behov for det.\n\nKontaktperson for cafégruppen i Holstebro: \nHanne Tang\, Tlf. 2240 8784 eller hanne@tang.dk
URL:https://efterladte.dk/aktivitet/cafeaften-med-samtale-holstebro-2/
LOCATION:Kultur- og Frivillighuset Holstebro\, Nygade 22\, Holstebro\, 7500
CATEGORIES:Cafégruppen i Holstebro,Cafémøde
ATTACH;FMTTYPE=image/jpeg:https://efterladte.dk/wp-content/uploads/2017/06/Holstebro_2-e1496586730175.jpg
ORGANIZER;CN="Holstebro - Tina / Hanne":MAILTO:hanne@tang.dk
END:VEVENT
BEGIN:VEVENT
DTSTART;TZID=Europe/Copenhagen:20230419T190000
DTEND;TZID=Europe/Copenhagen:20230419T210000
DTSTAMP:20260421T120523
CREATED:20221111T162425Z
LAST-MODIFIED:20230417T161139Z
UID:10658-1681930800-1681938000@efterladte.dk
SUMMARY:”Kærlighed\, skyld og skam – de forbundne kar” – Foredrag Thisted
DESCRIPTION:Lokalkreds Thy inviterer til foredragsaften med Liselotte Horneman Kragh \nSted: Frivillig Thy\, Nytorv 8\, 7700 Thisted \n  \nProgram for aftenen: \nVelkomst v. Hanne Tang \nOplæg ved Liselotte Horneman Kragh – ”Kærlighed\, skyld og skam – de forbundne kar”  \nLiselotte Horneman Kragh er uddannet teolog og har været sognepræst i 7 år. Derefter har Liselotte bl.a. arbejdet som foredragsholder og med undervisning og skribentvirksomhed. Liselotte er professionel rådgiver i NEFOS og har sammen med Elene Fleischer skrevet bogen: I selvmordets kølvand.  \nLæs om bogen: https://www.eksistensen.dk/forside/i-selvmordets-kolvand.html \nDrøftelse af aftenens oplæg – Samtale og samvær \nDer serveres kaffe/the med kage og frugt. Deltagere i vore arrangementer betaler 30 kr.\, som delvis dækning af vore udgifter. \nNB! – Tilmelding er forlænget til onsdag d. 19. april kl. 12.00 via link: https://efterladte.nemtilmeld.dk/218/ \nAlle er velkomne! \n\nTil café- og temaaftener møder du andre efterladte.\nDu får mulighed for at tale og dele erfaringer med andre i en lignende situation som dig. –  I fortrolighed mellem deltagerne\, naturligvis.\nDu får mulighed for et varmt\, uformelt samvær i et fællesskab\, hvor selvmord ikke er tabu.\nDu er altid velkommen til at tage en ven med\, hvis du har behov for det.\n\nKontaktpersoner for Lokalkreds Thy: \nHanne Tang\, tlf. 22 40 87 84 eller hanne@tang.dk \nLisbeth og Anders Hornstrup\, tlf. 30 57 04 88
URL:https://efterladte.dk/aktivitet/kaerlighed-skyld-og-skam-de-forbundne-kar-foredrag-thisted/
LOCATION:Frivillig Thy\, Nytorv 8\, Thisted\, 7700
CATEGORIES:Foredrag,Lokalkreds Thy
ATTACH;FMTTYPE=image/jpeg:https://efterladte.dk/wp-content/uploads/2021/07/Hjerter-e1625572839120.jpg
ORGANIZER;CN="Lokalkreds Thy":MAILTO:hanne@tang.dk
END:VEVENT
BEGIN:VEVENT
DTSTART;TZID=Europe/Copenhagen:20230423T100000
DTEND;TZID=Europe/Copenhagen:20230423T120000
DTSTAMP:20260421T120523
CREATED:20221029T145942Z
LAST-MODIFIED:20230314T164817Z
UID:10378-1682244000-1682251200@efterladte.dk
SUMMARY:Walk & Talk - Odense
DESCRIPTION:Har du lyst til at gå en tur sammen med andre som har mistet ved selvmord\, og få mulighed for at tale om livet som efterladt efter selvmord? \nSå venter Vita og John\, kl. 10.00\, ved pergolaen i Eventyrhaven bagved Odense Domkirke. \nVi forventer at turen slutter ca. kl. 12.00. Hvis der er stemning for det\, kan turen afsluttes over en kop kaffe eller andet for egen regning på en af byens cafeer. \nVi går igen søndag: 21. maj – Fåborg og 18. juni – Ringe. \nVi går tur uanset hvordan vejret er! \nAlle er velkomne! \nDet der bliver talt om er i fortrolighed mellem deltagerne. \nWalk & Talk er et tilbud fra Lokalkreds Fyn\, Landsforeningen for efterladte efter selvmord. www.efterladte.dk \n  \nNærmere oplysninger om Walk & Talk fås hos: \nJohn Jespersen\, tlf.: 25 21 91 09\, mail: John-vita@kalnet.dk
URL:https://efterladte.dk/aktivitet/walk-talk-odense-62/
LOCATION:Blomsterpergolaen i Eventyrhaven bag ved Odense Domkirke\, H.C. Andersen Haven\, Odense\, 5000
CATEGORIES:Lokalkreds Fyn,Walk & Talk
ATTACH;FMTTYPE=image/jpeg:https://efterladte.dk/wp-content/uploads/2016/12/Eventyrhaven-1-e1483021559341.jpg
ORGANIZER;CN="Lokalkreds Fyn - John":MAILTO:john-vita@kalnet.dk
END:VEVENT
BEGIN:VEVENT
DTSTART;TZID=Europe/Copenhagen:20230425T190000
DTEND;TZID=Europe/Copenhagen:20230425T210000
DTSTAMP:20260421T120523
CREATED:20221104T083531Z
LAST-MODIFIED:20230314T064811Z
UID:10447-1682449200-1682456400@efterladte.dk
SUMMARY:Caféaften - København
DESCRIPTION:Landsforeningen for efterladte efter selvmord inviterer til caféaften i København \nAftenens program: Samtale og samvær \nVi lægger op til et par timers samvær og samtale med andre efterladte efter selvmord. \nHer er det OK at tale om sorgen\, savnet og de svære følelser.\nDet der tales om er i fortrolighed mellem deltagerne. \nVi mødes i Johannes på Torvet\, Sankt Hans Torv 30\, 2200 København\, kl. 19.00 – 21.00 \nDer serveres kaffe og te med lidt sødt til. \nNB! – Tilmelding senest 23. april kl. 18.00  via NemTilmeld: https://efterladte.nemtilmeld.dk/197/ \nVi mødes følgende datoer i 2023 kl. 19.00: 30. maj og 27. juni. \nAlle er velkomne! \n\nTil vore arrangementer møder du andre efterladte.\nDu får mulighed for at tale og dele erfaringer med andre i en lignende situation som dig.  –  I fortrolighed mellem deltagerne\, naturligvis.\nDu får mulighed for et varmt\, uformelt samvær i et forum\, hvor selvmord ikke er tabu.\nDu er altid velkommen til at tage en ven med\, hvis du har behov for det.\n\n  \nVel mødt og venlig hilsen \nPå vegne af efterladte.dk \nMorten Slyngborg\, Mobil: 5283 8100 \nMail: mortenslyngborg62@gmail.com
URL:https://efterladte.dk/aktivitet/cafeaften-koebenhavn-13/
LOCATION:Johannes på Torvet\, Sankt Hans Torv 30\, st.\, København N\, 2200
CATEGORIES:Cafémøde,Landsforeningen
ATTACH;FMTTYPE=image/jpeg:https://efterladte.dk/wp-content/uploads/2020/11/Hjerte_Kbh-e1667548473756.jpg
ORGANIZER;CN="Landsforeningen - Morten Slyngborg":MAILTO:mortenslyngborg62@gmail.com
END:VEVENT
BEGIN:VEVENT
DTSTART;TZID=Europe/Copenhagen:20230425T190000
DTEND;TZID=Europe/Copenhagen:20230425T213000
DTSTAMP:20260421T120523
CREATED:20230323T154647Z
LAST-MODIFIED:20230403T064948Z
UID:11328-1682449200-1682458200@efterladte.dk
SUMMARY:Vi sørger med hele vores krop og eksistens - Temamøde for pårørende og andre interesserede - Esbjerg
DESCRIPTION:Hvordan lever man med sorgen efter et selvmord? \nLandsforeningen for efterladte efter selvmord vil sætte fokus på de efterladte og på foreningens arbejde. Vi afholder derfor temamøde \nTirsdag d. 25. april 2023\, kl. 19.00 – 21.30 i Frivillighuset Vindrosen\, Exnersgade 4\, 6700 Esbjerg. Vi skal være i lokale 4 på 2. sal \nTilmelding senest 23. april kl. 18.00 via NemTilmeld: https://efterladte.nemtilmeld.dk/232/ \n  \nAftenens program: \nVelkomst – Introduktion til aftenen samt kort præsentation af deltagerne – ved Preben Bøgelund\, medlem af landsbestyrelsen. \nVi sørger med hele vores krop og eksistens – Oplæg v. Mai-Britt Guldin er psykolog\, forfatter\, tidligere professor\, og hun har nu oprettet Center for sorg og eksistens i Aarhus. \nMai-Britt Guldin vil fortælle om sorgen ved selvmord\, og hvordan sorg i mange år blev regnet for en følelsesmæssig reaktion\, som forløb i faser\, og hvor sorgen skulle bearbejdes ud fra en snæver forståelse af sorgens opgaver.  \nForskningen har nu vist\, at sorg kan forstås ud fra en helhedsorienteret tilgang til mennesket. Sorg er også fysisk\, og vi sørger med hele vores krop og nervesystem – ikke kun med følelserne. Sorg er også en helt eksistentiel tilstand\, som vi alle kender til og har erfaring med.  \nHør Mai-Britt fortælle om\, hvordan vi sørger med hele vores krop og eksistens\, og hvordan det kan hjælpe os med at forstå sorg bedre og støtte hinanden mere\, så sorg ikke bliver så ensomt. \nDer serveres kaffe/te – Der er afsat god tid til dialog og erfaringsudveksling\, hvor psykolog Morten Holler\, Aarhus\, vil med baggrund af egne erfaringer som efterladt fortæller om\, hvordan man kan komme videre med sit eget liv på en god måde. \nLandsforeningen for efterladte efter selvmord – Preben Bøgelund fortæller om foreningens formål og tilbud til efterladte efter selvmord. Herunder præsentation af tilbud fra NEFOS og evt. andre tilbud til efterladte. Er der grobund for\, at vi på sigt kan etablere lokalt arbejde i Sydvestjylland? Udfyldelse af spørgeskema. \nAfrunding – Farvel og tak for i aften! \nAlle er velkomne! \n\nTil vore arrangementer møder du andre efterladte.\nDu får mulighed for at tale og dele erfaringer med andre i en lignende situation som dig. –  I fortrolighed mellem deltagerne\, naturligvis.\nDu får mulighed for et varmt\, uformelt samvær i et fællesskab\, hvor selvmord ikke er tabu.\nDet er vores erfaring\, at mange er glade for at have en ven eller et familiemedlem med\, så man kan tale sammen om det bagefter. Hvis du har lyst til det\, er du meget velkommen.\n\nEventuelle spørgsmål til formand Ellen Bæk\, Mobil: 24 23 44 75\, mail: info@efterladte.dk
URL:https://efterladte.dk/aktivitet/vi-soerger-med-hele-vores-krop-og-eksistens-temamoede-for-paaroerende-og-andre-interesserede-esbjerg/
LOCATION:Frivillighuset Vindrosen – Esbjerg\, Exnersgade 4\, Esbjerg\, 6700
CATEGORIES:Landsforeningen,Temamøde
ATTACH;FMTTYPE=image/jpeg:https://efterladte.dk/wp-content/uploads/2023/03/Mai-Britt-Guldin_2023-e1679585862261.jpg
ORGANIZER;CN="Landsforeningen":MAILTO:info@efterladte.dk
END:VEVENT
BEGIN:VEVENT
DTSTART;TZID=Europe/Copenhagen:20230427T190000
DTEND;TZID=Europe/Copenhagen:20230427T210000
DTSTAMP:20260421T120523
CREATED:20221031T162934Z
LAST-MODIFIED:20230307T155451Z
UID:10422-1682622000-1682629200@efterladte.dk
SUMMARY:Foredragsaften: Glem ikke os pårørende - Viborg
DESCRIPTION:Landsforeningen for efterladte efter selvmord inviterer til caféaften med foredrag i Viborg \nSted: De Frivilliges Hus i Viborg\, Ll. Sankt Hans Gade 7\, 8800 Viborg \n  \nAftenens tema: Glem ikke os pårørende \nMan siger at tiden læger alle sår. Passer det? Er tiden vores ven? \nEt oplæg om hvad der sker med kommunikationen i familier og blandt venner og kollegaer\, og en betragtning over tidens indflydelse. \nHvordan lever man videre med så stor en smerte\, og kan man egentlig få den hjælp man har brug for. Hvorfor kan kommunikationen være så svær og hvad kan man gøre for at hjælpe den på vej. \n \nOplægsholder: Pia Engstrøm er uddannet psykoterapeut og mentor og har i mange år arbejdet som rådgiver i NEFOS. Oplægget giver mulighed for erfaringsudveksling og spørgsmål. \nLink: Psykoterapeut Pia Engstrøm – Risskov\, Danmark (piaengstroem.dk) \nDialog om aftenens oplæg. \nDu er ikke alene. Til cafeaftener møder du andre efterladte. Vi er mange\, der har oplevet det kaos som selvmord udløser. \nDen ekspertise vi har\, er at vi selv er efterladte efter selvmord. \nDer serveres kaffe/the. \nNB! – Tilmelding senest d. 24. april kl. 18.00 via link: https://efterladte.nemtilmeld.dk/193/ \nAlle er velkomne! \n\nTil café- og temaaftener møder du andre efterladte.\nDu får mulighed for at tale og dele erfaringer med andre i en lignende situation som dig. –  I fortrolighed mellem deltagerne\, naturligvis.\nDu får mulighed for et varmt\, uformelt samvær i et fællesskab\, hvor selvmord ikke er tabu.\nDu er altid velkommen til at tage en ven med\, hvis du har behov for det.\n\n  \nVel mødt og venlig hilsen \nMinna Vejen Østergaard \nMobil: 2467 7871\, Mail: mida9@outlook.dk
URL:https://efterladte.dk/aktivitet/glem-ikke-os-paaroerende-viborg/
LOCATION:De Frivilliges Hus Viborg\, Ll. Sankt Hans Gade 7\, Viborg\, 8800\, Danmark
CATEGORIES:Foredrag,Landsforeningen
ATTACH;FMTTYPE=image/jpeg:https://efterladte.dk/wp-content/uploads/2021/06/Viborg_by-e1622817675722.jpg
ORGANIZER;CN="Caf%C3%A9gruppe Viborg - Minna":MAILTO:mida9@outlook.dk
END:VEVENT
END:VCALENDAR