BEGIN:VCALENDAR
VERSION:2.0
PRODID:-//Efterladte.dk - ECPv6.15.17.1//NONSGML v1.0//EN
CALSCALE:GREGORIAN
METHOD:PUBLISH
X-ORIGINAL-URL:https://efterladte.dk
X-WR-CALDESC:Begivenheder for Efterladte.dk
REFRESH-INTERVAL;VALUE=DURATION:PT1H
X-Robots-Tag:noindex
X-PUBLISHED-TTL:PT1H
BEGIN:VTIMEZONE
TZID:Europe/Copenhagen
BEGIN:DAYLIGHT
TZOFFSETFROM:+0100
TZOFFSETTO:+0200
TZNAME:CEST
DTSTART:20210328T010000
END:DAYLIGHT
BEGIN:STANDARD
TZOFFSETFROM:+0200
TZOFFSETTO:+0100
TZNAME:CET
DTSTART:20211031T010000
END:STANDARD
BEGIN:DAYLIGHT
TZOFFSETFROM:+0100
TZOFFSETTO:+0200
TZNAME:CEST
DTSTART:20220327T010000
END:DAYLIGHT
BEGIN:STANDARD
TZOFFSETFROM:+0200
TZOFFSETTO:+0100
TZNAME:CET
DTSTART:20221030T010000
END:STANDARD
BEGIN:DAYLIGHT
TZOFFSETFROM:+0100
TZOFFSETTO:+0200
TZNAME:CEST
DTSTART:20230326T010000
END:DAYLIGHT
BEGIN:STANDARD
TZOFFSETFROM:+0200
TZOFFSETTO:+0100
TZNAME:CET
DTSTART:20231029T010000
END:STANDARD
END:VTIMEZONE
BEGIN:VEVENT
DTSTART;TZID=Europe/Copenhagen:20221101T190000
DTEND;TZID=Europe/Copenhagen:20221101T210000
DTSTAMP:20260423T022500
CREATED:20220704T140647Z
LAST-MODIFIED:20220704T141823Z
UID:9601-1667329200-1667336400@efterladte.dk
SUMMARY:Caféaften med tema - København
DESCRIPTION:Landsforeningen for efterladte efter selvmord inviterer til caféaften med tema i København \nAftenens tema: Den jeg savner \nVi lægger op til et par timers samvær og samtale med andre efterladte med udgangspunkt i overskriften og hvad vi ellers kommer omkring. \nHer er det OK at tale om sorgen\, savnet og de svære følelser.\nDet der tales om er i fortrolighed mellem deltagerne. \nSidste caféaften i 2022: 13. december – Den svære juletid. \nVi mødes i Johannes på Torvet\, Sankt Hans Torv 30\, 2200 København\, kl. 19.00 – 21.00 \nDer serveres kaffe og te med lidt sødt til. \nNB! – Tilmelding senest 30. oktober via link: https://efterladte.nemtilmeld.dk/148/ \nAlle er velkomne! \n\nTil vore arrangementer møder du andre efterladte.\nDu får mulighed for at tale og dele erfaringer med andre i en lignende situation som dig.  –  I fortrolighed mellem deltagerne\, naturligvis.\nDu får mulighed for et varmt\, uformelt samvær i et forum\, hvor selvmord ikke er tabu.\nDu er altid velkommen til at tage en ven med\, hvis du har behov for det.\n\nVel mødt og venlig hilsen \nPå vegne af efterladte.dk \nMorten Slyngborg\, Mobil: 5283 8100 \nMail: mortenslyngborg62@gmail.com
URL:https://efterladte.dk/aktivitet/cafeaften-med-tema-koebenhavn-3/
LOCATION:Johannes på Torvet\, Sankt Hans Torv 30\, st.\, København N\, 2200
CATEGORIES:Cafémøde,Landsforeningen
ATTACH;FMTTYPE=image/jpeg:https://efterladte.dk/wp-content/uploads/2020/11/Hjerte_Kbh-e1667548473756.jpg
ORGANIZER;CN="Landsforeningen - Morten Slyngborg":MAILTO:mortenslyngborg62@gmail.com
END:VEVENT
BEGIN:VEVENT
DTSTART;TZID=Europe/Copenhagen:20221103T190000
DTEND;TZID=Europe/Copenhagen:20221103T210000
DTSTAMP:20260423T022500
CREATED:20220326T091746Z
LAST-MODIFIED:20220705T150247Z
UID:9250-1667502000-1667509200@efterladte.dk
SUMMARY:Caféaften med temaet: Glem ikke os pårørende - Vejle
DESCRIPTION:Landsforeningen for efterladte efter selvmord inviterer til caféaften med temaet: Glem ikke os pårørende. \nSted: Foreningernes Hus Vejle\, Vissingsgade 31\, 7100 Vejle \nVi har planlagt 3 caféaftener med tema i 2022\, de kommer alle til at foregå i Foreningernes Hus Vejle. Til hvert møde inviterer vi en gæst\, det kan være en psykolog\, en præst\, en forfatter\, der vil være med til at sætte ord på det tema\, som vi har valgt for den pågældende aften. Derudover vil vi selv være med til at danne rammen for et par gode timer\, hvor vi får talt om nogle af de emner\, der kan være relevant\, at tale om\, når man er efterladt efter selvmord. \nVi er en lille gruppe bestående af Karin\, Gurli\, Janne og Helle\, vi har alle mistet til selvmord – enten forældre\, kæreste\, mand eller barn. \nTemarækken slutter torsdag 3. november\, overskriften for aftenen er: \nGlem ikke os pårørende \nMan siger at tiden læger alle sår. Passer det? Er tiden vores ven? \nEt oplæg om hvad der sker med kommunikationen i familier og blandt venner og kollegaer\, og en betragtning over tidens indflydelse. \nHvordan lever man videre med så stor en smerte\, og kan man egentlig få den hjælp man har brug for. Hvorfor kan kommunikationen være så svær og hvad kan man gøre for at hjælpe den på vej. \n  \nOplægsholder: Pia Engstrøm er uddannet psykoterapeut og mentor og har i mange år arbejdet som rådgiver i NEFOS. Oplægget giver mulighed for erfaringsudveksling og spørgsmål. \nLink: Psykoterapeut Pia Engstrøm – Risskov\, Danmark (piaengstroem.dk) \n  \nNB! Tilmelding senest 31. oktober via link: https://efterladte.nemtilmeld.dk/138/ \nTil mødet byder vi på en kop kaffe\, lidt at drikke og der serveres kage. Vi håber\, du møder op til en uformel snak med andre\, der har mistet til selvmord. \nEn af os\, vil stå udenfor og tage imod dig\, så det bliver lidt lettere at finde lokalet. \nPS! vær påpasselig med parkering\, så du ikke får en bøde. \nHvis du vil have gratis parkering kan man parkere\, i Trondur P-hus\, Volmersgade 9\, 7100 Vejle \nAlle er velkomne! \n\nTil vore arrangementer møder du andre efterladte.\nDu får mulighed for at tale og dele erfaringer med andre i en lignende situation som dig. –  I fortrolighed mellem deltagerne\, naturligvis.\nDu får mulighed for et varmt\, uformelt samvær i et fællesskab\, hvor selvmord ikke er tabu.\nDu er altid velkommen til at tage en ven med\, hvis du har behov for det.\n\n  \nFor spørgsmål: Send en SMS\, indtal en besked\, eller send en mail til: \nHelle Damm-Henrichsen\, Mobil: 5224 1018\, mail: stadsvej@gmail.com \nKarin Christiansen\, Mobil: 3045 1045\, christiansenkarin@yahoo.com
URL:https://efterladte.dk/aktivitet/cafeaften-med-temaet-glem-ikke-os-paaroerende-vejle/
LOCATION:Foreningernes Hus Vejle\, Vissingsgade 31\, Vejle\, DK 7100
CATEGORIES:Cafémøde,Landsforeningen
ATTACH;FMTTYPE=image/jpeg:https://efterladte.dk/wp-content/uploads/2020/12/Vejle-e1608308152724.jpg
ORGANIZER;CN="Landsforeningen - Helle Damm-Henrichsen":MAILTO:stadsvej@gmail.com
END:VEVENT
BEGIN:VEVENT
DTSTART;TZID=Europe/Copenhagen:20221103T190000
DTEND;TZID=Europe/Copenhagen:20221103T210000
DTSTAMP:20260423T022500
CREATED:20220626T141325Z
LAST-MODIFIED:20221105T071833Z
UID:9525-1667502000-1667509200@efterladte.dk
SUMMARY:Foredragsaften: Om at leve med fortidens skygger - Aalborg
DESCRIPTION:Lokalkreds Nordjylland inviterer til foredragsaften med Helle Vincentz – Om at leve med fortidens skygger \nDe Frivilliges Hus\, Hadsundvej 35\, 9000 Aalborg\, vi skal være i Salen på 1. sal (der er elevator). \n  \nOm foredraget: \nOm at leve med fortidens skygger\nHvordan finder man fodfæste i livet\, når tilliden til verden knækker alt for tidligt? Når ens far forlader én på den værst tænkelig måde? Helle Vincentz er kendt for sine krimier\, men i erindringsromanen ‘Jorden under mig’ efterforsker hun sin egen fortid i en barsk fortælling om en opvækst på landet i fattigfirsernes Vestsjælland og farens selvmord\, da Helle var otte år.  \nI bogen rejser hun tilbage i en familiehistorie præget af indre kampe og udlængsel – både hos den højtelskede\, eventyrlystne og alkoholiserede far\, og hos den mor\, der efter et årelangt eventyr i Grønland nu kæmper en sej\, forgæves kamp for at forhindre\, at det vestsjællandske familielandbrug ryger på tvangsauktion.  \nI foredraget fortæller Helle Vincentz om opvæksten i skyggen af farens selvmord\, om de spor\, barndommen trækker ind i voksenlivet\, og om det både hårde og berigende arbejde med at skrive ’Jorden under mig’.  \nDer serveres kaffe/te og kage. \nDrøftelse af aftenens oplæg – Samtale og samvær \nAlle er velkomne! \nNB! Tilmelding senest 1. november via link: https://efterladte.nemtilmeld.dk/144/ \n\nTil vore arrangementer møder du andre efterladte.\nDu får mulighed for at tale og dele erfaringer med andre i en lignende situation som dig. –  I fortrolighed mellem deltagerne\, naturligvis.\nDu får mulighed for et varmt\, uformelt samvær i et fællesskab\, hvor selvmord ikke er tabu.\nDu er altid velkommen til at tage en ven med\, hvis du har behov for det.\n\n  \nVel mødt og venlig hilsen \nBestyrelsen – Lokalkreds Nordjylland \nLars Agertoft Iversen\, Mogens Aarup\, Aase Worm\, Ejnar Bæk og \nEllen Bæk\, Sekretær / kontaktperson\, nordjylland@efterladte.dk \nMobil: 2423 4475
URL:https://efterladte.dk/aktivitet/foredragsaften-om-at-leve-med-fortidens-skygger-aalborg/
LOCATION:De Frivilliges Hus Aalborg\, Hadsundvej 35\, Aalborg\, 9000
CATEGORIES:Foredrag,Lokalkreds Nordjylland
ATTACH;FMTTYPE=image/png:https://efterladte.dk/wp-content/uploads/2022/02/Helle-Vincentz-e1644752275574.png
ORGANIZER;CN="Lokalkreds Nordjylland":MAILTO:nordjylland@efterladte.dk
END:VEVENT
BEGIN:VEVENT
DTSTART;TZID=Europe/Copenhagen:20221107T190000
DTEND;TZID=Europe/Copenhagen:20221107T210000
DTSTAMP:20260423T022500
CREATED:20220705T112234Z
LAST-MODIFIED:20220705T112959Z
UID:9636-1667847600-1667854800@efterladte.dk
SUMMARY:Caféaften - Viborg
DESCRIPTION:Landsforeningen for efterladte efter selvmord inviterer til caféaften \nDet har vist sit at være interesse for lokalt arbejde i Viborg\, derfor har Minna besluttet at forsætte tilbuddet i 2022 om cafémøder i De Frivilliges Hus i Viborg. \nSidste cafémøde i 2022: 5. december 2022 – Julecafé. \nAftenens program – Samtale og samvær.  \nVi lægger op til et par timers samvær og samtale med andre efterladte. \nHer er det OK at tale om sorgen\, savnet og de svære følelser.\nDet der tales om\, er i fortrolighed mellem deltagerne. \nDer serveres kaffe/the. \nNB! – Tilmelding senest d. 5. november via Link: https://efterladte.nemtilmeld.dk/151/ \nAlle er velkomne! \n\nTil café- og temaaftener møder du andre efterladte.\nDu får mulighed for at tale og dele erfaringer med andre i en lignende situation som dig. –  I fortrolighed mellem deltagerne\, naturligvis.\nDu får mulighed for et varmt\, uformelt samvær i et fællesskab\, hvor selvmord ikke er tabu.\nDu er altid velkommen til at tage en ven med\, hvis du har behov for det.\n\nVel mødt og venlig hilsen \nMinna Vejen Østergaard \nMobil: 2467 7871\, Mail: mida9@outlook.dk
URL:https://efterladte.dk/aktivitet/cafeaften-viborg-15/
LOCATION:De Frivilliges Hus Viborg\, Ll. Sankt Hans Gade 7\, Viborg\, 8800\, Danmark
CATEGORIES:Cafémøde,Landsforeningen
ATTACH;FMTTYPE=image/jpeg:https://efterladte.dk/wp-content/uploads/2021/06/Viborg_by-e1622817675722.jpg
ORGANIZER;CN="Caf%C3%A9gruppe Viborg - Minna":MAILTO:mida9@outlook.dk
END:VEVENT
BEGIN:VEVENT
DTSTART;TZID=Europe/Copenhagen:20221113T150000
DTEND;TZID=Europe/Copenhagen:20221113T170000
DTSTAMP:20260423T022500
CREATED:20220705T173206Z
LAST-MODIFIED:20220706T141937Z
UID:9692-1668351600-1668358800@efterladte.dk
SUMMARY:Walk & Talk - Frederiksberg Have
DESCRIPTION:Har du lyst til at gå en tur sammen med andre som har mistet ved selvmord\, og tale om livet som efterladt efter selvmord? \nSå venter Ingeborg\, Morten og Senia ved hovedindgangen til Frederiksberg Have\, kl. 15.00\, søndag d. 13. november. \nGåturen sammen giver god mulighed for et varmt\, uformelt samvær i et fællesskab\, hvor selvmord ikke er tabu. \nVi forventer at gå i 1 ½ – 2 timer\, og vi går også tur selvom det regner og blæser. \nVi vil gerne have tilmelding til arrangementet senest lørdag d. 12. november kl. 18.00 via link: https://efterladte.nemtilmeld.dk/158/ \nDen sidste Walk & Talk vi tilbyder i 2022 er søndag d. 11. december\, kl. 15.00. \nAlle er velkomne! \nDu må gerne tage en ven med\, hvis du har behov for det. \nDet der tales om er i fortrolighed mellem deltagerne. \nWalk & Talk er et tilbud fra Landsforeningen for efterladte efter selvmord: www.efterladte.dk \n  \nNærmere oplysninger om Walk & Talk fås hos: \nIngeborg Fangel Mo\, Mobil: 5391 2445 \nMail: ingebomo@gmail.com
URL:https://efterladte.dk/aktivitet/walk-talk-frederiksberg-have-9/
LOCATION:Frederiksberg Have – Hovedindgang\, Frederiksberg Runddel 3D\, Frederiksberg\, 2000
CATEGORIES:Landsforeningen,Walk & Talk
ATTACH;FMTTYPE=image/jpeg:https://efterladte.dk/wp-content/uploads/2020/10/nature-2912359_640-e1606550994953.jpg
ORGANIZER;CN="Landsforeningen - Ingeborg":MAILTO:ingebomo@gmail.com
END:VEVENT
BEGIN:VEVENT
DTSTART;TZID=Europe/Copenhagen:20221120T100000
DTEND;TZID=Europe/Copenhagen:20221120T120000
DTSTAMP:20260423T022500
CREATED:20220706T175636Z
LAST-MODIFIED:20220713T174711Z
UID:9747-1668938400-1668945600@efterladte.dk
SUMMARY:Walk & Talk - Ringe
DESCRIPTION:Har du lyst til at gå en tur sammen med andre som har mistet ved selvmord\, og få mulighed for at tale om livet som efterladt efter selvmord? \nSå venter Gerda og Johanne\,  kl. 10.00\, ved Menighedshuset\, Søvej 31\, 5750 Ringe \nVi forventer at turen slutter ca. kl. 12.00. Hvis der er stemning for det\, kan turen afsluttes over en kop kaffe eller andet for egen regning på en af byens cafeer. \nVi går tur uanset hvordan vejret er! \nAlle er velkomne! \nDet der bliver talt om er i fortrolighed mellem deltagerne. \nWalk & Talk er et tilbud fra Lokalkreds Fyn\, Landsforeningen for efterladte efter selvmord. www.efterladte.dk \n  \nNærmere oplysninger om Walk & Talk fås hos: \nJohn Jespersen\, tlf.: 25 21 91 09\, mail: John-vita@kalnet.dk
URL:https://efterladte.dk/aktivitet/walk-talk-ringe-3/
LOCATION:Menighedshuset i Ringe\, Søvej 31\, Ringe\, 5750
CATEGORIES:Lokalkreds Fyn,Walk & Talk
ATTACH;FMTTYPE=image/jpeg:https://efterladte.dk/wp-content/uploads/2017/01/Ringe_i_træ-e1760042258686.jpg
ORGANIZER;CN="Lokalkreds Fyn - John":MAILTO:john-vita@kalnet.dk
END:VEVENT
BEGIN:VEVENT
DTSTART;TZID=Europe/Copenhagen:20221123T190000
DTEND;TZID=Europe/Copenhagen:20221123T210000
DTSTAMP:20260423T022500
CREATED:20220709T131022Z
LAST-MODIFIED:20221112T073156Z
UID:9879-1669230000-1669237200@efterladte.dk
SUMMARY:Cafeaften - Thisted
DESCRIPTION:Lokalkreds Thy inviterer til caféaften med deltagelse af psykolog Tove Søgaard. \nAftenens program: Samtale og erfaringsudveksling \nVi lægger op til et par timers samvær og samtale med andre efterladte. \nHer er det OK at tale om sorgen\, savnet og de svære følelser.\nDet der tales om er i fortrolighed mellem deltagerne. \nDer serveres kaffe/the med kage og frugt. Deltagere i vore arrangementer betaler 30 kr.\, som delvis dækning af vore udgifter. \nNB! – Tilmelding senest d. 21. november via link: https://efterladte.nemtilmeld.dk/173/ \nAlle er velkomne! \n\nTil café- og temaaftener møder du andre efterladte.\nDu får mulighed for at tale og dele erfaringer med andre i en lignende situation som dig. –  I fortrolighed mellem deltagerne\, naturligvis.\nDu får mulighed for et varmt\, uformelt samvær i et fællesskab\, hvor selvmord ikke er tabu.\nDu er altid velkommen til at tage en ven med\, hvis du har behov for det.\n\nKontaktpersoner for Lokalkreds Thy: \nHanne Tang\, tlf. 22 40 87 84 eller hanne@tang.dk \nLisbeth og Anders Hornstrup\, tlf. 30 57 04 88
URL:https://efterladte.dk/aktivitet/cafeaften-thisted-17/
LOCATION:Frivillig Thy\, Nytorv 8\, Thisted\, 7700
CATEGORIES:Cafémøde,Lokalkreds Thy
ATTACH;FMTTYPE=image/jpeg:https://efterladte.dk/wp-content/uploads/2017/08/Thy_nationalprak-e1501743996649.jpg
ORGANIZER;CN="Lokalkreds Thy":MAILTO:hanne@tang.dk
END:VEVENT
BEGIN:VEVENT
DTSTART;TZID=Europe/Copenhagen:20221124T190000
DTEND;TZID=Europe/Copenhagen:20221124T210000
DTSTAMP:20260423T022500
CREATED:20220821T060647Z
LAST-MODIFIED:20220821T100837Z
UID:10153-1669316400-1669323600@efterladte.dk
SUMMARY:Julecafé – Næstved
DESCRIPTION:Landsforeningen for efterladte efter selvmord inviterer til caféaften – Julecafé \nTorsdag den 24. november 2022\, kl. 19.00 – 21.00 \nVi mødes i Frivilligcenter Næstved\, Farimagsvej 16\, 4700 Næstved \n  \nAftenens program – Samtale og samvær.  \nJulen nærmer sig\, og som efterladt kan det give anledning til blandede følelser. Vi har kaldt det julecafé og der vil blive hygge\, men også mulighed for at tale sammen om de tanker og følelser\, højtiden kan vække i os. \nHer er det OK at tale om sorgen\, savnet og de svære følelser.\nDet der tales om\, er i fortrolighed mellem deltagerne. \nDer serveres kaffe/the og kage \nNB! – Tilmelding senest d. 22. november via link: https://efterladte.nemtilmeld.dk/178/ \nAlle er velkomne! \n\nTil café- og temaaftener møder du andre efterladte.\nDu får mulighed for at tale og dele erfaringer med andre i en lignende situation som dig. –  I fortrolighed mellem deltagerne\, naturligvis.\nDu får mulighed for et varmt\, uformelt samvær i et fællesskab\, hvor selvmord ikke er tabu.\nDu er altid velkommen til at tage en ven med\, hvis du har behov for det.\n\nVel mødt og venlig hilsen \nPå vegne af Næstvedgruppen / efterladte.dk \nOle Specht Jensen\, Mobil: 6133 6022 \nDorrit Sørensen\, Mobil: 3064 4260
URL:https://efterladte.dk/aktivitet/julecafe-naestved-3/
LOCATION:Frivilligcenter Næstved\, Farigmagsvej 16\, Næstved\, 4700
CATEGORIES:Cafémøde,Landsforeningen
ATTACH;FMTTYPE=image/jpeg:https://efterladte.dk/wp-content/uploads/2018/07/Naesatved_2018-e1530425940178.jpg
ORGANIZER;CN="Landsforeningen - Ole Specht Jensen":MAILTO:ole.specht@outlook.dk
END:VEVENT
BEGIN:VEVENT
DTSTART;TZID=Europe/Copenhagen:20221126T130000
DTEND;TZID=Europe/Copenhagen:20221126T163000
DTSTAMP:20260423T022500
CREATED:20220708T151848Z
LAST-MODIFIED:20220709T063550Z
UID:9803-1669467600-1669480200@efterladte.dk
SUMMARY:Temalørdag: Kunstterapi - København
DESCRIPTION:Landsforeningen for efterladte efter selvmord tilbyder kunstterapi\, lørdag d. 26. november kl. 13.00 – ca. 16.30\, Johannes på Torvet\, Sankt Hans Torv 30\, st.\, 2200 København \n  \nVil du have lejlighed til at se på din sorg\, fra en anderledes vinkel\, så kom og vær med til en eftermiddag med kunstterapi. \nDeltagelse kræver ingen forudsætninger for at kunne tegne. Eftermiddagen består af enkle øvelser\, og fælles samtale. \n  \n Kurset ledes af Hanne Svensmark\, som er uddannet kunstterapeut og arbejder som sognepræst i Dronninglund. Hanne var i en årrække formand for landsforeningen\, og hun har igennem mange år ledet vores selvhjælpsseminar. Hanne er kunstneren bag layoutet på: Efterladte.dk \n  \nDeltagerpris: 100 kr.\, som dækker materialer og kaffe/te. \nDer er plads 8 deltagere. \nSidste frist for tilmelding er 22. november 2022 via link: https://efterladte.nemtilmeld.dk/165/ \n\nTil vore arrangementer møder du andre efterladte.\nDu får mulighed for at tale og dele erfaringer med andre i en lignende situation som dig. –  I fortrolighed mellem deltagerne\, naturligvis.\nDu får mulighed for et varmt\, uformelt samvær i et fællesskab\, hvor selvmord ikke er tabu.\n\nFor spørgsmål kontakt: \nEllen Bæk\, mobil: 2423 4475\, mail: info@efterladte.dk \n 
URL:https://efterladte.dk/aktivitet/temaloerdag-kunstterapi-koebenhavn/
LOCATION:Johannes på Torvet\, Sankt Hans Torv 30\, st.\, København N\, 2200
CATEGORIES:Kunstterapi,Landsforeningen
ATTACH;FMTTYPE=image/jpeg:https://efterladte.dk/wp-content/uploads/2021/11/Kunstterapi_2-e1637244081174.jpg
ORGANIZER;CN="Landsforeningen":MAILTO:info@efterladte.dk
END:VEVENT
BEGIN:VEVENT
DTSTART;TZID=Europe/Copenhagen:20221129T190000
DTEND;TZID=Europe/Copenhagen:20221129T210000
DTSTAMP:20260423T022500
CREATED:20220709T074247Z
LAST-MODIFIED:20220709T075038Z
UID:9844-1669748400-1669755600@efterladte.dk
SUMMARY:Caféaften med koncert og samtale - Holstebro
DESCRIPTION:Cafegruppen i Holstebro inviterer til caféaften med koncert og samtale med Lene og Torben fra bandet West Road Holy Lake.  \nAftenens program:  \nLene Smed Sørensen og Torben Tangsig er naboer og udgør sammen med Lenes datter\, Tilde\, bandet ”West Road Holy Lake” (Vestervej\, Helligsø). De vil bl.a synge og fortælle om sangen ”Mørketal”\, som Torben skrev i sommeren 2021\, da hans nevø begik selvmord på Psykiatrisk Afdeling. ”En utilsigtet hændelse”\, står der i sygejournalen! Det er sket før! Derfor titlen ”Mørketal”. \n\nLink til: West Road Holy Lake – Musik fra Helligsø\nLink til: Mørketal. Som at drukne på land. – West Road Holy Lake\n\nVi lægger op til et par timers samvær og samtale med andre efterladte. \nHer er det OK at tale om sorgen\, savnet og de svære følelser.\nDet der tales om er i fortrolighed mellem deltagerne. \nDer serveres kaffe/the med kage og frugt. \nNB! – Tilmelding senest 27. november via link: https://efterladte.nemtilmeld.dk/168/ \nAlle er velkomne! \n\nTil vore arrangementer møder du andre efterladte.\nDu får mulighed for at tale og dele erfaringer med andre i en lignende situation som dig. – I fortrolighed mellem deltagerne\, naturligvis.\nDu får mulighed for et varmt\, uformelt samvær i et fællesskab\, hvor selvmord ikke er tabu.\nDu er altid velkommen til at tage en ven med\, hvis du har behov for det.\n\nKontaktperson for cafégruppen i Holstebro: \nHanne Tang\, Tlf. 22 40 87 84 eller hanne@tang.dk
URL:https://efterladte.dk/aktivitet/cafeaften-med-koncert-og-samtale-holstebro/
LOCATION:Kultur- og Frivillighuset Holstebro\, Nygade 22\, Holstebro\, 7500
CATEGORIES:Cafégruppen i Holstebro,Koncert
ATTACH;FMTTYPE=image/jpeg:https://efterladte.dk/wp-content/uploads/2017/06/Holstebro_2-e1496586730175.jpg
ORGANIZER;CN="Holstebro - Tina / Hanne":MAILTO:hanne@tang.dk
END:VEVENT
BEGIN:VEVENT
DTSTART;TZID=Europe/Copenhagen:20221129T193000
DTEND;TZID=Europe/Copenhagen:20221129T213000
DTSTAMP:20260423T022500
CREATED:20220626T161615Z
LAST-MODIFIED:20220626T165753Z
UID:9544-1669750200-1669757400@efterladte.dk
SUMMARY:Dans med døden med Lotte Kappelskov - Aalborg
DESCRIPTION:Foredrag i Folkekirkens Hus tirsdag d. 29. november 2022\, kl. 19.30\nPsykologen\, der troede\, hun vidste alt om sorg\nDANS MED DØDEN – en samtalerække med gæster\, der har døden tæt inde på livet.\nVært: Tidl. hospitalspræst Ruth Østergaard Poulsen.\nPsykologen troede\, at hun vidste alt om sorg\, indtil hendes søn begik selvmord. \n57-årige Lotte Kappelskov fra Hasseris har altid haft et tæt bånd til sit første barn Elias. Sønnens største ønske var\, at være som de andre børn. Men i Folkeskolen var han udadreagerende\, fordi han havde en udviklingsforstyrrelse. Han kunne ikke rummes. \nSom voksen gik Elias i nogle perioder ud i livet med beslutsomhed\, mod og glæde. Han fik kærester\, studerede\, skrev tænksomme tekster\, og engagerede sig i en organisation\, der hjælper flygtninge. Men med tiden isolerede han sig i længere og længere perioder\, og gled ned i et mørke\, hvor hans mor pludselig ikke fik den samme adgang som tidligere. Fem dage efter sin 29-års fødselsdag begik Elias selvmord. \nDen daværende udgave af Lotte døde sammen med Elias den oktoberaften i 2018\, hvor hun blev ringet op af sin eksmand\, mens hun var på ferie i Spanien. ”Spørg mig ikke hvordan jeg har overlevet\, at min søn begik selvmord\, for det gjorde jeg ikke. Spørg mig i stedet\, hvem jeg er blevet til\, efter jeg har mistet”\, siger Lotte Kappelskov i dag. \nI mere end 20 år havde Lotte Kappelskov selv hjulpet mennesker i sorg\, gennem sit arbejde som psykolog i Aalborg og Aarhus\, inden Elias’ død. ”Jeg troede\, jeg vidste alt om sorg\, men i virkeligheden vidste jeg ingenting” fortæller hun. \n  \nBilletpris 50 kr.\, køb billet via link:  \nhttp://folkekirkenshus.dk/event/dans-med-doeden-med-ruth-oestergaard-poulsen/
URL:https://efterladte.dk/aktivitet/dans-med-doeden-med-lotte-kappelskov-aalborg/
LOCATION:Folkekirkens Hus Aalborg\, Gammeltorv 8\, Aalborg\, 9000\, Danmark
CATEGORIES:Foredrag
ATTACH;FMTTYPE=image/jpeg:https://efterladte.dk/wp-content/uploads/2016/12/Folkekirkens_Hus-e1483561727746.jpg
END:VEVENT
END:VCALENDAR