BEGIN:VCALENDAR
VERSION:2.0
PRODID:-//Efterladte.dk - ECPv6.15.17.1//NONSGML v1.0//EN
CALSCALE:GREGORIAN
METHOD:PUBLISH
X-WR-CALNAME:Efterladte.dk
X-ORIGINAL-URL:https://efterladte.dk
X-WR-CALDESC:Begivenheder for Efterladte.dk
REFRESH-INTERVAL;VALUE=DURATION:PT1H
X-Robots-Tag:noindex
X-PUBLISHED-TTL:PT1H
BEGIN:VTIMEZONE
TZID:Europe/Copenhagen
BEGIN:DAYLIGHT
TZOFFSETFROM:+0100
TZOFFSETTO:+0200
TZNAME:CEST
DTSTART:20180325T010000
END:DAYLIGHT
BEGIN:STANDARD
TZOFFSETFROM:+0200
TZOFFSETTO:+0100
TZNAME:CET
DTSTART:20181028T010000
END:STANDARD
BEGIN:DAYLIGHT
TZOFFSETFROM:+0100
TZOFFSETTO:+0200
TZNAME:CEST
DTSTART:20190331T010000
END:DAYLIGHT
BEGIN:STANDARD
TZOFFSETFROM:+0200
TZOFFSETTO:+0100
TZNAME:CET
DTSTART:20191027T010000
END:STANDARD
BEGIN:DAYLIGHT
TZOFFSETFROM:+0100
TZOFFSETTO:+0200
TZNAME:CEST
DTSTART:20200329T010000
END:DAYLIGHT
BEGIN:STANDARD
TZOFFSETFROM:+0200
TZOFFSETTO:+0100
TZNAME:CET
DTSTART:20201025T010000
END:STANDARD
END:VTIMEZONE
BEGIN:VEVENT
DTSTART;TZID=Europe/Copenhagen:20191201T100000
DTEND;TZID=Europe/Copenhagen:20191201T120000
DTSTAMP:20260422T110206
CREATED:20191117T130815Z
LAST-MODIFIED:20191117T131109Z
UID:4910-1575194400-1575201600@efterladte.dk
SUMMARY:Walk & Talk - Odense
DESCRIPTION:Har du lyst til at gå en tur sammen med andre som har mistet ved selvmord\, og få mulighed for at tale om livet som efterladt efter selvmord?\n  \nSå venter Vita og John Jespersen\, kl. 10.00\, ved pergolaen i Eventyrhaven bagved Odense Domkirke den 1. søndag i måneden. \n  \nFølgende datoer er aftalt: 1. december 2019\, \nog i 2020: 19. januar\, 16. februar\, 22. marts\, 26. april\, 17. maj og 21. juni \n  \nVi forventer at turen slutter ca. kl. 12.00. Hvis der er stemning for det\, kan turen afsluttes over en kop kaffe eller andet for egen regning på en af byens cafeer. \nVi går tur uanset hvordan vejret er! \n  \nVita og John har mistet en voksen søn ved selvmord. \n  \nAlle er velkomne! \nDet der bliver talt om er i fortrolighed mellem deltagerne. \n  \nWalk & Talk er et tilbud fra Lokalkreds Fyn\, Landsforeningen for efterladte efter selvmord. www.efterladte.dk \n  \nNærmere oplysninger om Walk & Talk fås hos: \nJohn Jespersen\, tlf.: 25 21 91 09\, mail: John-vita@kalnet.dk
URL:https://efterladte.dk/aktivitet/walk-talk-odense-31/
LOCATION:Blomsterpergolaen i Eventyrhaven bag ved Odense Domkirke\, H.C. Andersen Haven\, Odense\, 5000
CATEGORIES:Lokalkreds Fyn,Walk & Talk
ATTACH;FMTTYPE=image/jpeg:https://efterladte.dk/wp-content/uploads/2016/12/Eventyrhaven-1-e1483021559341.jpg
ORGANIZER;CN="Lokalkreds Fyn - John":MAILTO:john-vita@kalnet.dk
END:VEVENT
BEGIN:VEVENT
DTSTART;TZID=Europe/Copenhagen:20191204T190000
DTEND;TZID=Europe/Copenhagen:20191204T210000
DTSTAMP:20260422T110206
CREATED:20190313T173834Z
LAST-MODIFIED:20191022T054627Z
UID:4112-1575486000-1575493200@efterladte.dk
SUMMARY:Caféaften - Julecafé - Ringe
DESCRIPTION:Lokalkreds Fyn inviterer til caféaften – Julecafé\n  \nVi har kaldt det julecafé og der vil blive hygge\, men også mulighed for samtale om hvordan vi tænker om den kommende højtid og de følelser julen kan vække i os. \nAlle er velkomne! Der serveres gløgg og æbleskiver \n  \n\nTil vore arrangementer møder du andre efterladte.\nDu får mulighed for at tale og dele erfaringer med andre i en lignende situation som dig.\nDu får mulighed for et varmt\, uformelt samvær i et forum\, hvor selvmord ikke er tabu.\nDu er altid velkommen til at tage en ven med\, hvis du har behov for det.\n\n  \nVel mødt og venlig hilsen \nBestyrelsen – Lokalkreds Fyn \nJohn Jespersen\, tlf. 2521 9109 \nGerda Elise Larsen \nOve Nørætt
URL:https://efterladte.dk/aktivitet/cafeaften-julecafe-ringe/
CATEGORIES:Cafémøde,Lokalkreds Fyn
ATTACH;FMTTYPE=image/jpeg:https://efterladte.dk/wp-content/uploads/2017/01/Ringe_i_træ-e1760042258686.jpg
ORGANIZER;CN="Lokalkreds Fyn - John":MAILTO:john-vita@kalnet.dk
END:VEVENT
BEGIN:VEVENT
DTSTART;TZID=Europe/Copenhagen:20191208T100000
DTEND;TZID=Europe/Copenhagen:20191208T120000
DTSTAMP:20260422T110206
CREATED:20190606T164725Z
LAST-MODIFIED:20190606T164816Z
UID:4380-1575799200-1575806400@efterladte.dk
SUMMARY:Walk & Talk - Næstved
DESCRIPTION:Kunne du tænke dig at gå en tur sammen med andre efterladte\, hvor vi kan tale og dele erfaringer med hinanden?\n  \nSå venter Ann\, Dorrit og Ole kl. 10.00 ved Indgangen til Frivilligcenter Næstved\, Farimagsvej 16. \nDet er tæt på stationen\, hvis du er med tog eller bus. \nEr du i bil kan du f.eks. parkere bag SparNord eller på Kvægtorvet ved Kvickly. \n  \nVi går i området ved Rådmandshaven / Herlufsholm. – Gåturen sammen giver god mulighed for et varmt\, uformelt samvær i et fællesskab\, hvor selvmord ikke er tabu. \n  \nFølgende datoer er aftalt for 2019:  \nSøndag 8. december. \n  \nTuren varer ca. halvanden time\, og så kan vi slutte med en kop kaffe / the i Frivilligcenteret. \nSkulle vejret evt. være for dårligt til at gå tur i skoven\, kan vi stadig få den gode samtale i frivilligcentret. – Så kom bare alligevel\, selv om det regner eller blæser. \nDu må gerne tage en ven med\, hvis du har behov for det. \nDet der tales om er i fortrolighed mellem deltagerne. \n  \nKontakt: \nOle Specht Jensen\, Mobil: 6133 6022 \nMail: ole.specht@outlook.dk \nAnn Morgills\, Mobil: 2862 6115 \nDorrit Sørensen\, Mobil:  3064 4260
URL:https://efterladte.dk/aktivitet/4380/
LOCATION:Frivilligcenter Næstved\, Farigmagsvej 16\, Næstved\, 4700
CATEGORIES:Landsforeningen,Walk & Talk
ATTACH;FMTTYPE=image/jpeg:https://efterladte.dk/wp-content/uploads/2018/07/Naesatved_2018-e1530425940178.jpg
END:VEVENT
BEGIN:VEVENT
DTSTART;TZID=Europe/Copenhagen:20191211T190000
DTEND;TZID=Europe/Copenhagen:20191211T210000
DTSTAMP:20260422T110206
CREATED:20190717T083248Z
LAST-MODIFIED:20190717T083248Z
UID:4600-1576090800-1576098000@efterladte.dk
SUMMARY:Julecafé - Thisted
DESCRIPTION:Lokalkreds Thy inviterer til julecafé\n  \nAftenens program:  \nOplæg om højtider og mærkedage v. Johanne Knigge \nSamtale og samvær. \n  \nDer serveres kaffe/the med kage og frugt. \nAlle er velkomne! Deltagere i vore arrangementer betaler 30 kr.\, som delvis dækning af vore udgifter. \n  \n\nTil café- og temaaftener møder du andre efterladte.\nDu får mulighed for at tale og dele erfaringer med andre i en lignende situation som dig.\nDu får mulighed for et varmt\, uformelt samvær i et fællesskab\, hvor selvmord ikke er tabu.\nDu er altid velkommen til at tage en ven med\, hvis du har behov for det.\n\n  \nKontaktpersoner for Lokalkreds Thy: \nHanne Tang\, tlf. 22 40 87 84 eller hanne@tang.dk \nJohanne Knigge\, tlf. 60 47 03 73 \nLisbeth og Anders Hornstrup\, tlf. 30 57 04 88
URL:https://efterladte.dk/aktivitet/julecafe-thisted-2/
LOCATION:Frivillig Thy\, Nytorv 8\, Thisted\, 7700
CATEGORIES:Cafémøde,Lokalkreds Thy
ATTACH;FMTTYPE=image/jpeg:https://efterladte.dk/wp-content/uploads/2017/08/Thy_nationalprak-e1501743996649.jpg
ORGANIZER;CN="Lokalkreds Thy":MAILTO:hanne@tang.dk
END:VEVENT
BEGIN:VEVENT
DTSTART;TZID=Europe/Copenhagen:20191212T180000
DTEND;TZID=Europe/Copenhagen:20191212T203000
DTSTAMP:20260422T110206
CREATED:20190711T152152Z
LAST-MODIFIED:20190711T152249Z
UID:4519-1576173600-1576182600@efterladte.dk
SUMMARY:Caféaften med spisning – Julecafé - Farum
DESCRIPTION:Lokalkreds Sjælland inviterer til caféaften med spisning – Jule-café\n  \nVi vil tage udgangspunkt i at mødes omkring temaet “Traditioner og højtider” – Hvad hjælper os “igennem” julen\, og hvad kan eventuelt give os håb og trøst? \nVi inviterer på et let aftensmåltid. Der vil være en egenbetaling på 50 kr. til maden. Af hensyn til bestilling af mad\, vil vi gerne have din tilmelding senest 02.12.2019\, på mail: sjaelland@efterladte.dk \n  \nAlle er velkomne! \n\nTil vore arrangementer møder du andre efterladte.\nDu får mulighed for at tale og dele erfaringer med andre i en lignende situation som dig.\nDu får mulighed for et varmt\, uformelt samvær i et forum\, hvor selvmord ikke er tabu.\nDu er altid velkommen til at tage en ven med\, hvis du har behov for det.\n\n  \n\nVel mødt og venlig hilsen\n\n\nBestyrelsen – Lokalkreds Sjælland\n\n\nmail sjaelland@efterladte.dk\n\n 
URL:https://efterladte.dk/aktivitet/cafeaften-med-spisning-julecafe-farum/
LOCATION:Farum Kulturhus\, Stavnsholtvej 3\, Farum\, 3520
CATEGORIES:Cafémøde,Lokalkreds Sjælland
ATTACH;FMTTYPE=image/jpeg:https://efterladte.dk/wp-content/uploads/2017/07/Kobenhavn_Tage-1.jpg
ORGANIZER;CN="Lokalkreds Sj%C3%A6lland":MAILTO:sjaelland@efterladte.dk
END:VEVENT
BEGIN:VEVENT
DTSTART;TZID=Europe/Copenhagen:20191212T190000
DTEND;TZID=Europe/Copenhagen:20191212T190000
DTSTAMP:20260422T110206
CREATED:20190707T144456Z
LAST-MODIFIED:20190707T144554Z
UID:4480-1576177200-1576177200@efterladte.dk
SUMMARY:Caféaften - Julecafé - Aalborg
DESCRIPTION:Lokalkreds Nordjylland inviterer til caféaften – Julecafé\n  \nVi har kaldt det julecafé og der vil blive hygge\, men også mulighed for samtale om hvordan vi tænker om den kommende højtid og de følelser julen kan vække i os. \nMedbring en lille pakke til et gavespil\, værdi af max 25 kr. \nDer serveres kaffe/te og kage. Af hensyn til kaffen vil tilmelding være rart\, men det er ikke en betingelse. \nAlle er velkomne! \n  \n\nTil vore arrangementer møder du andre efterladte.\nDu får mulighed for at tale og dele erfaringer med andre i en lignende situation som dig.\nDu får mulighed for et varmt\, uformelt samvær i et fællesskab\, hvor selvmord ikke er tabu.\nDu er altid velkommen til at tage en ven med\, hvis du har behov for det.\n\n  \nFor yderligere information og tilmelding: \nEllen Bæk \nnordjylland@efterladte.dk \nMobil: 2423 4475
URL:https://efterladte.dk/aktivitet/cafeaften-julecafe-aalborg/
LOCATION:De Frivilliges Hus Aalborg\, Hadsundvej 35\, Aalborg\, 9000
CATEGORIES:Cafémøde,Lokalkreds Nordjylland
ATTACH;FMTTYPE=image/jpeg:https://efterladte.dk/wp-content/uploads/2016/12/aalborg-vandside.jpg
ORGANIZER;CN="Lokalkreds Nordjylland":MAILTO:nordjylland@efterladte.dk
END:VEVENT
BEGIN:VEVENT
DTSTART;TZID=Europe/Copenhagen:20191218T190000
DTEND;TZID=Europe/Copenhagen:20191218T210000
DTSTAMP:20260422T110206
CREATED:20191120T151754Z
LAST-MODIFIED:20191120T154715Z
UID:4995-1576695600-1576702800@efterladte.dk
SUMMARY:Julecafé - Næstved
DESCRIPTION:Landsforeningen for efterladte efter selvmord inviterer til caféaften / Julecafé i Næstved\nonsdag den 18. december kl. 19 – 21\n  \nVi mødes i Frivilligcenter Næstved\, Farimagsvej 16. \nDet er tæt på stationen\, – parkering bag SparNord eller på Kvægtorvet ved Kvickly. \n  \nJulen nærmer sig\, og vi tilbyder et lille pusterum over en kop kaffe / te. \nHer er der mulighed for at tale sammen om\, hvordan vi som efterladte tænker om den kommende højtid\, og de følelser julen kan vække i os. \nDet der tales om er i fortrolighed mellem deltagerne. \n  \nAlle er velkomne! \nDer serveres kaffe / te og kage. \n(Det er kærkomment\, hvis du lægger en femmer til kaffekassen J) \n  \n\nTil vore arrangementer møder du andre efterladte.\nDu får mulighed for at tale og dele erfaringer med andre i en lignende situation som dig.\nDu får mulighed for et varmt\, uformelt samvær i et forum\, hvor selvmord ikke er tabu.\nDu er altid velkommen til at tage en ven med\, hvis du har behov for det.\n\n  \nVel mødt og venlig hilsen \nPå vegne af Næstvedgruppen / efterladte.dk \nOle Specht Jensen\, \nMobil: 6133 6022 \nMail: ole.specht@outlook.dk \n 
URL:https://efterladte.dk/aktivitet/julecafe-naestved/
LOCATION:Frivilligcenter Næstved\, Farigmagsvej 16\, Næstved\, 4700
CATEGORIES:Cafémøde,Landsforeningen
ATTACH;FMTTYPE=image/jpeg:https://efterladte.dk/wp-content/uploads/2018/07/Naesatved_2018-e1530425940178.jpg
ORGANIZER;CN="Landsforeningen - Ole Specht Jensen":MAILTO:ole.specht@outlook.dk
END:VEVENT
END:VCALENDAR