BEGIN:VCALENDAR
VERSION:2.0
PRODID:-//Efterladte.dk - ECPv6.15.17.1//NONSGML v1.0//EN
CALSCALE:GREGORIAN
METHOD:PUBLISH
X-ORIGINAL-URL:https://efterladte.dk
X-WR-CALDESC:Begivenheder for Efterladte.dk
REFRESH-INTERVAL;VALUE=DURATION:PT1H
X-Robots-Tag:noindex
X-PUBLISHED-TTL:PT1H
BEGIN:VTIMEZONE
TZID:Europe/Copenhagen
BEGIN:DAYLIGHT
TZOFFSETFROM:+0100
TZOFFSETTO:+0200
TZNAME:CEST
DTSTART:20180325T010000
END:DAYLIGHT
BEGIN:STANDARD
TZOFFSETFROM:+0200
TZOFFSETTO:+0100
TZNAME:CET
DTSTART:20181028T010000
END:STANDARD
BEGIN:DAYLIGHT
TZOFFSETFROM:+0100
TZOFFSETTO:+0200
TZNAME:CEST
DTSTART:20190331T010000
END:DAYLIGHT
BEGIN:STANDARD
TZOFFSETFROM:+0200
TZOFFSETTO:+0100
TZNAME:CET
DTSTART:20191027T010000
END:STANDARD
BEGIN:DAYLIGHT
TZOFFSETFROM:+0100
TZOFFSETTO:+0200
TZNAME:CEST
DTSTART:20200329T010000
END:DAYLIGHT
BEGIN:STANDARD
TZOFFSETFROM:+0200
TZOFFSETTO:+0100
TZNAME:CET
DTSTART:20201025T010000
END:STANDARD
END:VTIMEZONE
BEGIN:VEVENT
DTSTART;TZID=Europe/Copenhagen:20190901T100000
DTEND;TZID=Europe/Copenhagen:20190901T120000
DTSTAMP:20260422T161157
CREATED:20190313T170854Z
LAST-MODIFIED:20190313T170944Z
UID:4091-1567332000-1567339200@efterladte.dk
SUMMARY:Walk & Talk - Odense
DESCRIPTION:Har du lyst til at gå en tur sammen med andre som har mistet ved selvmord\, og få mulighed for at tale om livet som efterladt efter selvmord?\n  \nSå venter Lis Kaspersen og John Jespersen\, kl. 10.00\, ved pergolaen i Eventyrhaven bagved Odense Domkirke den 1. søndag i måneden. \n  \nFølgende datoer er aftalt: 1. september\, 6. oktober og 3. november 2019. \n  \nVi forventer at turen slutter ca. kl. 12.00. Hvis der er stemning for det\, kan turen afsluttes over en kop kaffe eller andet for egen regning på en af byens cafeer. \nVi går tur uanset hvordan vejret er! \n  \nVi har begge mistet ved selvmord (Lis – ægtefælle\, og John – voksen søn) \n  \nAlle er velkomne! \nDet der bliver talt om er i fortrolighed mellem deltagerne. \n  \nWalk & Talk er et tilbud fra Lokalkreds Fyn\, Landsforeningen for efterladte efter selvmord. www.efterladte.dk \n  \nNærmere oplysninger om Walk & Talk fås hos: \nLis Kaspersen\, tlf.: 61 46 35 11\, mail: liskaspersen45@gmail.com eller \nJohn Jespersen\, tlf.: 25 21 91 09\, mail: John-vita@kalnet.dk
URL:https://efterladte.dk/aktivitet/walk-talk-odense-28/
LOCATION:Blomsterpergolaen i Eventyrhaven bag ved Odense Domkirke\, H.C. Andersen Haven\, Odense\, 5000
CATEGORIES:Lokalkreds Fyn,Walk & Talk
ATTACH;FMTTYPE=image/jpeg:https://efterladte.dk/wp-content/uploads/2016/12/Eventyrhaven-1-e1483021559341.jpg
ORGANIZER;CN="Lis Kaspersen / John Jespersen":MAILTO:liskaspersen45@gmail.com; John-vita@kalnet.dk
END:VEVENT
BEGIN:VEVENT
DTSTART;TZID=Europe/Copenhagen:20190904T190000
DTEND;TZID=Europe/Copenhagen:20190904T210000
DTSTAMP:20260422T161157
CREATED:20190313T173122Z
LAST-MODIFIED:20190709T150036Z
UID:4105-1567623600-1567630800@efterladte.dk
SUMMARY:Caféaften - Ringe
DESCRIPTION:Lokalkreds Fyn inviterer til caféaften\n  \nBEMÆRK – Ny adresse!  \nJohn vil tage imod på P-pladsen\, kl. 19.00 \n  \nAftenens program – Samtale og samvær. Vi kan evt. se en film \nAlle er velkomne! Der serveres kaffe/te og kage. \n  \n\nTil caféaftener møder du andre efterladte.\nDu får mulighed for at tale og dele erfaringer med andre i en lignende situation som dig.\nDu får mulighed for et varmt\, uformelt samvær i et forum\, hvor selvmord ikke er tabu.\nDu er altid velkommen til at tage en ven med\, hvis du har behov for det.\n\n  \nNærmere oplysninger om ovenstående fås hos: \nLilli Svendsen\, tlf. 20 45 96 69 eller\nJohn Jespersen\, tlf. 25 21 91 09
URL:https://efterladte.dk/aktivitet/cafeaften-ringe-29/
CATEGORIES:Cafémøde,Lokalkreds Fyn
ATTACH;FMTTYPE=image/jpeg:https://efterladte.dk/wp-content/uploads/2017/01/Ringe_i_træ-e1760042258686.jpg
ORGANIZER;CN="Lokalkreds Fyn":MAILTO:smedpigen1@hotmail.com
END:VEVENT
BEGIN:VEVENT
DTSTART;TZID=Europe/Copenhagen:20190909T173000
DTEND;TZID=Europe/Copenhagen:20190909T190000
DTSTAMP:20260422T161157
CREATED:20190822T150512Z
LAST-MODIFIED:20190823T053520Z
UID:4714-1568050200-1568055600@efterladte.dk
SUMMARY:Indkaldelse til ekstraordinær generalforsamling i Lokalkreds Fyn - Ringe
DESCRIPTION:Bestyrelsen for Lokalkreds Fyn indkalder hermed til ekstraordinær generalforsamling\, mandag den 9. september kl. 17.30\, Huset Guldhøj\, Floravej 11\, 5750 Ringe\n  \nEneste punkt på dagsordenen er: Valg af bestyrelse. \n  \nDen nuværende bestyrelse har følgende sammensætning: \n\nLilli Smed Svendsen\, formand\nJohn Jespersen\, næstformand\nInger M. Bæk\, kasserer\nInger Lizzy Nielsen\nLis Kaspersen\n\nDer er ingen suppleanter. \nLilli Smed Svendsen\, Inger M. Bæk og Inger Lizzy Nielsen ønsker at udtræde af bestyrelsen\, grundet uenighed om  prioriteringen af lokalkredsens aktiviteter. \nVedtægterne kan læses her: https://efterladte.dk/om-os/vedtaegter/ Her står blandt andet: \nJf. § 2. Lokalkredsen formål og virke\nLokalkredsens formål er at danne et lokalt netværk\, som kan komme efterladte efter selvmord til gavn\, og derudover at medvirke til at opfylde landsforeningens formål. Det kan være at holde cafémøder\, foredragsaftener\, Walk & Talk og andre arrangementer i lokalt regi…. \nJf. § 4. Generalforsamling\nGeneralforsamlingen er lokalkredsens øverste myndighed.\nGeneralforsamlingen vælger en bestyrelse bestående af 3-5 medlemmer\, hvoraf over halvdelen skal være efterladte. Derudover vælges 2 suppleanter……. \n  \nJohn Jespersen og Lis Kaspersen er villige til at modtage valg til bestyrelsen.  \nVi håber\, at der er flere der ønsker at stille op til bestyrelsen\, der skal vælges minimum 1 medlem mere. \n  \nMød op til generalforsamling og støt op om at vi fortsat skal have lokalt arbejde for efterladte efter selvmord på Fyn! \n  \nNærmere oplysninger om ovenstående fås hos: \nLilli Svendsen\, tlf. 20 45 96 69\,\nJohn Jespersen\, tlf. 25 21 91 09 \n  \nVel mødt og venlig hilsen \nBestyrelsen
URL:https://efterladte.dk/aktivitet/indkaldelse-til-ekstraordinaer-generalforsamling-i-lokalkreds-fyn-ringe/
CATEGORIES:Generalforsamling,Lokalkreds Fyn
ATTACH;FMTTYPE=image/jpeg:https://efterladte.dk/wp-content/uploads/2017/01/Ringe_i_træ-e1760042258686.jpg
ORGANIZER;CN="Lokalkreds Fyn":MAILTO:smedpigen1@hotmail.com
END:VEVENT
BEGIN:VEVENT
DTSTART;VALUE=DATE:20190910
DTEND;VALUE=DATE:20190911
DTSTAMP:20260422T161157
CREATED:20190728T064318Z
LAST-MODIFIED:20190728T064601Z
UID:4660-1568073600-1568159999@efterladte.dk
SUMMARY:Verdensdagen for selvmordsforebyggelse (WSPD) 2019
DESCRIPTION:Vi er alle pårørende eller kan blive pårørende til et menneske\, der taler om\, truer med eller foretager en selvmordshandling. Vi har alle en risiko for at ende i selvmordsprocessens dystre og mørke\, hvor ensomheden råder\, og hvor lys og håb er fraværende. Og vi kan alle give nærende varme og livgivende støtte til mennesker\, der lider. \n  \n”Sammen om selvmordsforebyggelse” er årets tema for Verdensdagen for selvmordsforebyggelse. Link til hjemmesiden: https://www.iasp.info/wspd2019/ \n  \nI Danmark er der hvert år ca. 600 mennesker\, der dør for egen hånd\, og ca. 20.000 mennesker\, der udfører den selvskadende handling som et selvmordsforsøg er. I lighed med de foregående år\, markerer vores kirke rummelighed\, lys og varme på Verdensdagen for selvmordsforebyggelse. \nDagen markeres i flere kirker den 10. og 15. september\, hvor alle er velkomne. \nLandsforeningen for efterladte efter selvmord deltager i samarbejde med andre organisationer i de kirkelige handlinger. \nSe opslagene om arrangementerne som holdes følgende steder: \n10. september: – Aalborg – Budolfi Kirke\, kl. 19.00 og København – Sankt Johannes Kirke\, kl. 20.00. \n15. september: Dronninglund – Sognegården\, kl. 14.00 og Odense – Hans Tausens Kirke\, kl. 16.00. \n\n\n  \nTænd et lys \n\n\n\n\nDen internationale association for selvmordsforebyggelse (IASP) inviterer dig til at tænde et lys kl. 20.00 på den 10. september –  Verdensdag for selvmordsforebyggelse. Se opslaget: Tænd et lys \n\n\n  \n10. september 2019 – Faglige arrangementer om selvmordforebyggelse: \nPsykiatrien – Region Hovedstaden – Auditoriet\, Indgang 50 B\, Plan 2\, Nordsjællands Hospital\, Dyrehavevej 29\, 3400 Hillerød. Se opslaget: https://www.psykiatri-regionh.dk/presse-og-nyt/arrangementer/Sider/Verdensdag-for-Selvmordsforebyggelse.aspx \nOdense – Et samarbejde mellem flere organisationer – Phønix\, Schacksgade 39\, 5000 Odense C. Se opslaget: https://selvmordsforskning.dk/wp-content/uploads/sites/2/2019/06/Program-Odense2019.pdf \nBegge arrangementer er gratis – men kræver tilmelding\, læs mere i opslagene!
URL:https://efterladte.dk/aktivitet/verdensdagen-for-selvmordsforebyggelse-wspd-2019/
ATTACH;FMTTYPE=image/png:https://efterladte.dk/wp-content/uploads/2019/07/2019_wspd_banner_danish-1-e1563549112119.png
END:VEVENT
BEGIN:VEVENT
DTSTART;TZID=Europe/Copenhagen:20190910T190000
DTEND;TZID=Europe/Copenhagen:20190910T210000
DTSTAMP:20260422T161157
CREATED:20190625T135240Z
LAST-MODIFIED:20190625T135534Z
UID:4423-1568142000-1568149200@efterladte.dk
SUMMARY:Mindegudstjeneste i Aalborg
DESCRIPTION:MINDEgudstjeneste i Budolfi kirke tirsdag d. 10. september 2019 kl. 19\nved sogne- og sygehuspræst Henriette Pedersen\n  \nI forbindelse med WHO’s internationale dag for selvmordsforebyggelse vil der i Budolfi kirke blive afholdt en mindegudstjeneste for alle\, der har begået selvmord. \n  \nGudstjenesten afholdes for at støtte de mange efterlevende\, der skal leve deres liv med den smerte det er\, at have mistet som følge af selvmord. Gudstjenesten er både for de\, som ønsker at vise deres sympati med de efterlevende og for de efterlevende. \n  \nEfter gudstjenesten vil der være mulighed for at få en kop kaffe/te og en snak i Krypten. Landsforeningen Efterladte efter Selvmord vil være til stede og vil kort fortælle om deres tilbud i Nordjylland. Derefter drikker vi kaffe og der vil være mulighed både for en fælles samtale under ledelse af Henriette Pedersen\, og for at tale individuelt med foreningernes repræsentanter.
URL:https://efterladte.dk/aktivitet/mindegudstjeneste-i-aalborg/
LOCATION:Budolfi Kirke\, Algade 40\, Aalborg\, 9000
CATEGORIES:Kirkelig markering
ATTACH;FMTTYPE=image/jpeg:https://efterladte.dk/wp-content/uploads/2018/07/Budolfi-kirke-e1530729450433.jpg
ORGANIZER;CN="Landsforeningen":MAILTO:info@efterladte.dk
END:VEVENT
BEGIN:VEVENT
DTSTART;TZID=Europe/Copenhagen:20190910T200000
DTEND;TZID=Europe/Copenhagen:20190910T200000
DTSTAMP:20260422T161157
CREATED:20190719T145539Z
LAST-MODIFIED:20190719T145620Z
UID:4619-1568145600-1568145600@efterladte.dk
SUMMARY:Tænd et lys
DESCRIPTION:Den internationale association for selvmordsforebyggelse (IASP) inviterer dig til at tænde et lys kl. 20.00 på den 10. september –  Verdensdag for selvmordsforebyggelse\n  \n\n\n\n\nTænd et lys i\net vindue kl. 20.00\nfor at vise din støtte\ntil selvmordsforebyggelse\nfor at mindes en mistet elsket\nog for alle efterladte efter selvmord.
URL:https://efterladte.dk/aktivitet/taend-et-lys/
ATTACH;FMTTYPE=image/png:https://efterladte.dk/wp-content/uploads/2019/07/light_a_candle_on_wspd_danish.png
END:VEVENT
BEGIN:VEVENT
DTSTART;TZID=Europe/Copenhagen:20190910T200000
DTEND;TZID=Europe/Copenhagen:20190910T220000
DTSTAMP:20260422T161157
CREATED:20190624T124619Z
LAST-MODIFIED:20190711T141659Z
UID:4410-1568145600-1568152800@efterladte.dk
SUMMARY:Kirkelig markering - København
DESCRIPTION:Den årlige Verdensdag vedrørende selvmord og forebyggelse af selvmord markeres ved \nSankt Johannes Kirke\, Blegdamsvej 1\, Nørrebro tirsdag den 10. september kl. 20.\n  \nProgram: \nI Kirkehaven uden for kirken bliver der tændt 144 lys – et for hvert menneske vi sidste år mistede ved selvmord i Region Hovedstaden. \n  \nHerefter samling i kirken med fællessang\, lys-tænding\, sang ved Singer-songwriter Simon Lynge\, refleksion\, bøn og stilhed. \nI år har Efterladte efter selvmord –  Lokalkreds Sjælland i samarbejde med Sankt Johannes kirke og Herlev Kommune fået Singer-songwriter Simon Lynge til at spille 4 af sine numre. Simon rammer i sine tekster og i sin melodi og lyd en helt særligt og nærværende beskrivelse og refleksion mht. til det\, at være sårbar og skrøbelig. Han tør gå ind i de rum i sindet vi som mennesker oplever i perioder med meget mørke i vores sind. Han kan sætte ord og stemning til netop de dage og oplevelser vi står i når vi må erkende at vi ikke har energi til andet end bare at være\, der hvor vi er lige nu. \nEfterfølgende er der kaffe/te i kirkens sideskib\, hvor det vil være muligt at tale med frivillige fra Landsforeningen for Efterladte efter selvmord\, NEFOS (Netværk for selvmordsramte) samt præst. \n  \nNærmere info Paul Heden Friis tlf. 5125 9794
URL:https://efterladte.dk/aktivitet/kirkelig-markering-koebenhavn-2/
LOCATION:Sankt Johannes Kirke\, Blegdamsvej 1A\, København N\, 2200\, Danmark
CATEGORIES:Kirkelig markering
ATTACH;FMTTYPE=image/jpeg:https://efterladte.dk/wp-content/uploads/2017/07/Verdensdagen_København-e1503824953753.jpg
ORGANIZER;CN="Landsforeningen":MAILTO:info@efterladte.dk
END:VEVENT
BEGIN:VEVENT
DTSTART;TZID=Europe/Copenhagen:20190911T190000
DTEND;TZID=Europe/Copenhagen:20190911T210000
DTSTAMP:20260422T161157
CREATED:20190717T080357Z
LAST-MODIFIED:20190717T080505Z
UID:4589-1568228400-1568235600@efterladte.dk
SUMMARY:Caféaften med foredrag - Thisted
DESCRIPTION:Lokalkreds Thy inviterer til caféaften med foredrag v. Mette Grønlund\, Villerslev\n  \nAftenens program:  \nForedrag v. Mette Grønlund\, Villerslev \n”Du bli’r dig selv igen\, men du bli’r ikke den samme” sagde en ven til Mette\, da hun i 2010 havde mistet sin mand ved selvmord. Mette har sin egen fortælling om sine erfaringer og tanker i tiden under og efter hun mistede sin mand. \nSamtale og samvær. \n  \nDer serveres kaffe/the med kage og frugt. \nAlle er velkomne! Deltagere i vore arrangementer betaler 30 kr.\, som delvis dækning af vore udgifter. \n  \n\nTil café- og temaaftener møder du andre efterladte.\nDu får mulighed for at tale og dele erfaringer med andre i en lignende situation som dig.\nDu får mulighed for et varmt\, uformelt samvær i et fællesskab\, hvor selvmord ikke er tabu.\nDu er altid velkommen til at tage en ven med\, hvis du har behov for det.\n\n  \nKontaktpersoner for Lokalkreds Thy: \nHanne Tang\, tlf. 22 40 87 84 eller hanne@tang.dk \nJohanne Knigge\, tlf. 60 47 03 73 \nLisbeth og Anders Hornstrup\, tlf. 30 57 04 88
URL:https://efterladte.dk/aktivitet/cafeaften-med-foredrag-thisted-2/
LOCATION:Frivillig Thy\, Nytorv 8\, Thisted\, 7700
CATEGORIES:Foredrag,Lokalkreds Thy
ATTACH;FMTTYPE=image/jpeg:https://efterladte.dk/wp-content/uploads/2017/08/Thy_nationalprak-e1501743996649.jpg
ORGANIZER;CN="Lokalkreds Thy":MAILTO:hanne@tang.dk
END:VEVENT
BEGIN:VEVENT
DTSTART;TZID=Europe/Copenhagen:20190915T100000
DTEND;TZID=Europe/Copenhagen:20190915T120000
DTSTAMP:20260422T161157
CREATED:20190624T133915Z
LAST-MODIFIED:20190624T133915Z
UID:4419-1568541600-1568548800@efterladte.dk
SUMMARY:Walk & Talk - Fredericia
DESCRIPTION:Kunne du tænke dig at gå en tur sammen med andre efterladte\, hvor vi kan tale og dele erfaringer med hinanden?\n  \nSå venter Dorte\, Joanna og Karin kl. 10.00 ved Bymuseet\, Jernbanegade 10. \nEr du i bil er der P-pladser\, og det ligger ikke langt fra Banegården. \nVil du hentes på Banegården\, så send en SMS eller indtal besked på mobil: 3045 1045 \n  \nFølgende datoer er aftalt: 15. september og 20. oktober \n  \nVi går tur tæt på/ved volden i Fredericia. – Gåturen sammen giver god mulighed for et varmt\, uformelt samvær i et fællesskab\, hvor selvmord ikke er tabu. \nVi går et par timer. Hvis der er stemning for det\, kan turen afsluttes over en kop kaffe eller andet for egen regning på en af byens cafeer. \nDu må gerne tage en ven med\, hvis du har behov for det. \nDet der tales om er i fortrolighed mellem deltagerne. \n  \nKontakt:  \nKarin Christiansen\, Mobil: 3045 1045 \nJoanna Guldborg\, Mobil: 2344 6299 \nDorte Søndergaard\, Mobil: 4025 5732
URL:https://efterladte.dk/aktivitet/walk-talk-fredericia-12/
LOCATION:Mødested – Bymuseet\, Jernbanegade 10\, Fredericia\, 7000
CATEGORIES:Landsforeningen,Walk & Talk
ATTACH;FMTTYPE=image/jpeg:https://efterladte.dk/wp-content/uploads/2018/06/Gaatur_1-e1530430418948.jpg
ORGANIZER;CN="Karin Christiansen":MAILTO:christiansenkarin@yahoo.com
END:VEVENT
BEGIN:VEVENT
DTSTART;TZID=Europe/Copenhagen:20190915T140000
DTEND;TZID=Europe/Copenhagen:20190915T160000
DTSTAMP:20260422T161157
CREATED:20190605T081550Z
LAST-MODIFIED:20190713T090615Z
UID:4370-1568556000-1568563200@efterladte.dk
SUMMARY:Mindegudstjeneste i Dronninglund
DESCRIPTION:Gudstjeneste og mulighed for samtale for mennesker der har mistet til selvmord\n  \nI anledning af Verdensdagen for Selvmordsforebyggelse\nSøndag den 15. september klokken 14.00 i Sognegården\, Rævdalsvej 5\, Dronninglund. \n  \nKender du en som livet blev for tungt for? \nI anledning af verdensdagen for selvmordsforebyggelse inviteres til mindegudstjeneste i Sognegården i Dronninglund. \nSognepræst Hanne Svensmark\, som selv mistede sin mand til selvmord i 2003\, står for gudstjenesten\, der er for alle som føler sig berørt af selvmord\, hvad enten det er sket fornyelig eller for mange år siden. \nForeningen Efterladte efter Selvmord vil være til stede og vil efter gudstjenesten kort fortælle om deres tilbud i Nordjylland. \nDerefter drikker vi kaffe og der vil være mulighed både for en fælles samtale under ledelse af Hanne Svensmark\, og for at tale individuelt med foreningens repræsentanter. \nArrangeret af Dronninglund/Dorfs og Brønderslev Provstis Diakoniudvalg\nHanne Svensmark
URL:https://efterladte.dk/aktivitet/mindegudstjeneste-i-dronninglund/
LOCATION:Sognegården Dronninglund\, Rævdalsvej 5\, Dronninglund\, 9330\, Danmark
CATEGORIES:Kirkelig markering
ATTACH;FMTTYPE=image/jpeg:https://efterladte.dk/wp-content/uploads/2017/06/Mindegudstjenste-ill-e1496643745939.jpg
ORGANIZER;CN="Landsforeningen":MAILTO:info@efterladte.dk
END:VEVENT
BEGIN:VEVENT
DTSTART;TZID=Europe/Copenhagen:20190915T160000
DTEND;TZID=Europe/Copenhagen:20190915T170000
DTSTAMP:20260422T161157
CREATED:20190719T175154Z
LAST-MODIFIED:20190719T182708Z
UID:4629-1568563200-1568566800@efterladte.dk
SUMMARY:Musikgudstjeneste - Odense
DESCRIPTION:Sammen om selvmordsforebyggelse\, Søndag d. 15. september 2019 kl. 16.00\, Hans Tausens Kirke\, Rugaardsvej 62\, Odense\n\n  \nSolister:\nAya Krogh Jørgensen\, sopran\nKarolina Bogu s\, orgel/klaver \nPrædikant:\nLaila Groes \nTekstoplæsning ved:\nLis Kaspersen\, Michelle Jensby og Kia Krogh Jørgensen \n  \nArrangementet er et samarbejde mellem Folkekirken\, NEFOS (Netværket for Selvmordsramte) og Landsforeningen for efterladte efter selvmord \n  \nPlakat om arrangementet: NEFOS-A4-selvprint-Musikgudstjeneste-juli19 \n 
URL:https://efterladte.dk/aktivitet/musikgudstjeneste-odense/
LOCATION:Hans Tausens Kirke\, Rugårdsvej 62\, Odense C\, 5000\, Danmark
CATEGORIES:Kirkelig markering
ATTACH;FMTTYPE=image/jpeg:https://efterladte.dk/wp-content/uploads/2017/07/Odense_Hans_Tausens_Kirke-e1499363371873.jpg
ORGANIZER;CN="Landsforeningen":MAILTO:info@efterladte.dk
END:VEVENT
BEGIN:VEVENT
DTSTART;TZID=Europe/Copenhagen:20190922T100000
DTEND;TZID=Europe/Copenhagen:20190922T120000
DTSTAMP:20260422T161157
CREATED:20190606T164204Z
LAST-MODIFIED:20190606T164204Z
UID:4376-1569146400-1569153600@efterladte.dk
SUMMARY:Walk & Talk - Næstved
DESCRIPTION:Kunne du tænke dig at gå en tur sammen med andre efterladte\, hvor vi kan tale og dele erfaringer med hinanden?\n  \nSå venter Ann\, Dorrit og Ole kl. 10.00 ved Indgangen til Frivilligcenter Næstved\, Farimagsvej 16. \nDet er tæt på stationen\, hvis du er med tog eller bus. \nEr du i bil kan du f.eks. parkere bag SparNord eller på Kvægtorvet ved Kvickly. \n  \nVi går i området ved Rådmandshaven / Herlufsholm. – Gåturen sammen giver god mulighed for et varmt\, uformelt samvær i et fællesskab\, hvor selvmord ikke er tabu. \n  \nFølgende datoer er aftalt for 2019:  \nSøndagene den 22. september\, 27. oktober og 8. december. \n  \nTuren varer ca. halvanden time\, og så kan vi slutte med en kop kaffe / the i Frivilligcenteret. \nSkulle vejret evt. være for dårligt til at gå tur i skoven\, kan vi stadig få den gode samtale i frivilligcentret. – Så kom bare alligevel\, selv om det regner eller blæser. \nDu må gerne tage en ven med\, hvis du har behov for det. \nDet der tales om er i fortrolighed mellem deltagerne. \n  \nKontakt: \nOle Specht Jensen\, Mobil: 6133 6022 \nMail: ole.specht@outlook.dk \nAnn Morgills\, Mobil: 2862 6115 \nDorrit Sørensen\, Mobil:  3064 4260
URL:https://efterladte.dk/aktivitet/walk-talk-naestved-11/
LOCATION:Frivilligcenter Næstved\, Farigmagsvej 16\, Næstved\, 4700
CATEGORIES:Landsforeningen,Walk & Talk
ATTACH;FMTTYPE=image/jpeg:https://efterladte.dk/wp-content/uploads/2018/07/Naesatved_2018-e1530425940178.jpg
ORGANIZER;CN="Landsforeningen - Ole Specht Jensen":MAILTO:ole.specht@outlook.dk
END:VEVENT
BEGIN:VEVENT
DTSTART;TZID=Europe/Copenhagen:20190922T100000
DTEND;TZID=Europe/Copenhagen:20190922T160000
DTSTAMP:20260422T161157
CREATED:20190330T155636Z
LAST-MODIFIED:20190330T155636Z
UID:4185-1569146400-1569168000@efterladte.dk
SUMMARY:Bestyrelsesmøde i landsbestyrelsen - Fredericia
DESCRIPTION:Landsbestyrelsen mødes for at planlægge nyhedsbrev\, frivilligseminar og efterårets aktiviteter. \nHar du punkter du ønsker behandlet\, bedes de meddelt til info@efterladte.dk inden 25. august. \n  \nVenlig hilsen \nLandsbestyrelsen
URL:https://efterladte.dk/aktivitet/bestyrelsesmoede-i-landsbestyrelsen-fredericia/
LOCATION:Trinity Hotel & Konference Center\, Gl. Færgevej 30\, Fredericia\, Snoghøj\, 7000
CATEGORIES:Bestyrelsesmøde,Landsforeningen
ATTACH;FMTTYPE=image/jpeg:https://efterladte.dk/wp-content/uploads/2019/03/Bestyrelse_2019_2-e1553961021459.jpg
ORGANIZER;CN="Landsforeningen":MAILTO:info@efterladte.dk
END:VEVENT
BEGIN:VEVENT
DTSTART;TZID=Europe/Copenhagen:20190922T140000
DTEND;TZID=Europe/Copenhagen:20190922T160000
DTSTAMP:20260422T161157
CREATED:20190602T084903Z
LAST-MODIFIED:20190720T160806Z
UID:4353-1569160800-1569168000@efterladte.dk
SUMMARY:Søndagscafé - Asnæs Forsamlingshus
DESCRIPTION:Ældre Sagen Dragsholm inviterer til søndagscafé i Asnæs Forsamlingshus\n  \n \n  \nLars Agertoft Iversen fortæller om “Hvorledes\, man kommer fra smerte til minde”. \nLars er tidligere formand for Landsforeningen for efterladte efter selvmord. \n  \n  \n  \nAlle er velkomne!  \nDer serveres kaffe/the og kage \nDeltagelse er gratis\, tilmelding  senest 17. september! \n  \nTilmelding til:  \nOle Holst\, tlf. 29 38 55 94\, mail oleholst45@gmail.com \nKarin Lerbech\, tlf. 42 77 28 67\, mail karinogpreben@dlgpost.dk \n  \nVel mødt og venlig hilsen \nÆldre Sagen Dragsholm
URL:https://efterladte.dk/aktivitet/soendagscafe-asnaes-forsamlingshus/
LOCATION:Asnæs Forsamlingshus\, Esterhøjvej 26\, Asnæs\, 4550
CATEGORIES:Cafémøde
ATTACH;FMTTYPE=image/jpeg:https://efterladte.dk/wp-content/uploads/2019/06/mourning-3069000_1280-e1559464679527.jpg
ORGANIZER;CN="%C3%86ldre Sagen Dragsholm":MAILTO:oleholst45@gmail.com / karinogpreben@dlgpost.dk
END:VEVENT
BEGIN:VEVENT
DTSTART;TZID=Europe/Copenhagen:20190926T190000
DTEND;TZID=Europe/Copenhagen:20190926T210000
DTSTAMP:20260422T161157
CREATED:20190717T071005Z
LAST-MODIFIED:20190717T071325Z
UID:4572-1569524400-1569531600@efterladte.dk
SUMMARY:Caféaften - Holstebro
DESCRIPTION:Cafegruppen i Holstebro inviterer til caféaften med præsentation af bogen ”I selvmordets kølvand – Hjælp til at bære det ubærlige”\n  \nAftenens program: \nPræsentation af bogen ”I selvmordets kølvand – Hjælp til at bære det ubærlige” v. Hanne Tang \nBogen er skrevet af Elene Fleischer og Liselotte Hornemann Kragh og udkom i juni måned\, læs mere: https://www.eksistensen.dk/i-selvmordets-kolvand.html \nSamtale og samvær. \n  \nDer serveres kaffe/the med kage og frugt. \nAlle er velkomne! \n  \n\nTil vore arrangementer møder du andre efterladte.\nDu får mulighed for at tale og dele erfaringer med andre i en lignende situation som dig.\nDu får mulighed for et varmt\, uformelt samvær i et fællesskab\, hvor selvmord ikke er tabu.\nDu er altid velkommen til at tage en ven med\, hvis du har behov for det.\n\n  \nKontaktperson for cafégruppen i Holstebro: \nHanne Tang \nTlf. 22 40 87 84 eller hanne@tang.dk
URL:https://efterladte.dk/aktivitet/cafeaften-holstebro-11/
LOCATION:Kultur- og Frivillighuset Holstebro\, Nygade 22\, Holstebro\, 7500
CATEGORIES:Cafégruppen i Holstebro,Cafémøde
ATTACH;FMTTYPE=image/jpeg:https://efterladte.dk/wp-content/uploads/2017/06/Holstebro_2-e1496586730175.jpg
ORGANIZER;CN="Holstebro - Tina / Hanne":MAILTO:hanne@tang.dk
END:VEVENT
BEGIN:VEVENT
DTSTART;TZID=Europe/Copenhagen:20190926T193000
DTEND;TZID=Europe/Copenhagen:20190926T220000
DTSTAMP:20260422T161157
CREATED:20190712T153832Z
LAST-MODIFIED:20190712T160204Z
UID:4525-1569526200-1569535200@efterladte.dk
SUMMARY:Efterladt efter selvmord - Sognehusaften - Kibæk
DESCRIPTION:Sognehusaften – Efterladt efter selvmord\, v. Lars Agertoft Iversen\, \n  \nLars Agertoft Iversen var gennem flere år formand for Landsforeningen for efterladte efter selvmord. \n\n\n\n\n\n\n\nHvert år sker der i Danmark mellem 600 og 700 selvmord. Det betyder\, at mindst 4.000 mennesker hvert år oplever det traume det er\, at en af deres nære har taget sit eget liv. Mange efterladte står tilbage med følelsen af et dobbelt svigt – de føler sig svigtet af den døde\, og de føler\, at de selv har svigtet. Mange isoleres i deres sorg\, fordi selvmord stadigt er et tabu emne\, og omgivelserne ikke ved\, hvordan de skal håndtere situationen. \n  \nLars Agertoft Iversen mistede sin kone i 2004. Med udgangspunkt i sin egen historie vil Lars blandt andet komme omkring spørgsmål som hvem er det\, der begår selvmord\, hvordan er det at blive efterladt\, og hvordan kan selvmord forebygges. \n\n\n  \nAlle er velkomne!  \nPris 50 kr. betales ved indgangen \nLæs mere: http://www.assingsogn.dk/sognehusaftner/
URL:https://efterladte.dk/aktivitet/efterladt-efter-selvmord-sognehusaften-kibaek/
LOCATION:Assing Kirkes Sognehus\, Sandfeldparken 4\, Kibæk
CATEGORIES:Foredrag
ATTACH;FMTTYPE=image/jpeg:https://efterladte.dk/wp-content/uploads/2017/05/Lars_Iversen_0417-e1494099151204.jpg
END:VEVENT
BEGIN:VEVENT
DTSTART;TZID=Europe/Copenhagen:20190927T110000
DTEND;TZID=Europe/Copenhagen:20190927T160000
DTSTAMP:20260422T161157
CREATED:20190717T081104Z
LAST-MODIFIED:20190717T081546Z
UID:4592-1569582000-1569600000@efterladte.dk
SUMMARY:Frivillig Fredag på Store Torv - Thisted
DESCRIPTION:Alle er velkommen til at komme forbi vores stand og få en snak!\n  \nVel mødt og venlig hilsen \nHanne Tang\, tlf. 22 40 87 84 eller hanne@tang.dk \nJohanne Knigge\, tlf. 60 47 03 73 \nAnders Hornstrup\, tlf. 30 57 04 90
URL:https://efterladte.dk/aktivitet/frivillig-fredag-paa-store-torv-thisted-2/
LOCATION:Frivillig Fredag – Thisted\, Store Torv\, Thisted\, 7700
CATEGORIES:Frivillig Fredag,Lokalkreds Thy
ATTACH;FMTTYPE=image/jpeg:https://efterladte.dk/wp-content/uploads/2018/07/Frivillig_Fredag2018-e1531140008652.jpg
ORGANIZER;CN="Lokalkreds Thy":MAILTO:hanne@tang.dk
END:VEVENT
END:VCALENDAR