BEGIN:VCALENDAR
VERSION:2.0
PRODID:-//Efterladte.dk - ECPv6.15.17.1//NONSGML v1.0//EN
CALSCALE:GREGORIAN
METHOD:PUBLISH
X-ORIGINAL-URL:https://efterladte.dk
X-WR-CALDESC:Begivenheder for Efterladte.dk
REFRESH-INTERVAL;VALUE=DURATION:PT1H
X-Robots-Tag:noindex
X-PUBLISHED-TTL:PT1H
BEGIN:VTIMEZONE
TZID:Europe/Copenhagen
BEGIN:DAYLIGHT
TZOFFSETFROM:+0100
TZOFFSETTO:+0200
TZNAME:CEST
DTSTART:20180325T010000
END:DAYLIGHT
BEGIN:STANDARD
TZOFFSETFROM:+0200
TZOFFSETTO:+0100
TZNAME:CET
DTSTART:20181028T010000
END:STANDARD
BEGIN:DAYLIGHT
TZOFFSETFROM:+0100
TZOFFSETTO:+0200
TZNAME:CEST
DTSTART:20190331T010000
END:DAYLIGHT
BEGIN:STANDARD
TZOFFSETFROM:+0200
TZOFFSETTO:+0100
TZNAME:CET
DTSTART:20191027T010000
END:STANDARD
BEGIN:DAYLIGHT
TZOFFSETFROM:+0100
TZOFFSETTO:+0200
TZNAME:CEST
DTSTART:20200329T010000
END:DAYLIGHT
BEGIN:STANDARD
TZOFFSETFROM:+0200
TZOFFSETTO:+0100
TZNAME:CET
DTSTART:20201025T010000
END:STANDARD
END:VTIMEZONE
BEGIN:VEVENT
DTSTART;TZID=Europe/Copenhagen:20190703T190000
DTEND;TZID=Europe/Copenhagen:20190703T210000
DTSTAMP:20260422T193451
CREATED:20190313T172429Z
LAST-MODIFIED:20190331T124331Z
UID:4101-1562180400-1562187600@efterladte.dk
SUMMARY:Caféaften - Ringe
DESCRIPTION:Lokalkreds Fyn inviterer til caféaften\n  \nAftenens program – Samtale og samvær. Vi kan evt. se en film \nAlle er velkomne! Der serveres kaffe/te og kage. \n  \n\nTil caféaftener møder du andre efterladte.\nDu får mulighed for at tale og dele erfaringer med andre i en lignende situation som dig.\nDu får mulighed for et varmt\, uformelt samvær i et forum\, hvor selvmord ikke er tabu.\nDu er altid velkommen til at tage en ven med\, hvis du har behov for det.\n\n  \nNærmere oplysninger om ovenstående fås hos: \nLilli Svendsen\, tlf. 20 45 96 69 eller\nJohn Jespersen\, tlf. 25 21 91 09
URL:https://efterladte.dk/aktivitet/cafeaften-ringe-27/
LOCATION:Frivilligcenter Midtfyn\, Østre Ringvej 39\,\, Ringe\, 5750
CATEGORIES:Cafémøde,Lokalkreds Fyn
ATTACH;FMTTYPE=image/jpeg:https://efterladte.dk/wp-content/uploads/2017/01/Ringe_i_træ-e1760042258686.jpg
ORGANIZER;CN="Lokalkreds Fyn":MAILTO:smedpigen1@hotmail.com
END:VEVENT
BEGIN:VEVENT
DTSTART;TZID=Europe/Copenhagen:20190707T100000
DTEND;TZID=Europe/Copenhagen:20190707T120000
DTSTAMP:20260422T193451
CREATED:20190313T170408Z
LAST-MODIFIED:20190313T170408Z
UID:4081-1562493600-1562500800@efterladte.dk
SUMMARY:Walk & Talk - Odense
DESCRIPTION:Har du lyst til at gå en tur sammen med andre som har mistet ved selvmord\, og få mulighed for at tale om livet som efterladt efter selvmord?\n  \nSå venter Lis Kaspersen og John Jespersen\, kl. 10.00\, ved pergolaen i Eventyrhaven bagved Odense Domkirke den 1. søndag i måneden. \n  \nFølgende datoer er aftalt: 7. juli\, 4. august\, 1. september\, 6. oktober og 3. november 2019. \n  \nVi forventer at turen slutter ca. kl. 12.00. Hvis der er stemning for det\, kan turen afsluttes over en kop kaffe eller andet for egen regning på en af byens cafeer. \nVi går tur uanset hvordan vejret er! \n  \nVi har begge mistet ved selvmord (Lis – ægtefælle\, og John – voksen søn) \n  \nAlle er velkomne! \nDet der bliver talt om er i fortrolighed mellem deltagerne. \n  \nWalk & Talk er et tilbud fra Lokalkreds Fyn\, Landsforeningen for efterladte efter selvmord. www.efterladte.dk \n  \nNærmere oplysninger om Walk & Talk fås hos: \nLis Kaspersen\, tlf.: 61 46 35 11\, mail: liskaspersen45@gmail.com eller \nJohn Jespersen\, tlf.: 25 21 91 09\, mail: John-vita@kalnet.dk
URL:https://efterladte.dk/aktivitet/walk-talk-odense-26/
LOCATION:Blomsterpergolaen i Eventyrhaven bag ved Odense Domkirke\, H.C. Andersen Haven\, Odense\, 5000
CATEGORIES:Lokalkreds Fyn,Walk & Talk
ATTACH;FMTTYPE=image/jpeg:https://efterladte.dk/wp-content/uploads/2016/12/Eventyrhaven-1-e1483021559341.jpg
ORGANIZER;CN="Lis Kaspersen / John Jespersen":MAILTO:liskaspersen45@gmail.com; John-vita@kalnet.dk
END:VEVENT
BEGIN:VEVENT
DTSTART;TZID=Europe/Copenhagen:20190728T130000
DTEND;TZID=Europe/Copenhagen:20190728T150000
DTSTAMP:20260422T193451
CREATED:20190401T082844Z
LAST-MODIFIED:20190401T082844Z
UID:4200-1564318800-1564326000@efterladte.dk
SUMMARY:Walk & Talk - Thisted
DESCRIPTION:Johanne Knigge inviterer på Walk & Talk i Eshøj Plantage\, kl. 13.00 – ca. 15.00\n  \nMødested: Nytorv v. indgangen til Frivillig Thy. Herfra køres i bil til Eshøj. \nVi går også 25. august 2019. \n  \n\n Til vore arrangementer møder du andre efterladte.\nDu får mulighed for at tale og dele erfaringer med andre i en lignende situation som dig.\nDu får mulighed for et varmt\, uformelt samvær i et fællesskab\, hvor selvmord ikke er tabu.\nDu er altid velkommen til at tage en ven med\, hvis du har behov for det.\n\n  \nKontaktperson: \nJohanne Knigge\, Tlf. 60 47 03 73
URL:https://efterladte.dk/aktivitet/walk-talk-thisted-8/
LOCATION:Frivillig Thy\, Nytorv 8\, Thisted\, 7700
CATEGORIES:Lokalkreds Thy,Walk & Talk
ATTACH;FMTTYPE=image/jpeg:https://efterladte.dk/wp-content/uploads/2017/04/Skov-e1491923322329.jpg
END:VEVENT
END:VCALENDAR