BEGIN:VCALENDAR
VERSION:2.0
PRODID:-//Efterladte.dk - ECPv6.15.17.1//NONSGML v1.0//EN
CALSCALE:GREGORIAN
METHOD:PUBLISH
X-WR-CALNAME:Efterladte.dk
X-ORIGINAL-URL:https://efterladte.dk
X-WR-CALDESC:Begivenheder for Efterladte.dk
REFRESH-INTERVAL;VALUE=DURATION:PT1H
X-Robots-Tag:noindex
X-PUBLISHED-TTL:PT1H
BEGIN:VTIMEZONE
TZID:Europe/Copenhagen
BEGIN:DAYLIGHT
TZOFFSETFROM:+0100
TZOFFSETTO:+0200
TZNAME:CEST
DTSTART:20180325T010000
END:DAYLIGHT
BEGIN:STANDARD
TZOFFSETFROM:+0200
TZOFFSETTO:+0100
TZNAME:CET
DTSTART:20181028T010000
END:STANDARD
BEGIN:DAYLIGHT
TZOFFSETFROM:+0100
TZOFFSETTO:+0200
TZNAME:CEST
DTSTART:20190331T010000
END:DAYLIGHT
BEGIN:STANDARD
TZOFFSETFROM:+0200
TZOFFSETTO:+0100
TZNAME:CET
DTSTART:20191027T010000
END:STANDARD
BEGIN:DAYLIGHT
TZOFFSETFROM:+0100
TZOFFSETTO:+0200
TZNAME:CEST
DTSTART:20200329T010000
END:DAYLIGHT
BEGIN:STANDARD
TZOFFSETFROM:+0200
TZOFFSETTO:+0100
TZNAME:CET
DTSTART:20201025T010000
END:STANDARD
END:VTIMEZONE
BEGIN:VEVENT
DTSTART;TZID=Europe/Copenhagen:20190501T190000
DTEND;TZID=Europe/Copenhagen:20190501T210000
DTSTAMP:20260422T225707
CREATED:20190313T171749Z
LAST-MODIFIED:20190313T172627Z
UID:4097-1556737200-1556744400@efterladte.dk
SUMMARY:Caféaften - Ringe
DESCRIPTION:Lokalkreds Fyn inviterer til caféaften\n  \nAftenens program – Samtale og samvær. Vi kan evt. se en film \nAlle er velkomne! Der serveres kaffe/te og kage. \n  \n\nTil caféaftener møder du andre efterladte.\nDu får mulighed for at tale og dele erfaringer med andre i en lignende situation som dig.\nDu får mulighed for et varmt\, uformelt samvær i et forum\, hvor selvmord ikke er tabu.\nDu er altid velkommen til at tage en ven med\, hvis du har behov for det.\n\n  \nNærmere oplysninger om ovenstående fås hos: \nLilli Svendsen\, tlf. 20 45 96 69 eller\nJohn Jespersen\, tlf. 25 21 91 09
URL:https://efterladte.dk/aktivitet/cafeaften-ringe-25/
LOCATION:Frivilligcenter Midtfyn\, Østre Ringvej 39\,\, Ringe\, 5750
CATEGORIES:Cafémøde,Lokalkreds Fyn
ATTACH;FMTTYPE=image/jpeg:https://efterladte.dk/wp-content/uploads/2017/01/Ringe_i_træ-e1760042258686.jpg
ORGANIZER;CN="Lokalkreds Fyn":MAILTO:smedpigen1@hotmail.com
END:VEVENT
BEGIN:VEVENT
DTSTART;TZID=Europe/Copenhagen:20190505T100000
DTEND;TZID=Europe/Copenhagen:20190505T120000
DTSTAMP:20260422T225707
CREATED:20190313T165847Z
LAST-MODIFIED:20190313T165901Z
UID:4076-1557050400-1557057600@efterladte.dk
SUMMARY:Walk & Talk - Odense
DESCRIPTION:Har du lyst til at gå en tur sammen med andre som har mistet ved selvmord\, og få mulighed for at tale om livet som efterladt efter selvmord?\n  \nSå venter Lis Kaspersen og John Jespersen\, kl. 10.00\, ved pergolaen i Eventyrhaven bagved Odense Domkirke den 1. søndag i måneden. \n  \nFølgende datoer er aftalt: 5. maj\, 2. juni\, 7. juli\, 4. august\, 1. september\, 6. oktober og 3. november 2019. \n  \nVi forventer at turen slutter ca. kl. 12.00. Hvis der er stemning for det\, kan turen afsluttes over en kop kaffe eller andet for egen regning på en af byens cafeer. \nVi går tur uanset hvordan vejret er! \n  \nVi har begge mistet ved selvmord (Lis – ægtefælle\, og John – voksen søn) \n  \nAlle er velkomne! \nDet der bliver talt om er i fortrolighed mellem deltagerne. \n  \nWalk & Talk er et tilbud fra Lokalkreds Fyn\, Landsforeningen for efterladte efter selvmord. www.efterladte.dk \n  \nNærmere oplysninger om Walk & Talk fås hos: \nLis Kaspersen\, tlf.: 61 46 35 11\, mail: liskaspersen45@gmail.com eller \nJohn Jespersen\, tlf.: 25 21 91 09\, mail: John-vita@kalnet.dk
URL:https://efterladte.dk/aktivitet/walk-talk-odensen/
LOCATION:Blomsterpergolaen i Eventyrhaven bag ved Odense Domkirke\, H.C. Andersen Haven\, Odense\, 5000
CATEGORIES:Lokalkreds Fyn,Walk & Talk
ATTACH;FMTTYPE=image/jpeg:https://efterladte.dk/wp-content/uploads/2016/12/Eventyrhaven-1-e1483021559341.jpg
ORGANIZER;CN="Lis Kaspersen / John Jespersen":MAILTO:liskaspersen45@gmail.com; John-vita@kalnet.dk
END:VEVENT
BEGIN:VEVENT
DTSTART;TZID=Europe/Copenhagen:20190505T100000
DTEND;TZID=Europe/Copenhagen:20190505T120000
DTSTAMP:20260422T225707
CREATED:20190323T114742Z
LAST-MODIFIED:20190323T114742Z
UID:4124-1557050400-1557057600@efterladte.dk
SUMMARY:Walk & Talk - Hillerød
DESCRIPTION:Kunne du tænke dig at gå med på en tur ned til Hillerøds Slotspark og få mulighed for at tale om livet som efterladt efter selvmord?\n  \nSå venter Lise Tarkiainen og Helle Fristed kl. 10.00 ved Hillerød station – Vi mødes ude ved TAXI’erne. \nTuren varer et par timer\, og vi at slutter af med at drikke en kop kaffe / the i Frivilligcenter Hillerød\, Fredensgade 12c \nVi går igen følgende søndage: 2. juni \nAlle er velkomne! \nDet der tales om er i fortrolighed mellem deltagerne. \n  \nKontakt: \nLise Tarkiainen\, tlf. 3089 3576 \nHelle Fristed\, tlf. 5091 7489
URL:https://efterladte.dk/aktivitet/walk-talk-hilleroed-21/
LOCATION:Hillerød Station\, Ndr. Jernbanevej 37\, Hillerød\, 3400\, Danmark
CATEGORIES:Walk & Talk
ATTACH;FMTTYPE=image/jpeg:https://efterladte.dk/wp-content/uploads/2016/12/Walk_Talk_Hillerød-e1483021798734.jpg
ORGANIZER;CN="Lise Tarkiainen / Helle Fristed":MAILTO:liseogjohann@os.dk / helle.fristed@live.dk
END:VEVENT
BEGIN:VEVENT
DTSTART;TZID=Europe/Copenhagen:20190509T190000
DTEND;TZID=Europe/Copenhagen:20190509T210000
DTSTAMP:20260422T225707
CREATED:20190313T151421Z
LAST-MODIFIED:20190313T151421Z
UID:4071-1557428400-1557435600@efterladte.dk
SUMMARY:Filmaften - Aalborg
DESCRIPTION:Lokalkreds Nordjylland inviterer til filmaften – Den lukkede dør.\n  \nAftenens program: Filmaften – Den lukkede dør \nI Den lukkede dør\, hvor hhv. en efterladt far til en teenagedreng og en efterladt søster til en midaldrende storebror fortæller om deres tab. Temaerne er bl.a. chok\, skyld\, vrede\, angsten for om selvmord smitter\, at bryde den onde cirkel\, spørgsmålet “hvorfor” – og åbenhed om selvmord\, herunder mødet med andre efterladte.  \nDebat om filmen – Samtale og samvær\, og der er mulighed for at låne bøger fra vores bibliotek\, se bogliste http://efterladte.dk/litteratur/ \nDer serveres kaffe/te og kage. Af hensyn til kaffen vil tilmelding være rart\, men det er ikke en betingelse. \nAlle er velkomne! \n  \n\nTil vore arrangementer møder du andre efterladte.\nDu får mulighed for at tale og dele erfaringer med andre i en lignende situation som dig.\nDu får mulighed for et varmt\, uformelt samvær i et fællesskab\, hvor selvmord ikke er tabu.\nDu er altid velkommen til at tage en ven med\, hvis du har behov for det.\n\n  \nFor yderligere information og tilmelding: \nEllen Bæk \nnordjylland@efterladte.dk \nMobil: 2423 4475
URL:https://efterladte.dk/aktivitet/filmaften-aalborg-2/
LOCATION:De Frivilliges Hus Aalborg\, Hadsundvej 35\, Aalborg\, 9000
CATEGORIES:Film og debat,Lokalkreds Nordjylland
ATTACH;FMTTYPE=image/jpeg:https://efterladte.dk/wp-content/uploads/2016/12/aalborg-vandside.jpg
ORGANIZER;CN="Lokalkreds Nordjylland":MAILTO:nordjylland@efterladte.dk
END:VEVENT
BEGIN:VEVENT
DTSTART;TZID=Europe/Copenhagen:20190519T100000
DTEND;TZID=Europe/Copenhagen:20190519T120000
DTSTAMP:20260422T225707
CREATED:20190330T094602Z
LAST-MODIFIED:20190330T094704Z
UID:4172-1558260000-1558267200@efterladte.dk
SUMMARY:Walk & Talk - Fredericia
DESCRIPTION:Kunne du tænke dig at gå en tur sammen med andre efterladte\, hvor vi kan tale og dele erfaringer med hinanden?\n  \nSå venter Dorte\, Joanna og Karin kl. 10.00 ved Bymuseet\, Jernbanegade 10. \nEr du i bil er der P-pladser\, og det ligger ikke langt fra Banegården. \nVil du hentes på Banegården\, så send en SMS eller indtal besked på mobil: 3045 1045 \n  \nFølgende datoer er aftalt: 19. maj og 16 juni – her aftales dato for næste gang \n  \nVi går tur tæt på/ved volden i Fredericia. – Gåturen sammen giver god mulighed for et varmt\, uformelt samvær i et fællesskab\, hvor selvmord ikke er tabu. \nVi går et par timer. Hvis der er stemning for det\, kan turen afsluttes over en kop kaffe eller andet for egen regning på en af byens cafeer. \nDu må gerne tage en ven med\, hvis du har behov for det. \nDet der tales om er i fortrolighed mellem deltagerne. \n  \n Kontakt:  \nKarin Christiansen\, Mobil: 3045 1045 \nJoanna Guldborg\, Mobil: 2344 6299 \nDorte Søndergaard\, Mobil: 4025 5732
URL:https://efterladte.dk/aktivitet/walk-talk-fredericia-10/
LOCATION:Mødested – Bymuseet\, Jernbanegade 10\, Fredericia\, 7000
CATEGORIES:Landsforeningen,Walk & Talk
ATTACH;FMTTYPE=image/jpeg:https://efterladte.dk/wp-content/uploads/2018/06/Gaatur_1-e1530430418948.jpg
ORGANIZER;CN="Karin Christiansen":MAILTO:christiansenkarin@yahoo.com
END:VEVENT
BEGIN:VEVENT
DTSTART;TZID=Europe/Copenhagen:20190522T183000
DTEND;TZID=Europe/Copenhagen:20190522T203000
DTSTAMP:20260422T225707
CREATED:20190403T140839Z
LAST-MODIFIED:20190403T141136Z
UID:4207-1558549800-1558557000@efterladte.dk
SUMMARY:Walk and talk - Risskov
DESCRIPTION:Lokalkreds Midtjylland/Aarhus inviterer til en ”walk and talk” sammen med sognepræst Pia Elisabeth Pedersen\n  \nVi mødes i Ellevang kirke i Risskov\, hvor vi efter en velkomst og introduktion af Pia Elisabeth Pedersen går en tur i den nærliggende skov. Efterfølgende slutter vi igen af i Ellevang Kirke. \n  \n \nPia Elisabeth Pedersen har været sognepræst i Ellevang Kirke siden 1997. \nPia inviterer også til andre arrangementer\, eksempelvis \nretræteweekend(er) samt pilgrimsvandringer af op til 7 dages varighed. \n  \nVi ser frem til en rigtig god aften med Pia. \n  \nVel mødt og venlig hilsen \nMorten Blirup\nMobil 4025 8221\nE-mail: morten@blirup.nu \n 
URL:https://efterladte.dk/aktivitet/walk-and-talk-risskov/
LOCATION:Ellevang Kirke\, Jellebakken 42\, Risskov\, 8240
CATEGORIES:Lokalkreds Aarhus,Walk & Talk
ATTACH;FMTTYPE=image/jpeg:https://efterladte.dk/wp-content/uploads/2019/04/Skov_maj-e1554300275908.jpg
ORGANIZER;CN="Lokalkreds Midtjylland":MAILTO:morten@blirup.nu
END:VEVENT
BEGIN:VEVENT
DTSTART;TZID=Europe/Copenhagen:20190522T190000
DTEND;TZID=Europe/Copenhagen:20190522T210000
DTSTAMP:20260422T225707
CREATED:20190401T081951Z
LAST-MODIFIED:20190401T082020Z
UID:4194-1558551600-1558558800@efterladte.dk
SUMMARY:Caféaften med tema - Thisted
DESCRIPTION:Lokalkreds Thy inviterer til caféaften med tema\n  \nAftenens tema: ”Er selvmord arveligt? Eller smitter det?”  \n\nOplæg ved Johanne Knigge\nSamtale og samvær\n\n  \nDer serveres kaffe/the med kage og frugt. \nAlle er velkomne! Deltagere i vore arrangementer betaler 30 kr.\, som delvis dækning af vore udgifter. \n  \n\nTil café- og temaaftener møder du andre efterladte.\nDu får mulighed for at tale og dele erfaringer med andre i en lignende situation som dig.\nDu får mulighed for et varmt\, uformelt samvær i et fællesskab\, hvor selvmord ikke er tabu.\nDu er altid velkommen til at tage en ven med\, hvis du har behov for det.\n\n  \nKontaktpersoner for Lokalkreds Thy: \nHanne Tang\, tlf. 22 40 87 84 eller hanne@tang.dk \nJohanne Knigge\, tlf. 60 47 03 73 \nLisbeth og Anders Hornstrup\, tlf. 30 57 04 88
URL:https://efterladte.dk/aktivitet/cafeaften-med-tema-thisted-2/
LOCATION:Frivillig Thy\, Nytorv 8\, Thisted\, 7700
CATEGORIES:Cafémøde,Lokalkreds Thy
ATTACH;FMTTYPE=image/jpeg:https://efterladte.dk/wp-content/uploads/2017/08/Thy_nationalprak-e1501743996649.jpg
ORGANIZER;CN="Lokalkreds Thy":MAILTO:hanne@tang.dk
END:VEVENT
BEGIN:VEVENT
DTSTART;TZID=Europe/Copenhagen:20190523T190000
DTEND;TZID=Europe/Copenhagen:20190523T210000
DTSTAMP:20260422T225707
CREATED:20190403T145506Z
LAST-MODIFIED:20190505T090723Z
UID:4217-1558638000-1558645200@efterladte.dk
SUMMARY:Caféaften - Oplæg med Bent Meier Sørensen - Farum
DESCRIPTION:Lokalkreds Sjælland inviterer til caféaften – aftenens oplægsholder er Bent Meier Sørensen\n  \nAftenens program:   \nOplæg med Bent Meier Sørensen – Sorgen efter selvmord er svær at forlige sig med \n\nLæs Bent Meier Sørensens bidrag til bogen “Når Livet får i sort”: her\nArtikel Kristeligt Dagblad fra 2015 “Bent Meier Sørensens jul var i mange år en ubærlig højtid: her\n\n  \nDebat af om aftenens emne – Samtale og samvær \nDer serveres kaffe/the med kage og frugt. \n  \nAlle er velkomne! Det er gratis at deltage og tilmelding er ikke nødvendig. \n  \n\nTil vore arrangementer møder du andre efterladte.\nDu får mulighed for at tale og dele erfaringer med andre i en lignende situation som dig.\nDu får mulighed for et varmt\, uformelt samvær i et forum\, hvor selvmord ikke er tabu.\nDu er altid velkommen til at tage en ven med\, hvis du har behov for det.\n\n  \n\n\n\nVel mødt og venlig hilsen\n\n\nBestyrelsen – Lokalkreds Sjælland\n\n\nmail: sjaelland@efterladte.dk
URL:https://efterladte.dk/aktivitet/cafeaften-oplaeg-med-bent-meier-soerensen-farum/
LOCATION:Farum Kulturhus\, Stavnsholtvej 3\, Farum\, 3520
CATEGORIES:Foredrag,Lokalkreds Sjælland
ATTACH;FMTTYPE=image/jpeg:https://efterladte.dk/wp-content/uploads/2017/07/Kobenhavn_Tage-1.jpg
ORGANIZER;CN="Lokalkreds Sj%C3%A6lland":MAILTO:sjaelland@efterladte.dk
END:VEVENT
END:VCALENDAR