BEGIN:VCALENDAR
VERSION:2.0
PRODID:-//Efterladte.dk - ECPv6.15.17.1//NONSGML v1.0//EN
CALSCALE:GREGORIAN
METHOD:PUBLISH
X-ORIGINAL-URL:https://efterladte.dk
X-WR-CALDESC:Begivenheder for Efterladte.dk
REFRESH-INTERVAL;VALUE=DURATION:PT1H
X-Robots-Tag:noindex
X-PUBLISHED-TTL:PT1H
BEGIN:VTIMEZONE
TZID:Europe/Copenhagen
BEGIN:DAYLIGHT
TZOFFSETFROM:+0100
TZOFFSETTO:+0200
TZNAME:CEST
DTSTART:20180325T010000
END:DAYLIGHT
BEGIN:STANDARD
TZOFFSETFROM:+0200
TZOFFSETTO:+0100
TZNAME:CET
DTSTART:20181028T010000
END:STANDARD
BEGIN:DAYLIGHT
TZOFFSETFROM:+0100
TZOFFSETTO:+0200
TZNAME:CEST
DTSTART:20190331T010000
END:DAYLIGHT
BEGIN:STANDARD
TZOFFSETFROM:+0200
TZOFFSETTO:+0100
TZNAME:CET
DTSTART:20191027T010000
END:STANDARD
BEGIN:DAYLIGHT
TZOFFSETFROM:+0100
TZOFFSETTO:+0200
TZNAME:CEST
DTSTART:20200329T010000
END:DAYLIGHT
BEGIN:STANDARD
TZOFFSETFROM:+0200
TZOFFSETTO:+0100
TZNAME:CET
DTSTART:20201025T010000
END:STANDARD
END:VTIMEZONE
BEGIN:VEVENT
DTSTART;TZID=Europe/Copenhagen:20190403T190000
DTEND;TZID=Europe/Copenhagen:20190403T210000
DTSTAMP:20260423T003127
CREATED:20181127T154901Z
LAST-MODIFIED:20190402T143332Z
UID:3557-1554318000-1554325200@efterladte.dk
SUMMARY:Caféaften - Ringe - AFLYST!
DESCRIPTION:Lokalkreds Fyn er desværre nødt til at aflyse caféaftenen!\n  \nAftenens program – Samtale og samvær. Vi kan evt. se en film \nAlle er velkomne! Der serveres kaffe/te og kage. \n  \n\nTil caféaftener møder du andre efterladte.\nDu får mulighed for at tale og dele erfaringer med andre i en lignende situation som dig.\nDu får mulighed for et varmt\, uformelt samvær i et forum\, hvor selvmord ikke er tabu.\nDu er altid velkommen til at tage en ven med\, hvis du har behov for det.\n\n  \nNærmere oplysninger om ovenstående fås hos: \nLilli Svendsen\, tlf. 20 45 96 69 eller\nJohn Jespersen\, tlf. 25 21 91 09
URL:https://efterladte.dk/aktivitet/cafeaften-ringe-24/
LOCATION:Frivilligcenter Midtfyn\, Østre Ringvej 39\,\, Ringe\, 5750
CATEGORIES:Cafémøde,Lokalkreds Fyn
ATTACH;FMTTYPE=image/jpeg:https://efterladte.dk/wp-content/uploads/2017/01/Ringe_i_træ-e1760042258686.jpg
ORGANIZER;CN="Lokalkreds Fyn":MAILTO:smedpigen1@hotmail.com
END:VEVENT
BEGIN:VEVENT
DTSTART;TZID=Europe/Copenhagen:20190404T183000
DTEND;TZID=Europe/Copenhagen:20190404T210000
DTSTAMP:20260423T003127
CREATED:20181125T092102Z
LAST-MODIFIED:20190318T153547Z
UID:3534-1554402600-1554411600@efterladte.dk
SUMMARY:Generalforsamling og caféaften med oplæg - Farum
DESCRIPTION:Lokalkreds Sjælland indbyder til generalforsamling og caféaften og oplæg  med Mikkel Frey Damgaard\n  \nProgram for aftenen: \n18.30 Kort generalforsamling – dagsorden efter vedtægterne \n19.30 Oplæg med Mikkel Frey Damgaard ud fra emnet “Arv\, tabu og internalisering af traumet – med udgangspunkt i Mikkels egne oplevelser med sin fars selvmord” \n  \nBestyrelsen består af: Elisabeth Viksbjerg \, Jannie Mortensen\, Thies Kragh Hansen og Jacqueline Fester (suppleant). \nDagsorden for generalforsamlingen er: \n\nValg af dirigent.\nValg af referent.\nValg af to stemmetællere.\nGodkendelse af endelig dagsorden.\nBestyrelsens årsberetning.\nÅrsregnskab til godkendelse.\nGodkendelse af forslag til opdatering af vedtægterne.\nValg til bestyrelse og suppleanter.\nValg af revisor og revisorsuppleant.\nIndkomne forslag.\nEventuelt.\n\n  \nDer serveres kaffe/the med kage og frugt. \nAlle er velkomne! Det er gratis at deltage og tilmelding er ikke nødvendig. \n  \n\nTil caféaftener møder du andre efterladte.\nDu får mulighed for at tale og dele erfaringer med andre i en lignende situation som dig.\nDu får mulighed for et varmt\, uformelt samvær i et forum\, hvor selvmord ikke er tabu.\nDu er altid velkommen til at tage en ven med\, hvis du har behov for det.\n\n  \n\nVel mødt og venlig hilsen\n\n\nBestyrelsen – Lokalkreds Sjælland\n\n\nmail: sjaelland@efterladte.dk\n\n 
URL:https://efterladte.dk/aktivitet/generalforsamling-og-cafeaften-farum/
LOCATION:Farum Kulturhus\, Stavnsholtvej 3\, Farum\, 3520
CATEGORIES:Cafémøde,Foredrag,Generalforsamling,Lokalkreds Sjælland
ATTACH;FMTTYPE=image/jpeg:https://efterladte.dk/wp-content/uploads/2017/07/Mikkel_Frey_Damgaard-e1511212276502.jpg
ORGANIZER;CN="Lokalkreds Sj%C3%A6lland":MAILTO:sjaelland@efterladte.dk
END:VEVENT
BEGIN:VEVENT
DTSTART;TZID=Europe/Copenhagen:20190407T100000
DTEND;TZID=Europe/Copenhagen:20190407T120000
DTSTAMP:20260423T003127
CREATED:20181202T150617Z
LAST-MODIFIED:20190313T165544Z
UID:3597-1554631200-1554638400@efterladte.dk
SUMMARY:Walk & Talk - Odense
DESCRIPTION:Har du lyst til at gå en tur sammen med andre som har mistet ved selvmord\, og få mulighed for at tale om livet som efterladt efter selvmord?\n  \nSå venter Lis Kaspersen og John Jespersen\, kl. 10.00\, ved pergolaen i Eventyrhaven bagved Odense Domkirke den 1. søndag i måneden. \n  \nFølgende datoer er aftalt: 7. april\, 5. maj\, 2. juni\, 7. juli\, 4. august\, 1. september\, 6. oktober og 3. november 2019. \n  \nVi forventer at turen slutter ca. kl. 12.00. Hvis der er stemning for det\, kan turen afsluttes over en kop kaffe eller andet for egen regning på en af byens cafeer. \nVi går tur uanset hvordan vejret er! \n  \nVi har begge mistet ved selvmord (Lis – ægtefælle\, og John – voksen søn) \n  \nAlle er velkomne! \nDet der bliver talt om er i fortrolighed mellem deltagerne. \n  \nWalk & Talk er et tilbud fra Lokalkreds Fyn\, Landsforeningen for efterladte efter selvmord. www.efterladte.dk \n  \nNærmere oplysninger om Walk & Talk fås hos: \nLis Kaspersen\, tlf.: 61 46 35 11\, mail: liskaspersen45@gmail.com eller \nJohn Jespersen\, tlf.: 25 21 91 09\, mail: John-vita@kalnet.dk
URL:https://efterladte.dk/aktivitet/walk-talk-odense-24/
LOCATION:Blomsterpergolaen i Eventyrhaven bag ved Odense Domkirke\, H.C. Andersen Haven\, Odense\, 5000
CATEGORIES:Landsforeningen,Walk & Talk
ATTACH;FMTTYPE=image/jpeg:https://efterladte.dk/wp-content/uploads/2016/12/Eventyrhaven-1-e1483021559341.jpg
ORGANIZER;CN="Lis Kaspersen / John Jespersen":MAILTO:liskaspersen45@gmail.com; John-vita@kalnet.dk
END:VEVENT
BEGIN:VEVENT
DTSTART;TZID=Europe/Copenhagen:20190407T100000
DTEND;TZID=Europe/Copenhagen:20190407T120000
DTSTAMP:20260423T003127
CREATED:20190323T114447Z
LAST-MODIFIED:20190323T114447Z
UID:4122-1554631200-1554638400@efterladte.dk
SUMMARY:Walk & Talk - Hillerød
DESCRIPTION:Kunne du tænke dig at gå med på en tur ned til Hillerøds Slotspark og få mulighed for at tale om livet som efterladt efter selvmord?\n  \nSå venter Lise Tarkiainen og Helle Fristed kl. 10.00 ved Hillerød station – Vi mødes ude ved TAXI’erne. \nTuren varer et par timer\, og vi at slutter af med at drikke en kop kaffe / the i Frivilligcenter Hillerød\, Fredensgade 12c \nVi går igen følgende søndage: 5. maj og 2. juni \nAlle er velkomne! \nDet der tales om er i fortrolighed mellem deltagerne. \n  \nKontakt: \nLise Tarkiainen\, tlf. 3089 3576 \nHelle Fristed\, tlf. 5091 7489
URL:https://efterladte.dk/aktivitet/walk-talk-hilleroed-20/
LOCATION:Hillerød Station\, Ndr. Jernbanevej 37\, Hillerød\, 3400\, Danmark
CATEGORIES:Walk & Talk
ATTACH;FMTTYPE=image/jpeg:https://efterladte.dk/wp-content/uploads/2016/12/Walk_Talk_Hillerød-e1483021798734.jpg
ORGANIZER;CN="Lise Tarkiainen / Helle Fristed":MAILTO:liseogjohann@os.dk / helle.fristed@live.dk
END:VEVENT
BEGIN:VEVENT
DTSTART;TZID=Europe/Copenhagen:20190411T190000
DTEND;TZID=Europe/Copenhagen:20190411T210000
DTSTAMP:20260423T003127
CREATED:20181125T090914Z
LAST-MODIFIED:20190225T145811Z
UID:3532-1555009200-1555016400@efterladte.dk
SUMMARY:Caféaften - Aalborg
DESCRIPTION:Lokalkreds Nordjylland inviterer til caféaften\n  \nAftenens program: Samtale og samvær.  \nDer er mulighed for at låne bøger fra vores bibliotek\, se bogliste http://efterladte.dk/litteratur/ \nDer serveres kaffe/te og kage. Af hensyn til kaffen vil tilmelding være rart\, men det er ikke en betingelse. \nAlle er velkomne! \n  \n\nTil vore arrangementer møder du andre efterladte.\nDu får mulighed for at tale og dele erfaringer med andre i en lignende situation som dig.\nDu får mulighed for et varmt\, uformelt samvær i et fællesskab\, hvor selvmord ikke er tabu.\nDu er altid velkommen til at tage en ven med\, hvis du har behov for det.\n\n  \nFor yderligere information og tilmelding: \nEllen Bæk \nnordjylland@efterladte.dk \nMobil: 2423 4475
URL:https://efterladte.dk/aktivitet/cafeaften-aalborg-12/
LOCATION:De Frivilliges Hus Aalborg\, Hadsundvej 35\, Aalborg\, 9000
CATEGORIES:Cafémøde,Lokalkreds Nordjylland
ATTACH;FMTTYPE=image/jpeg:https://efterladte.dk/wp-content/uploads/2016/12/aalborg-vandside.jpg
ORGANIZER;CN="Lokalkreds Nordjylland":MAILTO:nordjylland@efterladte.dk
END:VEVENT
BEGIN:VEVENT
DTSTART;TZID=Europe/Copenhagen:20190414T100000
DTEND;TZID=Europe/Copenhagen:20190414T120000
DTSTAMP:20260423T003127
CREATED:20181026T133805Z
LAST-MODIFIED:20190330T094126Z
UID:3452-1555236000-1555243200@efterladte.dk
SUMMARY:Walk & Talk - Fredericia
DESCRIPTION:Kunne du tænke dig at gå en tur sammen med andre efterladte\, hvor vi kan tale og dele erfaringer med hinanden?\n  \nSå venter Dorte\, Joanna og Karin kl. 10.00 ved Bymuseet\, Jernbanegade 10. \nEr du i bil er der P-pladser\, og det ligger ikke langt fra Banegården. \nVil du hentes på Banegården\, så send en SMS eller indtal besked på mobil: 3045 1045 \n  \nFølgende datoer er aftalt: 14. april 2019\, 19. maj og 16 juni – her aftales dato for næste gang \n  \nVi går tur tæt på/ved volden i Fredericia. – Gåturen sammen giver god mulighed for et varmt\, uformelt samvær i et fællesskab\, hvor selvmord ikke er tabu. \nVi går et par timer. Hvis der er stemning for det\, kan turen afsluttes over en kop kaffe eller andet for egen regning på en af byens cafeer. \nDu må gerne tage en ven med\, hvis du har behov for det. \nDet der tales om er i fortrolighed mellem deltagerne. \n  \n Kontakt:  \nKarin Christiansen\, Mobil: 3045 1045 \nJoanna Guldborg\, Mobil: 2344 6299 \nDorte Søndergaard\, Mobil: 4025 5732
URL:https://efterladte.dk/aktivitet/walk-talk-fredericia-9/
LOCATION:Mødested – Bymuseet\, Jernbanegade 10\, Fredericia\, 7000
CATEGORIES:Landsforeningen,Walk & Talk
ATTACH;FMTTYPE=image/jpeg:https://efterladte.dk/wp-content/uploads/2018/06/Gaatur_1-e1530430418948.jpg
ORGANIZER;CN="Karin Christiansen":MAILTO:christiansenkarin@yahoo.com
END:VEVENT
BEGIN:VEVENT
DTSTART;TZID=Europe/Copenhagen:20190424T190000
DTEND;TZID=Europe/Copenhagen:20190424T210000
DTSTAMP:20260423T003127
CREATED:20181205T162320Z
LAST-MODIFIED:20190307T152941Z
UID:3639-1556132400-1556139600@efterladte.dk
SUMMARY:Generalforsamling og caféaften - Thisted
DESCRIPTION:Lokalkreds Thy inviterer til generalforsamling og caféaften\n  \nProgram for aftenen: \n\nEn kort generalforsamling\, dagsordenen er efter vedtægterne\nDerefter fortæller Anders Hornstrup om\, hvordan han har oplevet at miste sin 25-årige søn ved selvmord.\n\n  \nBestyrelsen består af: Hanne Tang – Formand\, Johanne Knigge – Næstformand\, Anders Hornstrup – Kasserer. Suppleanter: Lisbeth Hornstrup og Anette Laugesen \nDagsorden for generalforsamlingen er: \n\nValg af dirigent.\nValg af referent.\nValg af to stemmetællere.\nGodkendelse af endelig dagsorden.\nBestyrelsens årsberetning.\nÅrsregnskab til godkendelse.\nGodkendelse af forslag til opdatering af vedtægterne.\nValg til bestyrelse og suppleanter.\nValg af revisor og revisorsuppleant.\nIndkomne forslag.\nEventuelt.\n\n  \nDer serveres kaffe/the med kage og frugt. \nAlle er velkomne! Deltagere i vore arrangementer betaler 30 kr.\, som delvis dækning af vore udgifter. \n  \n\nTil café- og temaaftener møder du andre efterladte.\nDu får mulighed for at tale og dele erfaringer med andre i en lignende situation som dig.\nDu får mulighed for et varmt\, uformelt samvær i et fællesskab\, hvor selvmord ikke er tabu.\nDu er altid velkommen til at tage en ven med\, hvis du har behov for det.\n\n  \nKontaktpersoner for Lokalkreds Thy: \nHanne Tang\, tlf. 22 40 87 84 eller hanne@tang.dk \nJohanne Knigge\, tlf. 60 47 03 73 \nLisbeth og Anders Hornstrup\, tlf. 30 57 04 88
URL:https://efterladte.dk/aktivitet/generalforsamling-og-cafeaften-thisted/
LOCATION:Frivillig Thy\, Nytorv 8\, Thisted\, 7700
CATEGORIES:Cafémøde,Generalforsamling,Lokalkreds Thy
ATTACH;FMTTYPE=image/jpeg:https://efterladte.dk/wp-content/uploads/2017/08/Thy_nationalprak-e1501743996649.jpg
ORGANIZER;CN="Lokalkreds Thy":MAILTO:hanne@tang.dk
END:VEVENT
BEGIN:VEVENT
DTSTART;TZID=Europe/Copenhagen:20190425T190000
DTEND;TZID=Europe/Copenhagen:20190425T210000
DTSTAMP:20260423T003127
CREATED:20181205T171220Z
LAST-MODIFIED:20190326T141457Z
UID:3650-1556218800-1556226000@efterladte.dk
SUMMARY:Caféaften med sparring - Holstebro
DESCRIPTION:Cafegruppen i Holstebro inviterer til caféaften med sparring – psykolog Tove Søgaard Kristiansen deltager som sparringspartner\n  \nAftenens program:  \n\nSamtale og samvær.\nPå det møde deltager psykolog Tove Søgaard Kristiansen som sparringspartner. Det har vi prøvet nogle gange i Thisted\, hvor det har fungeret rigtig godt. Tove har klinik i Nykøbing og bor i Thisted.\n\n  \nDer serveres kaffe/the med kage og frugt. \nAlle er velkomne! \n  \n\nTil vore arrangementer møder du andre efterladte.\nDu får mulighed for at tale og dele erfaringer med andre i en lignende situation som dig.\nDu får mulighed for et varmt\, uformelt samvær i et fællesskab\, hvor selvmord ikke er tabu.\nDu er altid velkommen til at tage en ven med\, hvis du har behov for det.\n\n  \nKontaktperson for cafégruppen i Holstebro: \nHanne Tang \nTlf. 22 40 87 84 eller hanne@tang.dk
URL:https://efterladte.dk/aktivitet/cafemoede-holstebro-3/
LOCATION:Kultur- og Frivillighuset Holstebro\, Nygade 22\, Holstebro\, 7500
CATEGORIES:Cafégruppen i Holstebro,Cafémøde
ATTACH;FMTTYPE=image/jpeg:https://efterladte.dk/wp-content/uploads/2017/06/Holstebro_2-e1496586730175.jpg
ORGANIZER;CN="Holstebro - Tina / Hanne":MAILTO:hanne@tang.dk
END:VEVENT
BEGIN:VEVENT
DTSTART;TZID=Europe/Copenhagen:20190428T100000
DTEND;TZID=Europe/Copenhagen:20190428T120000
DTSTAMP:20260423T003127
CREATED:20190304T182818Z
LAST-MODIFIED:20190304T183633Z
UID:3978-1556445600-1556452800@efterladte.dk
SUMMARY:Walk & Talk - Næstved
DESCRIPTION:Kunne du tænke dig at gå en tur sammen med andre efterladte\, hvor vi kan tale og dele erfaringer med hinanden?\n  \nSå venter Ann\, Dorrit og Ole kl. 10.00 ved Indgangen til Frivilligcenter Næstved\, Farimagsvej 16. \nDet er tæt på stationen\, hvis du er med tog eller bus. \nEr du i bil kan du f.eks. parkere bag SparNord eller på Kvægtorvet ved Kvickly. \n  \nVi går i området ved Rådmandshaven / Herlufsholm. – Gåturen sammen giver god mulighed for et varmt\, uformelt samvær i et fællesskab\, hvor selvmord ikke er tabu. \n  \nFølgende datoer er foreløbig aftalt for 2019:  \nSøndagene den 28. april og den 2. juni.  \n  \nTuren varer ca. halvanden time\, og så kan vi slutte med en kop kaffe / the i Frivilligcenteret. \nSkulle vejret evt. være for dårligt til at gå tur i skoven\, kan vi stadig få den gode samtale i frivilligcentret. – Så kom bare alligevel\, selv om det regner eller blæser. \nDu må gerne tage en ven med\, hvis du har behov for det. \nDet der tales om er i fortrolighed mellem deltagerne. \n  \nKontakt: \nOle Specht Jensen\, Mobil: 6133 6022 \nMail: ole.specht@outlook.dk \nAnn Morgills\, Mobil: 2862 6115 \nDorrit Sørensen\, Mobil:  3064 4260
URL:https://efterladte.dk/aktivitet/walk-talk-naestved-7/
LOCATION:Frivilligcenter Næstved\, Farigmagsvej 16\, Næstved\, 4700
CATEGORIES:Landsforeningen,Walk & Talk
ATTACH;FMTTYPE=image/jpeg:https://efterladte.dk/wp-content/uploads/2018/07/Naesatved_2018-e1530425940178.jpg
ORGANIZER;CN="Landsforeningen - Ole Specht Jensen":MAILTO:ole.specht@outlook.dk
END:VEVENT
END:VCALENDAR