BEGIN:VCALENDAR
VERSION:2.0
PRODID:-//Efterladte.dk - ECPv6.15.17.1//NONSGML v1.0//EN
CALSCALE:GREGORIAN
METHOD:PUBLISH
X-WR-CALNAME:Efterladte.dk
X-ORIGINAL-URL:https://efterladte.dk
X-WR-CALDESC:Begivenheder for Efterladte.dk
REFRESH-INTERVAL;VALUE=DURATION:PT1H
X-Robots-Tag:noindex
X-PUBLISHED-TTL:PT1H
BEGIN:VTIMEZONE
TZID:Europe/Copenhagen
BEGIN:DAYLIGHT
TZOFFSETFROM:+0100
TZOFFSETTO:+0200
TZNAME:CEST
DTSTART:20170326T010000
END:DAYLIGHT
BEGIN:STANDARD
TZOFFSETFROM:+0200
TZOFFSETTO:+0100
TZNAME:CET
DTSTART:20171029T010000
END:STANDARD
BEGIN:DAYLIGHT
TZOFFSETFROM:+0100
TZOFFSETTO:+0200
TZNAME:CEST
DTSTART:20180325T010000
END:DAYLIGHT
BEGIN:STANDARD
TZOFFSETFROM:+0200
TZOFFSETTO:+0100
TZNAME:CET
DTSTART:20181028T010000
END:STANDARD
BEGIN:DAYLIGHT
TZOFFSETFROM:+0100
TZOFFSETTO:+0200
TZNAME:CEST
DTSTART:20190331T010000
END:DAYLIGHT
BEGIN:STANDARD
TZOFFSETFROM:+0200
TZOFFSETTO:+0100
TZNAME:CET
DTSTART:20191027T010000
END:STANDARD
END:VTIMEZONE
BEGIN:VEVENT
DTSTART;TZID=Europe/Copenhagen:20181002T190000
DTEND;TZID=Europe/Copenhagen:20181002T213000
DTSTAMP:20260423T113222
CREATED:20180816T120015Z
LAST-MODIFIED:20180816T123553Z
UID:3165-1538506800-1538515800@efterladte.dk
SUMMARY:BACKSTAGE præsenterer oplæg om det at være efterladt efter selvmord - Nykøbing Mors
DESCRIPTION:BACKSTAGE præsenterer oplæg om det at være efterladt efter selvmord\n  \nKom til et spændende oplæg om det at være efterladt efter selvmord\, hvor Kristina fra foreningen efterladte efter selvmord og Gudbjörg\, som er frivillig i BACKSTAGE\, kommer og fortæller om deres rejse efter at have mistet hhv. deres far og kæreste i en ung alder. \n  \nNår man er efterladt efter selvmord\, står man i en særlig sårbar situation. Det er foreningens erfaring\, at mange efterladte får glæde og hjælp ved at træffe andre i samme situation. Uanset om selvmordet er sket for nylig\, eller man har mistet for mange år siden\, kan man have brug for at vende sine tanker med andre\, som har lignende erfaringer. \n  \nDerfor ønsker vi i BACKSTAGE\, i samarbejde med efterladte efter selvmord\, at tilbyde et oplæg for dig som fagperson\, der har interesse for emnet\, for dig som privatperson\, som synes det kunne være spændende og for dig\, som er pårørende. \n  \nSå kom og hør to gribende historier: \nTirsdag d. 2/10-18 kl. 19 i Hangaren i Frivilligcenter Mors \nDer vil være vand\, kaffe\, kage og frugt til tilhørerne. \n  \nDu/I skal ikke melde jer til\, I kan bare dukke op. Hvis du/I har brug for mere information\, kan BACKSTAGE kontaktes på info@backstagemors.dk og tlf.: 2136 9356. For mere info læs: https://backstagemors.dk/  \n  \nVi glæder os til at se jer! \n  \nMed venlig hilsen \nBACKSTAGE
URL:https://efterladte.dk/aktivitet/backstage-praesenterer-oplaeg-om-det-at-vaere-efterladt-efter-selvmord-nykoebing-mors/
LOCATION:Frivilligcenter Mors\, Støberigården\, Støberivej 7\, Nykøbing Mors\, 7900
CATEGORIES:Landsforeningen,Temamøde
ATTACH;FMTTYPE=image/png:https://efterladte.dk/wp-content/uploads/2018/08/BACKSTAGE-e1534422934414.png
ORGANIZER;CN="Landsforeningen":MAILTO:info@efterladte.dk
END:VEVENT
BEGIN:VEVENT
DTSTART;TZID=Europe/Copenhagen:20181003T190000
DTEND;TZID=Europe/Copenhagen:20181003T210000
DTSTAMP:20260423T113222
CREATED:20180701T162104Z
LAST-MODIFIED:20180705T163340Z
UID:2932-1538593200-1538600400@efterladte.dk
SUMMARY:Foredrag - Om sorgens mange farver - Ringe
DESCRIPTION:Lokalkreds Fyn inviterer til foredragsaften – Om sorgens mange farver\n  \nAftenens foredragsholder er Ole Buhl Nielsen\, Sognepræst ved Brahetrolleborg Kirke \n  \nAlle er velkomne. Der serveres kaffe/te og kage. \n  \n\nTil caféaftener møder du andre efterladte.\nDu får mulighed for at tale og dele erfaringer med andre i en lignende situation som dig.\nDu får mulighed for et varmt\, uformelt samvær i et forum\, hvor selvmord ikke er tabu.\nDu er altid velkommen til at tage en ven med\, hvis du har behov for det.\n\n  \nNærmere oplysninger om ovenstående fås hos: \nLilli Svendsen\, tlf. 20 45 96 69 eller\nJohn Jespersen\, tlf. 25 21 91 09
URL:https://efterladte.dk/aktivitet/foredrag-om-sorgens-mange-farver-ringe/
LOCATION:Frivilligcenter Midtfyn\, Østre Ringvej 39\,\, Ringe\, 5750
CATEGORIES:Foredrag,Lokalkreds Fyn
ATTACH;FMTTYPE=image/jpeg:https://efterladte.dk/wp-content/uploads/2017/01/Ringe_i_træ-e1760042258686.jpg
ORGANIZER;CN="Lokalkreds Fyn":MAILTO:smedpigen1@hotmail.com
END:VEVENT
BEGIN:VEVENT
DTSTART;TZID=Europe/Copenhagen:20181007T100000
DTEND;TZID=Europe/Copenhagen:20181007T120000
DTSTAMP:20260423T113222
CREATED:20180701T062232Z
LAST-MODIFIED:20180827T125536Z
UID:2906-1538906400-1538913600@efterladte.dk
SUMMARY:Walk & Talk - Næstved
DESCRIPTION:Kunne du tænke dig at gå en tur sammen med andre efterladte\, hvor vi kan tale og dele erfaringer med hinanden?\n  \nSå venter Ann & Line Morgills samt Ole Specht Jensen kl. 10.00 ved Indgangen til Frivilligcenter Næstved\, Farimagsvej 16. \nDet er tæt på stationen\, hvis du er med tog eller bus. \nEr du i bil kan du f.eks. parkere bag SparNord eller på Kvægtorvet ved Kvickly. \n  \nVi går i området ved Rådmandshaven / Herlufsholm. – Gåturen sammen giver god mulighed for et varmt\, uformelt samvær i et fællesskab\, hvor selvmord ikke er tabu. \nNæste gang bliver den 4. november kl. 10.00. \n  \nTuren varer ca. halvanden time\, og så kan vi slutte med en kop kaffe / the i Frivilligcenteret. \n  \nDu må gerne tage en ven med\, hvis du har behov for det. \nDet der tales om er i fortrolighed mellem deltagerne. \n  \nKontakt: \nOle Specht Jensen \nMobil: 6133 6022 \nMail: ole.specht@outlook.dk \nAnn Morgills \nMobil: 2862 6115
URL:https://efterladte.dk/aktivitet/walk-talk-naestved-2/
LOCATION:Frivilligcenter Næstved\, Farigmagsvej 16\, Næstved\, 4700
CATEGORIES:Landsforeningen,Walk & Talk
ATTACH;FMTTYPE=image/jpeg:https://efterladte.dk/wp-content/uploads/2018/07/Naesatved_2018-e1530425940178.jpg
ORGANIZER;CN="Landsforeningen - Ole Specht Jensen":MAILTO:ole.specht@outlook.dk
END:VEVENT
BEGIN:VEVENT
DTSTART;TZID=Europe/Copenhagen:20181007T100000
DTEND;TZID=Europe/Copenhagen:20181007T120000
DTSTAMP:20260423T113222
CREATED:20180716T173511Z
LAST-MODIFIED:20180716T173511Z
UID:3069-1538906400-1538913600@efterladte.dk
SUMMARY:Walk & Talk - Odense
DESCRIPTION:Har du lyst til at gå en tur sammen med andre som har mistet ved selvmord\, og få mulighed for at tale om livet som efterladt efter selvmord?\n  \nSå venter Lis Kaspersen og John Jespersen\, kl. 10.00\, ved pergolaen i Eventyrhaven bagved Odense Domkirke på søndagene \n  \n7. oktober \n  \nVi forventer at turen slutter ca. kl. 12.00. Hvis der er stemning for det\, kan turen afsluttes over en kop kaffe eller andet for egen regning på en af byens cafeer. \nVi går tur uanset hvordan vejret er! \n  \nVi har begge mistet ved selvmord (Lis – ægtefælle\, og John – voksen søn) \n  \nAlle er velkomne! \nDet der bliver talt om er i fortrolighed mellem deltagerne. \n  \nWalk & Talk er et tilbud fra Lokalkreds Fyn\, Landsforeningen for efterladte efter selvmord. www.efterladte.dk \n  \nNærmere oplysninger om Walk & Talk fås hos: \nLis Kaspersen\, tlf.: 61 46 35 11\, mail: liskaspersen45@gmail.com eller \nJohn Jespersen\, tlf.: 25 21 91 09\, mail: John-vita@kalnet.dk
URL:https://efterladte.dk/aktivitet/walk-talk-odense-21/
LOCATION:Blomsterpergolaen i Eventyrhaven bag ved Odense Domkirke\, H.C. Andersen Haven\, Odense\, 5000
CATEGORIES:Lokalkreds Fyn,Walk & Talk
ATTACH;FMTTYPE=image/jpeg:https://efterladte.dk/wp-content/uploads/2016/12/Eventyrhaven-1-e1483021559341.jpg
ORGANIZER;CN="Lis Kaspersen / John Jespersen":MAILTO:liskaspersen45@gmail.com; John-vita@kalnet.dk
END:VEVENT
BEGIN:VEVENT
DTSTART;TZID=Europe/Copenhagen:20181009T190000
DTEND;TZID=Europe/Copenhagen:20181009T210000
DTSTAMP:20260423T113222
CREATED:20180829T162647Z
LAST-MODIFIED:20181003T131005Z
UID:3324-1539111600-1539118800@efterladte.dk
SUMMARY:2. temaaften om sorgprocesser - Aarhus
DESCRIPTION:BEMÆRK – Arrangementet holdes i SALEN på 1. sal!\nLokalkreds Midtjylland/Aarhus inviterer til 2 temaaftener om sorgprocesser.\n  \nBegge aftener vil Liselotte Horneman Kragh være indlægsholder. \nLiselotte har arbejdet som sognepræst i Sønderjylland i 7 år og har derefter beskæftiget sig med foredragsvirksomhed\, undervisning\, skribentvirksomhed og freelance programarbejde for DR og samtaler med mennesker i alle tænkelige og utænkelige livssituationer. Yderligere er Liselotte rådgiver i NEFOS. (Netværk for selvmordsramte). \nDu kan deltage på temaaftenerne enten hver for sig eller i sammenhæng. \n\nTemaaften 2 – Sorgen bor i din krop – hvordan kan I følges ad?\nTirsdag den 9. oktober 2018\, kl. 19:00 – 21:00 \nMan kan sagtens lyve for sig selv\, men kroppen lyver ikke.\nDialoger og øvelser i at gå på opdagelse i\, at få kontakt med samt at arbejde med sorgen. \nIndlæg ved Liselotte Hornemann Kragh \n  \nAf hensyn til planlægning af arrangementet\, vil vi meget gerne have tilmelding! \n  \nAlle er velkomne!  \n\nTil vore arrangementer møder du andre efterladte.\nDu får mulighed for at tale og dele erfaringer med andre i en lignende situation som dig.\nDu får mulighed for et varmt\, uformelt samvær i et fællesskab\, hvor selvmord ikke er tabu.\nDu er altid velkommen til at tage en ven med\, hvis du har behov for det.\n\n  \nFor yderligere information og tilmelding: \nMorten Blirup \nMobil 4025 8221 \nE-mail: morten@blirup.nu
URL:https://efterladte.dk/aktivitet/2-temaaften-om-sorgprocesser-aarhus/
LOCATION:Frivilligcenter Aarhus\, Sønder Allé 33\, Aarhus\, 8000
CATEGORIES:Cafémøde,Lokalkreds Aarhus
ATTACH;FMTTYPE=image/jpeg:https://efterladte.dk/wp-content/uploads/2018/08/Liseliotte_Horneman-e1535559378438.jpg
ORGANIZER;CN="Lokalkreds Midtjylland":MAILTO:morten@blirup.nu
END:VEVENT
BEGIN:VEVENT
DTSTART;TZID=Europe/Copenhagen:20181011T190000
DTEND;TZID=Europe/Copenhagen:20181011T210000
DTSTAMP:20260423T113222
CREATED:20180705T160700Z
LAST-MODIFIED:20180705T160700Z
UID:3005-1539284400-1539291600@efterladte.dk
SUMMARY:Caféaften - Aalborg
DESCRIPTION:Lokalkreds Nordjylland inviterer til caféaften\n  \nAftenens program: Samtale og samvær – aftenens tema – Sorgens følelser. \nDer er mulighed for at låne bøger fra vores bibliotek\, se bogliste http://efterladte.dk/litteratur/ \nDer serveres kaffe/te og kage. Af hensyn til kaffen vil tilmelding være rart\, men det er ikke en betingelse. \nAlle er velkomne! \n  \n\nTil vore arrangementer møder du andre efterladte.\nDu får mulighed for at tale og dele erfaringer med andre i en lignende situation som dig.\nDu får mulighed for et varmt\, uformelt samvær i et fællesskab\, hvor selvmord ikke er tabu.\nDu er altid velkommen til at tage en ven med\, hvis du har behov for det.\n\n  \nFor yderligere information og tilmelding: \nEllen Bæk \nnordjylland@efterladte.dk \nMobil: 2423 4475
URL:https://efterladte.dk/aktivitet/cafeaften-aalborg-9/
LOCATION:De Frivilliges Hus Aalborg\, Hadsundvej 35\, Aalborg\, 9000
CATEGORIES:Cafémøde,Lokalkreds Nordjylland
ATTACH;FMTTYPE=image/jpeg:https://efterladte.dk/wp-content/uploads/2016/12/aalborg-vandside.jpg
ORGANIZER;CN="Lokalkreds Nordjylland":MAILTO:nordjylland@efterladte.dk
END:VEVENT
BEGIN:VEVENT
DTSTART;TZID=Europe/Copenhagen:20181014T100000
DTEND;TZID=Europe/Copenhagen:20181014T120000
DTSTAMP:20260423T113222
CREATED:20180701T184538Z
LAST-MODIFIED:20180705T163452Z
UID:2949-1539511200-1539518400@efterladte.dk
SUMMARY:Walk & Talk - Bornholm
DESCRIPTION:Kunne du tænke dig at gå en tur sammen med andre efterladte\, hvor vi kan tale og dele erfaringer med hinanden?\n  \nSå venter Annette og Otto Pedersen kl. 10.00 ved P-pladsen ved Snorrebakken i Rønne \n  \nVi går rundt om søen ved Snorrebakken. – Gåturen sammen giver god mulighed for et varmt\, uformelt samvær i et fællesskab\, hvor selvmord ikke er tabu. \n  \nTuren varer ca. halvanden time. Hvis der er stemning for det\, kan turen afsluttes over en kop kaffe/the. \n  \nDu må gerne tage en ven med\, hvis du har behov for det. \nDet der tales om er i fortrolighed mellem deltagerne. \n  \nKontakt:  \nAnnette og Otto Pedersen \nMobil: 3020 6044 \nMail: martin16annette@gmail.com
URL:https://efterladte.dk/aktivitet/walk-talk-bornholm-3/
LOCATION:P-pladsen ved Snorrebakken\, Rønne\, 3700
CATEGORIES:Landsforeningen,Walk & Talk
ATTACH;FMTTYPE=image/jpeg:https://efterladte.dk/wp-content/uploads/2018/06/Snorrebakken-e1530201562241.jpg
ORGANIZER;CN="Annette og Otto Pedersen":MAILTO:martin16annette@gmail.com
END:VEVENT
BEGIN:VEVENT
DTSTART;TZID=Europe/Copenhagen:20181014T100000
DTEND;TZID=Europe/Copenhagen:20181014T130000
DTSTAMP:20260423T113222
CREATED:20180609T073438Z
LAST-MODIFIED:20180612T114337Z
UID:2823-1539511200-1539522000@efterladte.dk
SUMMARY:Walk & Talk - Hillerød
DESCRIPTION:Kunne du tænke dig at gå med på en tur ned til Hillerøds Slotspark og få mulighed for at tale om livet som efterladt efter selvmord?\n  \nSå venter Lise Tarkiainen og Helle Fristed kl. 10.00 ved Hillerød station – Vi mødes ude ved TAXI’erne. \nTuren varer et par timer\, og vi at slutter af med at drikke en kop kaffe / the i Frivilligcenter Hillerød\, Fredensgade 12c \nVi går igen følgende søndage: 11. november og 9. december \nAlle er velkomne! \nDet der tales om er i fortrolighed mellem deltagerne. \n  \nKontakt: \nLise Tarkiainen\, tlf. 3089 3576 \nHelle Fristed\, tlf. 5091 7489
URL:https://efterladte.dk/aktivitet/walk-talk-hilleroed-18/
LOCATION:Hillerød Station\, Ndr. Jernbanevej 37\, Hillerød\, 3400\, Danmark
CATEGORIES:Lokalkreds Sjælland,Walk & Talk
ATTACH;FMTTYPE=image/jpeg:https://efterladte.dk/wp-content/uploads/2016/12/Walk_Talk_Hillerød-e1483021798734.jpg
ORGANIZER;CN="Lise Tarkiainen / Helle Fristed":MAILTO:liseogjohann@os.dk / helle.fristed@live.dk
END:VEVENT
BEGIN:VEVENT
DTSTART;TZID=Europe/Copenhagen:20181021T100000
DTEND;TZID=Europe/Copenhagen:20181021T120000
DTSTAMP:20260423T113222
CREATED:20180704T131341Z
LAST-MODIFIED:20180801T080258Z
UID:2977-1540116000-1540123200@efterladte.dk
SUMMARY:Walk & Talk - Fredericia
DESCRIPTION:Kunne du tænke dig at gå en tur sammen med andre efterladte\, hvor vi kan tale og dele erfaringer med hinanden?\n  \nSå venter Dorte\, Joanna og Karin kl. 10.00 ved Bymuseet\, Jernbanegade 10. \nEr du i bil er der P-pladser\, og det ligger ikke langt fra Banegården. \nVil du hentes på Banegården\, så send en SMS eller indtal besked på mobil: 3045 1045 \n  \nVi går tur tæt på/ved volden i Fredericia. – Gåturen sammen giver god mulighed for et varmt\, uformelt samvær i et fællesskab\, hvor selvmord ikke er tabu. \n  \nVi går et par timer. Hvis der er stemning for det\, kan turen afsluttes over en kop kaffe eller andet for egen regning på en af byens cafeer. \n  \nDu må gerne tage en ven med\, hvis du har behov for det. \nDet der tales om er i fortrolighed mellem deltagerne. \n  \nKontakt:  \nKarin Christiansen\, Mobil: 3045 1045 \nJoanna Guldborg\, Mobil: 2344 6299 \nDorte Søndergaard\, Mobil: 4025 5732
URL:https://efterladte.dk/aktivitet/walk-talk-fredericia-3/
LOCATION:Mødested – Bymuseet\, Jernbanegade 10\, Fredericia\, 7000
CATEGORIES:Landsforeningen,Walk & Talk
ATTACH;FMTTYPE=image/jpeg:https://efterladte.dk/wp-content/uploads/2018/06/Gaatur_1-e1530430418948.jpg
ORGANIZER;CN="Karin Christiansen":MAILTO:christiansenkarin@yahoo.com
END:VEVENT
BEGIN:VEVENT
DTSTART;TZID=Europe/Copenhagen:20181024T190000
DTEND;TZID=Europe/Copenhagen:20181024T210000
DTSTAMP:20260423T113222
CREATED:20180709T125110Z
LAST-MODIFIED:20180709T125110Z
UID:3040-1540407600-1540414800@efterladte.dk
SUMMARY:Caféaften med sparring - Thisted
DESCRIPTION:Lokalkreds Thy inviterer til caféaften med sparring\n  \nAftenens program – Samtale og samvær. \nPsykolog Tove Søgaard Kristiansen deltager som sparringspartner. \n  \nDer serveres kaffe/the med kage og frugt. \nAlle er velkomne! Deltagere i vore arrangementer betaler 30 kr.\, som delvis dækning af vore udgifter. \n  \n\nTil café- og temaaftener møder du andre efterladte.\nDu får mulighed for at tale og dele erfaringer med andre i en lignende situation som dig.\nDu får mulighed for et varmt\, uformelt samvær i et fællesskab\, hvor selvmord ikke er tabu.\nDu er altid velkommen til at tage en ven med\, hvis du har behov for det.\n\n  \nKontaktpersoner for Lokalkreds Thy: \nHanne Tang\, tlf. 22 40 87 84 eller hanne@tang.dk \nJohanne Knigge\, tlf. 60 47 03 73 \nAnders Hornstrup\, tlf. 30 57 04 90
URL:https://efterladte.dk/aktivitet/cafeaften-med-sparring-thisted/
LOCATION:Frivillig Thy\, Nytorv 8\, Thisted\, 7700
CATEGORIES:Cafémøde,Lokalkreds Thy
ATTACH;FMTTYPE=image/jpeg:https://efterladte.dk/wp-content/uploads/2017/08/Thy_nationalprak-e1501743996649.jpg
ORGANIZER;CN="Lokalkreds Thy":MAILTO:hanne@tang.dk
END:VEVENT
BEGIN:VEVENT
DTSTART;TZID=Europe/Copenhagen:20181025T190000
DTEND;TZID=Europe/Copenhagen:20181025T210000
DTSTAMP:20260423T113222
CREATED:20180826T072928Z
LAST-MODIFIED:20180826T072945Z
UID:3260-1540494000-1540501200@efterladte.dk
SUMMARY:Foredragsaften - Fra krise til Kilimanjaro - Holstebro
DESCRIPTION:Cafegruppen i Holstebro inviterer til fordragsaften \n  \n“Fra krise til Kilimanjaro” ved Carina Lund\, Skive \nSe indslag om Carina Lund fra august 2018 i TVmidtvest: \nhttps://www.tvmidtvest.dk/popup-player?id=173797 \n  \nDer serveres kaffe/the med kage og frugt. \nAlle er velkomne! \n  \n\nTil vore arrangementer møder du andre efterladte.\nDu får mulighed for at tale og dele erfaringer med andre i en lignende situation som dig.\nDu får mulighed for et varmt\, uformelt samvær i et fællesskab\, hvor selvmord ikke er tabu.\nDu er altid velkommen til at tage en ven med\, hvis du har behov for det.\n\n  \nKontaktpersoner for cafégruppen i Holstebro: \nHanne Tang \nTlf. 22 40 87 84 eller hanne@tang.dk
URL:https://efterladte.dk/aktivitet/foredragsaften-fra-krise-til-kilimanjaro-holstebrp/
LOCATION:Kultur- og Frivillighuset Holstebro\, Nygade 22\, Holstebro\, 7500
CATEGORIES:Cafégruppen i Holstebro,Foredrag
ATTACH;FMTTYPE=image/jpeg:https://efterladte.dk/wp-content/uploads/2018/08/Carina_Lund-e1535268198355.jpg
ORGANIZER;CN="Holstebro - Tina / Hanne":MAILTO:hanne@tang.dk
END:VEVENT
BEGIN:VEVENT
DTSTART;TZID=Europe/Copenhagen:20181025T193000
DTEND;TZID=Europe/Copenhagen:20181025T213000
DTSTAMP:20260423T113222
CREATED:20180702T183002Z
LAST-MODIFIED:20180815T180153Z
UID:2953-1540495800-1540503000@efterladte.dk
SUMMARY:Utraditionel syng sammen koncert - Herlev
DESCRIPTION:Lokalkreds Sjælland indbyder i samarbejde med Herlev Frivilligcenter til syng sammen arrangement med Frans Bak og Ane Christensen – “Sange til min mor”\n  \nKom til koncert og få samtidig få en snak om det at miste et menneske\, man holder af og savner. For sange om kærlighed og selvmord – koblet med fællessang og samtale – kan være forløsende\, når man har mistet en pårørende.  \n  \nMusikeren og komponisten Frans Baks mor begik selvmord\, da han var 18 år gammel. \n’Der var ingen begravelse\, og der blev hverken talt om hende eller hendes død efterfølgende. Det var barskt og forfærdeligt. Dengang havde jeg hverken mod til at åbne munden eller stille spørgsmål\,’ husker Frans Bak\, der i dag – i en alder af 60 år – er begyndt at give sorgen og savnet et musikalsk og kreativt udtryk. Han skriver simpelthen sange til den mor\, der forlod ham alt for tidligt. \n’Tankerne\, følelserne og sangene har været inde i mig i alle årene. Så da jeg først gik i gang med at komponere\, blev det en stor forløsning for mig.’\nSammen med psykolog Ane Christensen tager Frans Bak nu rundt og spiller koncerter: Aftener\, der først og fremmest er målrettet mennesker\, der har været i berøring med selvmord. \nI løbet af aftenen vil deltagerne komme til både at lytte til en håndfuld stemningsfulde sange\, som Frans Bak har skrevet om at miste sin mor alt for tidligt til selvmord. Alle er velkomne til at synge eller nynne med. Og få snakket med andre i samme situation. \n’Håbet er\, at vi vil kunne åbne vores sind\, og lade sangen give os vinger. Der vil også være mulighed for bare at lytte og være til stede. For når vi synger sammen\, hører vi sammen\,’ slutter Frans Bak. \nSå velkommen til en aften i eftertænksomhedens tegn; en aften hvor alle er velkomne – og tag gerne en ven med. \n  \nBEMÆRK! Da der er et begrænset antal pladser (ialt 30 pladser) til arrangementet\, er tilmelding nødvendig. \nTilmelding skal ske til Jeanne Blyme\,  Frivilligcenter Herlev på mail: jeanne@frivilligcenterherlev.dk \n  \nOm Frans Bak: \nFrans Bak er en komponist\, de fleste af os har hørt uden egentlig at være klar over det. Enten har vi hørt hans musik i diverse TV serier som f.eks. Nikolaj og Julie eller Forbrydelsen – måske har vi set ”Bullerfnis” eller ”Far\, Mor og Blyp” i TV. De fleste har nok på et tidspunkt hørt ”Danse i Måneskin”\, nogle har set impro-teater med ”Så Hatten Passer”\, andre ’’Zirkus Nemo’’ og mange af os har lagt ører til nogle af de flere hundrede reklamefilm\, han har komponeret. \nAlt sammen musik med en klar og tydelig signatur\, der umiskendeligt tilhører Frans Bak. I de sidste otte år har Frans primært arbejdet som film- og TV-komponist i udlandet\, men nu er han klar med en samling sange\, han kalder for ’Sange til min Mor’. Det er sange\, der er skrevet ud fra nogle meget personlige oplevelser\, om at miste og om at få – og om vigtigheden af nærværet – og om at sangen kan løfte os og give os vinger. \n  \nOm Ane Christensen: \nAne leder snakken undervejs. Hun er krisepsykolog i ’Børnecancerfonden’ og ceremonileder i ’Livsceremonier’. Ane har tidligere arbejdet sammen med Frans og i sommers oplevede hun ’Sange til min Mor’. Med det samme kunne hun se potentialet: ’Sangene er enkle og tydelige. De taler til følelserne og har sådan et smukt budskab. De fortjener at blive hørt af de mange mennesker\, som er berørt af selvmord og sorg\, På den måde kan vi sammen give sorgen et andet udtryk end ord.’ \nSe mere på: https://www.sangetilminmor.dk/ \n  \nVel mødt og venlig hilsen \nBestyrelsen – Lokalkreds Sjælland og Frivilligcenter Herlev
URL:https://efterladte.dk/aktivitet/utraditionel-syng-sammen-koncert-herlev/
LOCATION:Frivilligcenter Herlev\, Herlev Hovedgade 172 (Indkørsel fra J.E. Pitznersvej)\, Herlev\, 2730
CATEGORIES:Cafémøde,Syng sammen koncert
ATTACH;FMTTYPE=image/jpeg:https://efterladte.dk/wp-content/uploads/2018/07/27603357_10156063230803972_4851510592734756864_n-e1530552019688.jpg
ORGANIZER;CN="Lokalkreds Sj%C3%A6lland":MAILTO:sjaelland@efterladte.dk
END:VEVENT
END:VCALENDAR