BEGIN:VCALENDAR
VERSION:2.0
PRODID:-//Efterladte.dk - ECPv6.15.17.1//NONSGML v1.0//EN
CALSCALE:GREGORIAN
METHOD:PUBLISH
X-WR-CALNAME:Efterladte.dk
X-ORIGINAL-URL:https://efterladte.dk
X-WR-CALDESC:Begivenheder for Efterladte.dk
REFRESH-INTERVAL;VALUE=DURATION:PT1H
X-Robots-Tag:noindex
X-PUBLISHED-TTL:PT1H
BEGIN:VTIMEZONE
TZID:Europe/Copenhagen
BEGIN:DAYLIGHT
TZOFFSETFROM:+0100
TZOFFSETTO:+0200
TZNAME:CEST
DTSTART:20170326T010000
END:DAYLIGHT
BEGIN:STANDARD
TZOFFSETFROM:+0200
TZOFFSETTO:+0100
TZNAME:CET
DTSTART:20171029T010000
END:STANDARD
BEGIN:DAYLIGHT
TZOFFSETFROM:+0100
TZOFFSETTO:+0200
TZNAME:CEST
DTSTART:20180325T010000
END:DAYLIGHT
BEGIN:STANDARD
TZOFFSETFROM:+0200
TZOFFSETTO:+0100
TZNAME:CET
DTSTART:20181028T010000
END:STANDARD
BEGIN:DAYLIGHT
TZOFFSETFROM:+0100
TZOFFSETTO:+0200
TZNAME:CEST
DTSTART:20190331T010000
END:DAYLIGHT
BEGIN:STANDARD
TZOFFSETFROM:+0200
TZOFFSETTO:+0100
TZNAME:CET
DTSTART:20191027T010000
END:STANDARD
END:VTIMEZONE
BEGIN:VEVENT
DTSTART;TZID=Europe/Copenhagen:20180801T190000
DTEND;TZID=Europe/Copenhagen:20180801T210000
DTSTAMP:20260423T145843
CREATED:20180405T201820Z
LAST-MODIFIED:20180503T160425Z
UID:2656-1533150000-1533157200@efterladte.dk
SUMMARY:Caféaften - Ringe
DESCRIPTION:Lokalkreds Fyn inviterer til caféaften\n  \nAftenens program – Samtale og samvær. Vi kan evt. se en film \nAlle er velkomne. Der serveres kaffe/te og kage. \n  \n\nTil caféaftener møder du andre efterladte.\nDu får mulighed for at tale og dele erfaringer med andre i en lignende situation som dig.\nDu får mulighed for et varmt\, uformelt samvær i et forum\, hvor selvmord ikke er tabu.\nDu er altid velkommen til at tage en ven med\, hvis du har behov for det.\n\n  \nNærmere oplysninger om ovenstående fås hos: \nLilli Svendsen\, tlf. 20 45 96 69 eller\nJohn Jespersen\, tlf. 25 21 91 09
URL:https://efterladte.dk/aktivitet/cafeaften-ringe-19/
LOCATION:Frivilligcenter Midtfyn\, Østre Ringvej 39\,\, Ringe\, 5750
CATEGORIES:Cafémøde,Lokalkreds Nordjylland
ATTACH;FMTTYPE=image/jpeg:https://efterladte.dk/wp-content/uploads/2017/01/Ringe_i_træ-e1760042258686.jpg
ORGANIZER;CN="Lokalkreds Fyn":MAILTO:smedpigen1@hotmail.com
END:VEVENT
BEGIN:VEVENT
DTSTART;TZID=Europe/Copenhagen:20180805T100000
DTEND;TZID=Europe/Copenhagen:20180805T120000
DTSTAMP:20260423T145843
CREATED:20180411T123116Z
LAST-MODIFIED:20180705T162211Z
UID:2671-1533463200-1533470400@efterladte.dk
SUMMARY:Walk & Talk - Odense
DESCRIPTION:Har du lyst til at gå en tur sammen med andre som har mistet ved selvmord\, og få mulighed for at tale om livet som efterladt efter selvmord?\n  \nSå venter Lis Kaspersen og John Jespersen\, kl. 10.00\, ved pergolaen i Eventyrhaven bagved Odense Domkirke på søndagene \n  \n5. august og 2. september \n  \nVi forventer at turen slutter ca. kl. 12.00. Hvis der er stemning for det\, kan turen afsluttes over en kop kaffe eller andet for egen regning på en af byens cafeer. \nVi går tur uanset hvordan vejret er! \n  \nVi har begge mistet ved selvmord (Lis – ægtefælle\, og John – voksen søn) \n  \nAlle er velkomne! \nDet der bliver talt om er i fortrolighed mellem deltagerne. \n  \nWalk & Talk er et tilbud fra Lokalkreds Fyn\, Landsforeningen for efterladte efter selvmord. www.efterladte.dk \n  \nNærmere oplysninger om Walk & Talk fås hos: \nLis Kaspersen\, tlf.: 61 46 35 11\, mail: liskaspersen45@gmail.com eller \nJohn Jespersen\, tlf.: 25 21 91 09\, mail: John-vita@kalnet.dk
URL:https://efterladte.dk/aktivitet/walk-talk-odense-19/
LOCATION:Blomsterpergolaen i Eventyrhaven bag ved Odense Domkirke\, H.C. Andersen Haven\, Odense\, 5000
CATEGORIES:Lokalkreds Fyn,Walk & Talk
ATTACH;FMTTYPE=image/jpeg:https://efterladte.dk/wp-content/uploads/2016/12/Eventyrhaven-1-e1483021559341.jpg
ORGANIZER;CN="Lis Kaspersen / John Jespersen":MAILTO:liskaspersen45@gmail.com; John-vita@kalnet.dk
END:VEVENT
BEGIN:VEVENT
DTSTART;TZID=Europe/Copenhagen:20180812T100000
DTEND;TZID=Europe/Copenhagen:20180812T120000
DTSTAMP:20260423T145843
CREATED:20180701T180433Z
LAST-MODIFIED:20180705T162257Z
UID:2941-1534068000-1534075200@efterladte.dk
SUMMARY:Walk & Talk - Bornholm
DESCRIPTION:Kunne du tænke dig at gå en tur sammen med andre efterladte\, hvor vi kan tale og dele erfaringer med hinanden?\n  \nSå venter Annette og Otto Pedersen kl. 10.00 ved P-pladsen ved Snorrebakken i Rønne \n  \nVi går rundt om søen ved Snorrebakken. – Gåturen sammen giver god mulighed for et varmt\, uformelt samvær i et fællesskab\, hvor selvmord ikke er tabu. \nDe næste gange er: 16. september og 14. oktober. \n  \nTuren varer ca. halvanden time. Hvis der er stemning for det\, kan turen afsluttes over en kop kaffe/the. \n  \nDu må gerne tage en ven med\, hvis du har behov for det. \nDet der tales om er i fortrolighed mellem deltagerne. \n  \nKontakt:  \nAnnette og Otto Pedersen \nMobil: 3020 6044 \nMail: martin16annette@gmail.com
URL:https://efterladte.dk/aktivitet/walk-talk-bornholm/
LOCATION:P-pladsen ved Snorrebakken\, Rønne\, 3700
CATEGORIES:Landsforeningen,Walk & Talk
ATTACH;FMTTYPE=image/jpeg:https://efterladte.dk/wp-content/uploads/2018/06/Snorrebakken-e1530201562241.jpg
ORGANIZER;CN="Annette og Otto Pedersen":MAILTO:martin16annette@gmail.com
END:VEVENT
BEGIN:VEVENT
DTSTART;TZID=Europe/Copenhagen:20180812T100000
DTEND;TZID=Europe/Copenhagen:20180812T130000
DTSTAMP:20260423T145843
CREATED:20180609T072531Z
LAST-MODIFIED:20180612T114135Z
UID:2817-1534068000-1534078800@efterladte.dk
SUMMARY:Walk & Talk - Hillerød
DESCRIPTION:Kunne du tænke dig at gå med på en tur ned til Hillerøds Slotspark og få mulighed for at tale om livet som efterladt efter selvmord?\n  \nSå venter Lise Tarkiainen og Helle Fristed kl. 10.00 ved Hillerød station – Vi mødes ude ved TAXI’erne. \nTuren varer et par timer\, og vi at slutter af med at drikke en kop kaffe / the i Frivilligcenter Hillerød\, Fredensgade 12c \nVi går igen følgende søndage: 9. september\, 14. oktober\, 11. november og 9. december \nAlle er velkomne! \nDet der tales om er i fortrolighed mellem deltagerne. \n  \nKontakt: \nLise Tarkiainen\, tlf. 3089 3576 \nHelle Fristed\, tlf. 5091 7489
URL:https://efterladte.dk/aktivitet/walk-talk-hilleroed-15/
LOCATION:Hillerød Station\, Ndr. Jernbanevej 37\, Hillerød\, 3400\, Danmark
CATEGORIES:Lokalkreds Sjælland,Walk & Talk
ATTACH;FMTTYPE=image/jpeg:https://efterladte.dk/wp-content/uploads/2016/12/Walk_Talk_Hillerød-e1483021798734.jpg
ORGANIZER;CN="Lise Tarkiainen / Helle Fristed":MAILTO:liseogjohann@os.dk / helle.fristed@live.dk
END:VEVENT
BEGIN:VEVENT
DTSTART;TZID=Europe/Copenhagen:20180819T100000
DTEND;TZID=Europe/Copenhagen:20180819T120000
DTSTAMP:20260423T145843
CREATED:20180701T073227Z
LAST-MODIFIED:20180801T080100Z
UID:2917-1534672800-1534680000@efterladte.dk
SUMMARY:Walk & Talk - Fredericia
DESCRIPTION:Kunne du tænke dig at gå en tur sammen med andre efterladte\, hvor vi kan tale og dele erfaringer med hinanden?\n  \nSå venter Dorte\, Joanna og Karin kl. 10.00 ved Bymuseet\, Jernbanegade 10. \nEr du i bil er der P-pladser\, og det ligger ikke langt fra Banegården. \nVil du hentes på Banegården\, så send en SMS eller indtal besked på mobil: 3045 1045 \n  \nVi går tur tæt på/ved volden i Fredericia. – Gåturen sammen giver god mulighed for et varmt\, uformelt samvær i et fællesskab\, hvor selvmord ikke er tabu. \nDe næste gange er: 16. september og 21. oktober. \n  \nVi går et par timer. Hvis der er stemning for det\, kan turen afsluttes over en kop kaffe eller andet for egen regning på en af byens cafeer. \n  \nDu må gerne tage en ven med\, hvis du har behov for det. \nDet der tales om er i fortrolighed mellem deltagerne. \n  \nKontakt:  \nKarin Christiansen\, Mobil: 3045 1045 \nJoanna Guldborg\, Mobil: 2344 6299 \nDorte Søndergaard\, Mobil: 4025 5732
URL:https://efterladte.dk/aktivitet/walk-talk-fredericia/
LOCATION:Mødested – Bymuseet\, Jernbanegade 10\, Fredericia\, 7000
CATEGORIES:Landsforeningen,Walk & Talk
ATTACH;FMTTYPE=image/jpeg:https://efterladte.dk/wp-content/uploads/2018/06/Gaatur_1-e1530430418948.jpg
ORGANIZER;CN="Karin Christiansen":MAILTO:christiansenkarin@yahoo.com
END:VEVENT
BEGIN:VEVENT
DTSTART;TZID=Europe/Copenhagen:20180819T130000
DTEND;TZID=Europe/Copenhagen:20180819T150000
DTSTAMP:20260423T145843
CREATED:20180418T122414Z
LAST-MODIFIED:20180418T122414Z
UID:2728-1534683600-1534690800@efterladte.dk
SUMMARY:Walk & Talk - Thisted
DESCRIPTION:Johanne Knigge inviterer på Walk & Talk i Eshøj Plantage\, kl. 13.00 – ca. 15.00\n  \nMødested: Nytorv v. indgangen til Frivillig Thy. Herfra køres i bil til Eshøj. \n  \n\n Til vore arrangementer møder du andre efterladte.\nDu får mulighed for at tale og dele erfaringer med andre i en lignende situation som dig.\nDu får mulighed for et varmt\, uformelt samvær i et fællesskab\, hvor selvmord ikke er tabu.\nDu er altid velkommen til at tage en ven med\, hvis du har behov for det.\n\n  \nKontaktperson: \nJohanne Knigge\, Tlf. 60 47 03 73
URL:https://efterladte.dk/aktivitet/walk-talk-thisted-6/
LOCATION:Frivillig Thy\, Nytorv 8\, Thisted\, 7700
CATEGORIES:Lokalkreds Thy,Walk & Talk
ATTACH;FMTTYPE=image/jpeg:https://efterladte.dk/wp-content/uploads/2017/04/Skov-e1491923322329.jpg
END:VEVENT
BEGIN:VEVENT
DTSTART;TZID=Europe/Copenhagen:20180826T100000
DTEND;TZID=Europe/Copenhagen:20180826T120000
DTSTAMP:20260423T145843
CREATED:20180701T061943Z
LAST-MODIFIED:20180705T162513Z
UID:2901-1535277600-1535284800@efterladte.dk
SUMMARY:Walk & Talk - Næstved
DESCRIPTION:Kunne du tænke dig at gå en tur sammen med andre efterladte\, hvor vi kan tale og dele erfaringer med hinanden?\n  \nSå venter Ann & Line Morgills samt Ole Specht Jensen kl. 10.00 ved Indgangen til Frivilligcenter Næstved\, Farimagsvej 16. \nDet er tæt på stationen\, hvis du er med tog eller bus. \nEr du i bil kan du f.eks. parkere bag SparNord eller på Kvægtorvet ved Kvickly. \n  \nVi går i området ved Rådmandshaven / Herlufsholm. – Gåturen sammen giver god mulighed for et varmt\, uformelt samvær i et fællesskab\, hvor selvmord ikke er tabu. \nNæste gang bliver den 7. oktober kl. 10.00 \n  \nTuren varer ca. halvanden time\, og så kan vi slutte med en kop kaffe / the i Frivilligcenteret. \n  \nDu må gerne tage en ven med\, hvis du har behov for det. \nDet der tales om er i fortrolighed mellem deltagerne. \n  \nKontakt: \nOle Specht Jensen \nMobil: 6133 6022 \nMail: ole.specht@outlook.dk \nAnn Morgills \nMobil: 2862 6115
URL:https://efterladte.dk/aktivitet/walk-talk-naestved/
LOCATION:Frivilligcenter Næstved\, Farigmagsvej 16\, Næstved\, 4700
CATEGORIES:Landsforeningen,Walk & Talk
ATTACH;FMTTYPE=image/jpeg:https://efterladte.dk/wp-content/uploads/2018/07/Naesatved_2018-e1530425940178.jpg
ORGANIZER;CN="Landsforeningen - Ole Specht Jensen":MAILTO:ole.specht@outlook.dk
END:VEVENT
END:VCALENDAR