BEGIN:VCALENDAR
VERSION:2.0
PRODID:-//Efterladte.dk - ECPv6.15.17.1//NONSGML v1.0//EN
CALSCALE:GREGORIAN
METHOD:PUBLISH
X-ORIGINAL-URL:https://efterladte.dk
X-WR-CALDESC:Begivenheder for Efterladte.dk
REFRESH-INTERVAL;VALUE=DURATION:PT1H
X-Robots-Tag:noindex
X-PUBLISHED-TTL:PT1H
BEGIN:VTIMEZONE
TZID:Europe/Copenhagen
BEGIN:DAYLIGHT
TZOFFSETFROM:+0100
TZOFFSETTO:+0200
TZNAME:CEST
DTSTART:20240331T010000
END:DAYLIGHT
BEGIN:STANDARD
TZOFFSETFROM:+0200
TZOFFSETTO:+0100
TZNAME:CET
DTSTART:20241027T010000
END:STANDARD
BEGIN:DAYLIGHT
TZOFFSETFROM:+0100
TZOFFSETTO:+0200
TZNAME:CEST
DTSTART:20250330T010000
END:DAYLIGHT
BEGIN:STANDARD
TZOFFSETFROM:+0200
TZOFFSETTO:+0100
TZNAME:CET
DTSTART:20251026T010000
END:STANDARD
BEGIN:DAYLIGHT
TZOFFSETFROM:+0100
TZOFFSETTO:+0200
TZNAME:CEST
DTSTART:20260329T010000
END:DAYLIGHT
BEGIN:STANDARD
TZOFFSETFROM:+0200
TZOFFSETTO:+0100
TZNAME:CET
DTSTART:20261025T010000
END:STANDARD
END:VTIMEZONE
BEGIN:VEVENT
DTSTART;TZID=Europe/Copenhagen:20250504T103000
DTEND;TZID=Europe/Copenhagen:20250504T153000
DTSTAMP:20260422T111051
CREATED:20250415T104749Z
LAST-MODIFIED:20250423T072759Z
UID:15953-1746354600-1746372600@efterladte.dk
SUMMARY:Ungesøndage – Et fællesskab for unge efterladte – Aarhus
DESCRIPTION:TrygFonden har doneret penge til Landsforeningen for efterladte efter selvmord\, hvilket muliggør\, at der kan tilbydes forløb for unge efterladte efter selvmord i alderen fra 16-25 år i København\, Odense\, Aarhus og Aalborg. Konkret er der planlagt fire forløb á fire søndage i hver af de fire byer i 2025. \nMål med Projektet \n\nAt deltagerne kan åbne for egne svære følelser og dele erfaringer om selvmord med andre.\nAt deltagerne får viden\, som giver dem indsigt i og forståelse for deres egne reaktioner.\nAt deltagerne føler sig som en del af et fællesskab og tager hjem med en følelse af hjælp til at mestre og tage ansvar for egen heling.\nAt de unge skaber netværk\, som rækker ud over mødet med andre efterladte på temasøndagene.\n\n  \n \nUngesøndage i Aarhus – Et fællesskab for unge efterladte \nDet kan være meget ensomt at miste pårørende ved selvmord\, og ofte er der ikke andre jævnaldrende\, der har oplevet noget sammenligneligt. Med dette tiltag vil foreningen samle unge\, som både får hjælp til at sætte ord på deres følelser og får mulighed for at danne relationer til hinanden. \nPsykoterapeut Pia Engstrøm vil guide deltagerne til bedre at forstå deres sorg gennem oplæg om sorgteori\, gruppesnakke og individuelle opgaver. Forløbet strækker sig over 4 søndage fra klokken 10.30 til 15.30 på følgende datoer: \n\n30. marts 2025\n4. maj 2025\n28. september 2025\n16. november 2025\n\nFor aldersgruppen 16 – ca. 25 år. Forløbet er gratis og organiseres af frivillige\, der selv har mistet ved selvmord. De sørger for\, at der er et trygt og hyggeligt miljø samt passende forplejning. \nDe fire søndage udgør et samlet forløb\, men det er muligt at deltage i enkelte af dem\, hvis det passer bedre ind i ens kalendere. Foreningen opfordrer dog til deltagelse i alle fire søndage\, da dette giver bedst mulighed for\, at deltagerne kan lære hinanden at kende og drage mest muligt udbytte af forløbet. \nSelvom du ikke var med første gang\, kan du sagtens nå at komme med i forløbet. Der er tilmelding til de enkelte søndage. \nArrangementet aflyses ved færre end fem tilmeldinger. Det er derfor vigtigt\, at interesserede melder sig til i god tid for at sikre gennemførelsen af forløbet. \nHUSK tilmelding via NemTilmeld senest 27. april kl. 18.00:   https://efterladte.nemtilmeld.dk/485/ \nVed tilmelding bedes du oplyse: Din alder\, Hvem du har mistet\, Hvornår det er sket? \nSted: Frivilligcenter Århus\, Sønder Allé 33\, 8000 Aarhus C. Indgang fra P-plads\, der vil altid være en ved døren for at tage imod. \n  \nVel mødt og venlig hilsen \nLandsforeningen for efterladte efter selvmord \nEllen Bæk\, mobil: 2423 4475\, mail: info@efterladte.dk – for evt. spørgsmål om forløbet.
URL:https://efterladte.dk/aktivitet/ungesoendage-et-faellesskab-for-unge-efterladte-aarhus-2/
LOCATION:Frivilligcenter Aarhus\, Sønder Allé 33\, Aarhus\, 8000
CATEGORIES:Landsforeningen,Ungesøndag
ATTACH;FMTTYPE=image/jpeg:https://efterladte.dk/wp-content/uploads/2023/07/Unge-moedes_2-e1688903389333.jpg
ORGANIZER;CN="Landsforeningen":MAILTO:info@efterladte.dk
END:VEVENT
BEGIN:VEVENT
DTSTART;TZID=Europe/Copenhagen:20250504T113000
DTEND;TZID=Europe/Copenhagen:20250504T153000
DTSTAMP:20260422T111051
CREATED:20250415T083122Z
LAST-MODIFIED:20250423T073013Z
UID:15935-1746358200-1746372600@efterladte.dk
SUMMARY:Ungesøndage - Et fællesskab for unge efterladte - Aalborg
DESCRIPTION:TrygFonden har doneret penge til Landsforeningen for efterladte efter selvmord\, hvilket muliggør\, at der kan tilbydes forløb for unge efterladte efter selvmord i alderen fra 16-25 år i København\, Odense\, Aarhus og Aalborg. Konkret er der planlagt fire forløb á fire søndage i hver af de fire byer i 2025. \nMål med Projektet \n\nAt deltagerne kan åbne for egne svære følelser og dele erfaringer om selvmord med andre.\nAt deltagerne får viden\, som giver dem indsigt i og forståelse for deres egne reaktioner.\nAt deltagerne føler sig som en del af et fællesskab og tager hjem med en følelse af hjælp til at mestre og tage ansvar for egen heling.\nAt de unge skaber netværk\, som rækker ud over mødet med andre efterladte på temasøndagene.\n\n  \n \nUngesøndage i Aalborg – Et fællesskab for unge efterladte \nDet kan være meget ensomt at miste pårørende ved selvmord\, og ofte er der ikke andre jævnaldrende\, der har oplevet noget sammenligneligt. Med dette tiltag vil foreningen samle unge\, som både får hjælp til at sætte ord på deres følelser og får mulighed for at danne relationer til hinanden. \nPsykoterapeut Jannie Didia vil guide deltagerne til bedre at forstå deres sorg gennem oplæg om sorgteori\, gruppesnakke\, individuelle opgaver og forskellige aktiviteter. Forløbet strækker sig over 4 søndage fra klokken 11.30 til ca. 15.30 på følgende datoer er aftalt: \n\n6. april 2025\n4. maj 2025\n21. september 2025\n26. oktober 2025\n\nFor aldersgruppen 16 – ca. 25 år. Forløbet er gratis og organiseres af frivillige\, der selv har mistet ved selvmord. De sørger for\, at der er et trygt og hyggeligt miljø samt passende forplejning. \nDe fire søndage udgør et samlet forløb\, men det er muligt at deltage i enkelte af dem\, hvis det passer bedre ind i ens kalendere. Foreningen opfordrer dog til deltagelse i alle fire søndage\, da dette giver bedst mulighed for\, at deltagerne kan lære hinanden at kende og drage mest muligt udbytte af forløbet. \nSelvom du ikke var med første gang\, kan du sagtens nå at komme med i forløbet. Der er tilmelding til de enkelte søndage. \nArrangementet aflyses ved færre end fem tilmeldinger. Det er derfor vigtigt\, at interesserede melder sig til i god tid for at sikre gennemførelsen af forløbet. \nHUSK tilmelding via NemTilmeld senest 27. april kl. 18.00:    https://efterladte.nemtilmeld.dk/482/ \nVed tilmelding bedes du oplyse: Din alder\, Hvem du har mistet\, Hvornår det er sket. \nSted: De Frivilliges Hus\, Hadsundvej 35\, 9000 Aalborg. Vi skal være i et mødelokale på 1. sal (der er elevator) \nVel mødt og venlig hilsen \nLandsforeningen for efterladte efter selvmord \nEllen Bæk\, mobil: 2423 4475\, mail: info@efterladte.dk – for evt. spørgsmål om forløbet.
URL:https://efterladte.dk/aktivitet/ungesoendage-et-faellesskab-for-unge-efterladte-aalborg-2/
LOCATION:De Frivilliges Hus Aalborg\, Hadsundvej 35\, Aalborg\, 9000
CATEGORIES:Landsforeningen,Ungesøndag
ATTACH;FMTTYPE=image/jpeg:https://efterladte.dk/wp-content/uploads/2023/07/Unge-moedes_2-e1688903389333.jpg
ORGANIZER;CN="Landsforeningen":MAILTO:info@efterladte.dk
END:VEVENT
BEGIN:VEVENT
DTSTART;TZID=Europe/Copenhagen:20250511T103000
DTEND;TZID=Europe/Copenhagen:20250511T153000
DTSTAMP:20260422T111051
CREATED:20250415T120144Z
LAST-MODIFIED:20250502T144623Z
UID:15976-1746959400-1746977400@efterladte.dk
SUMMARY:Ungesøndage – Et fællesskab for unge efterladte – Ringe - AFLYST
DESCRIPTION:Arrangement aflyst\nManglende tilmeldinger \nDet er med beklagelse\, at vi må meddele\, at arrangementet er blevet aflyst på grund af manglende tilmeldinger. Vi arbejder dog flittigt på at planlægge nye datoer for Ungesøndage i efteråret\, hvor vi håber på at se flere interesserede deltagere. \nHold øje med vores kommende annonceringer\, da vi snart vil offentliggøre de nye datoer. Vi ser frem til at byde jer velkommen til inspirerende og engagerende møder i efteråret. \n  \n\nTrygFonden har doneret penge til Landsforeningen for efterladte efter selvmord\, hvilket muliggør\, at der kan tilbydes forløb for unge efterladte efter selvmord i alderen fra 16-25 år i København\, Odense\, Aarhus og Aalborg. Konkret er der planlagt fire forløb á fire søndage i hver af de fire byer i 2025. \nPå Fyn er det er besluttet at flytte Ungesøndage til Ringe\, der er mulighed for fællestransport fra Odense. \nMål med Projektet \n\nAt deltagerne kan åbne for egne svære følelser og dele erfaringer om selvmord med andre.\nAt deltagerne får viden\, som giver dem indsigt i og forståelse for deres egne reaktioner.\nAt deltagerne føler sig som en del af et fællesskab og tager hjem med en følelse af hjælp til at mestre og tage ansvar for egen heling.\nAt de unge skaber netværk\, som rækker ud over mødet med andre efterladte på temasøndagene.\n\n  \n \nUngesøndage i Ringe – Et fællesskab for unge efterladte \nDet kan være meget ensomt at miste pårørende ved selvmord\, og ofte er der ikke andre jævnaldrende\, der har oplevet noget sammenligneligt. Med dette tiltag vil foreningen samle unge\, som både får hjælp til at sætte ord på deres følelser og får mulighed for at danne relationer til hinanden. \nPsykolog Louise Schmidt Seholt vil guide deltagerne til bedre at forstå deres sorg gennem oplæg om sorgteori\, gruppesnakke og individuelle opgaver. Forløbet strækker sig over 4 søndage fra klokken 10.30 til 15.30 på følgende datoer er aftalt for foråret: \n\n30. marts 2025\n11. maj 2025\n\nDatoer for efteråret planlægges sammen med deltagerne. \nFor aldersgruppen 16 – ca. 25 år. Forløbet er gratis og organiseres af frivillige\, der selv har mistet ved selvmord. De sørger for\, at der er et trygt og hyggeligt miljø samt passende forplejning. \nDe fire søndage udgør et samlet forløb\, men det er muligt at deltage i enkelte af dem\, hvis det passer bedre ind i ens kalendere. Foreningen opfordrer dog til deltagelse i alle fire søndage\, da dette giver bedst mulighed for\, at deltagerne kan lære hinanden at kende og drage mest muligt udbytte af forløbet. \nSelvom du ikke var med første gang\, kan du sagtens nå at komme med i forløbet. Der er tilmelding til de enkelte søndage. \nArrangementet aflyses ved færre end fem tilmeldinger. Det er derfor vigtigt\, at interesserede melder sig til i god tid for at sikre gennemførelsen af forløbet. \nHUSK tilmelding via NemTilmeld senest 4. maj kl. 18.00:   https://efterladte.nemtilmeld.dk/488/ \nVed tilmelding bedes du oplyse: Din alder\, Hvem du har mistet\, Hvornår det er sket. \nSted: Foreningshuset Guldhøj\, Floravej 11\, 5750 Ringe. Der vil altid være en ved døren for at tage imod. Der er mulighed for fællestransport fra Odense\, hvis du ønsker det. \n  \nVel mødt og venlig hilsen \nLandsforeningen for efterladte efter selvmord \nEllen Bæk\, mobil: 2423 4475\, mail: info@efterladte.dk – for evt. spørgsmål om forløbet.
URL:https://efterladte.dk/aktivitet/ungesoendage-et-faellesskab-for-unge-efterladte-ringe/
CATEGORIES:Landsforeningen,Ungesøndag
ATTACH;FMTTYPE=image/jpeg:https://efterladte.dk/wp-content/uploads/2023/07/Unge-moedes_2-e1688903389333.jpg
ORGANIZER;CN="Landsforeningen":MAILTO:info@efterladte.dk
END:VEVENT
END:VCALENDAR