BEGIN:VCALENDAR
VERSION:2.0
PRODID:-//Efterladte.dk - ECPv6.15.17.1//NONSGML v1.0//EN
CALSCALE:GREGORIAN
METHOD:PUBLISH
X-ORIGINAL-URL:https://efterladte.dk
X-WR-CALDESC:Begivenheder for Efterladte.dk
REFRESH-INTERVAL;VALUE=DURATION:PT1H
X-Robots-Tag:noindex
X-PUBLISHED-TTL:PT1H
BEGIN:VTIMEZONE
TZID:Europe/Copenhagen
BEGIN:DAYLIGHT
TZOFFSETFROM:+0100
TZOFFSETTO:+0200
TZNAME:CEST
DTSTART:20210328T010000
END:DAYLIGHT
BEGIN:STANDARD
TZOFFSETFROM:+0200
TZOFFSETTO:+0100
TZNAME:CET
DTSTART:20211031T010000
END:STANDARD
BEGIN:DAYLIGHT
TZOFFSETFROM:+0100
TZOFFSETTO:+0200
TZNAME:CEST
DTSTART:20220327T010000
END:DAYLIGHT
BEGIN:STANDARD
TZOFFSETFROM:+0200
TZOFFSETTO:+0100
TZNAME:CET
DTSTART:20221030T010000
END:STANDARD
BEGIN:DAYLIGHT
TZOFFSETFROM:+0100
TZOFFSETTO:+0200
TZNAME:CEST
DTSTART:20230326T010000
END:DAYLIGHT
BEGIN:STANDARD
TZOFFSETFROM:+0200
TZOFFSETTO:+0100
TZNAME:CET
DTSTART:20231029T010000
END:STANDARD
END:VTIMEZONE
BEGIN:VEVENT
DTSTART;TZID=Europe/Copenhagen:20221007T180000
DTEND;TZID=Europe/Copenhagen:20221009T150000
DTSTAMP:20260423T055819
CREATED:20220723T090519Z
LAST-MODIFIED:20220803T103833Z
UID:9976-1665165600-1665327600@efterladte.dk
SUMMARY:Weekendseminar for unge 2.0 - for unge\, som tidligere har deltaget i et ungeseminar
DESCRIPTION:Med støtte fra Det Obelske Familiefond inviterer vi til et weekendseminar for unge\, som tidligere har deltaget i et af vore seminarer for unge\, som har mistet pårørende ved selvmord. \n  \nTid: Fredag 7. oktober\, kl. 18.00 – søndag 9. oktober\, kl. 15.00. \nSted: DUI – Leg og Virke\, Aktivitetscenter Peter Sabroes Minde\, Ørneredevej 23\, 8270 Højbjerg \n  \nSeminaret tilrettelægges og ledes af psykolog Louise Møller Schmidt\, frivillig Kristina Rasmussen\, samt friluftsvejleder Niels Kristian Kristensen. \nProgrammet vil indeholde noget kendt og noget nyt. Der vil ved udarbejdelse af program blive taget hensyn til deltagernes ønsker og forudsætninger. \nWeekendseminar for unge 2.0 er et nyt tiltag\, som iværksættes på baggrund af  evalueringer fra tidligere ungeseminarer\, hvor der har været et gennemgående ønske om netværk. Dels et ønske om at ses igen\, men også det at få et fælles netværk med andre unge efterladte efter selvmord. Derfor har vi søgt midler til at gennemføre et seminar for tidligere deltagere. Vi håber på god tilslutning. \n  \nKristina fortæller: “Programmet vil tage udgangspunkt i weekendens deltagere – Vi skal rystes lidt sammen på tværs – der vil være både kendte som ukendte ansigter. Weekenden vil bestå at noget fagligt om reaktioner ved selvmord\, forskellige aktiviteter i det fri – men mest af skal der være tid til at være sammen med hinanden – snakke\, dele vore historier\, græde og grine. \nSå skynd jer at melde jer til\,  så vi – kan lave et program\, som danner rammen for at vi får en skøn og givende weekend sammen. \nVi håber på stor deltagelse og glæder os til jer!” \nLæs mere i nyhedsbrevet side 5 – 8: Nyhedsbrev august 2022 \n  \nPraktisk info: \nUngeseminaret er med støtte fra: \n \n  \nTilmelding og evt. spørgsmål vedr. ungeseminaret sker til Ellen Bæk på mail: \ninfo@efterladte.dk eller mobil nr.: 2423 4475. Skriv gerne lidt om dine forventninger for weekenden. \nTilmelding: Gerne snarest og senest 20. august 2022. \n  \n  \nPris: Deltagerbetaling 450\,- kr. for medlemmer og 700\,- kr. for ikke medlemmer. Deltagergebyret dækker ophold og forplejning\, mens transport er for egen regning. \n  \nNår vi har bekræftet din tilmelding\, indbetales deltagergebyret til foreningens konto: \nReg.: 1551 konto: 4364059612 eller MobilePay 77809.  \n  \nI god tid inden seminaret udsendes mail med deltagerliste\, endeligt program samt yderligere information om weekenden. \n  \nVenlig hilsen \nLandsbestyrelsen
URL:https://efterladte.dk/aktivitet/weekendseminar-for-unge-2-0-for-unge-som-tidligere-har-deltaget-i-et-ungeseminar/
LOCATION:DUI – Leg og Virke\, Aktivitetscenter Peter Sabroes Minde\, Ørneredevej 23\, Højbjerg\, 8270
CATEGORIES:Landsforeningen,Seminar
ATTACH;FMTTYPE=image/jpeg:https://efterladte.dk/wp-content/uploads/2022/07/Peter-Sabroes-Minde.jpg
ORGANIZER;CN="Landsforeningen":MAILTO:info@efterladte.dk
END:VEVENT
END:VCALENDAR