BEGIN:VCALENDAR
VERSION:2.0
PRODID:-//Efterladte.dk - ECPv6.15.17.1//NONSGML v1.0//EN
CALSCALE:GREGORIAN
METHOD:PUBLISH
X-WR-CALNAME:Efterladte.dk
X-ORIGINAL-URL:https://efterladte.dk
X-WR-CALDESC:Begivenheder for Efterladte.dk
REFRESH-INTERVAL;VALUE=DURATION:PT1H
X-Robots-Tag:noindex
X-PUBLISHED-TTL:PT1H
BEGIN:VTIMEZONE
TZID:Europe/Copenhagen
BEGIN:DAYLIGHT
TZOFFSETFROM:+0100
TZOFFSETTO:+0200
TZNAME:CEST
DTSTART:20210328T010000
END:DAYLIGHT
BEGIN:STANDARD
TZOFFSETFROM:+0200
TZOFFSETTO:+0100
TZNAME:CET
DTSTART:20211031T010000
END:STANDARD
BEGIN:DAYLIGHT
TZOFFSETFROM:+0100
TZOFFSETTO:+0200
TZNAME:CEST
DTSTART:20220327T010000
END:DAYLIGHT
BEGIN:STANDARD
TZOFFSETFROM:+0200
TZOFFSETTO:+0100
TZNAME:CET
DTSTART:20221030T010000
END:STANDARD
BEGIN:DAYLIGHT
TZOFFSETFROM:+0100
TZOFFSETTO:+0200
TZNAME:CEST
DTSTART:20230326T010000
END:DAYLIGHT
BEGIN:STANDARD
TZOFFSETFROM:+0200
TZOFFSETTO:+0100
TZNAME:CET
DTSTART:20231029T010000
END:STANDARD
END:VTIMEZONE
BEGIN:VEVENT
DTSTART;TZID=Europe/Copenhagen:20220205T093000
DTEND;TZID=Europe/Copenhagen:20220206T150000
DTSTAMP:20260423T201409
CREATED:20211218T092115Z
LAST-MODIFIED:20211221T195135Z
UID:8725-1644053400-1644159600@efterladte.dk
SUMMARY:Frivilligseminar 2022 - Vejle
DESCRIPTION:Landsforeningen for efterladte efter selvmord inviterer til Frivilligseminar 2022 \nLørdag\, 5. februar kl. 9.30 – søndag\, 6. februar kl. 15.00 \nVejle Center Hotel\, Willy Sørensens Plads 3\, 7100 Vejle \n  \nDeltagere: Foreningens frivillige i bestyrelser\, cafegrupper\, Walk & Talk\, m.fl. \nMedlemmer\, som overvejer at deltage i frivilligarbejdet. \n  \nFrivillig ledelse af fællesskaber for efterladte efter selvmord \nNår man som frivillig inviterer efterladte efter selvmord ind i fællesskaber som f.eks. cafeaftener og Walk & Talk\, er det vigtigt\, at man er godt forberedt\, så såvel deltagerne som man selv får en god oplevelse. \nFrivilligseminaret er tilrettelagt med hovedvægten lagt på vigtige temaer som: \n\nKommunikation – Hvordan leder man en gruppe så alle føler sig set\, hørt og forstået?\nSelvmordets virkninger – Svære følelser som skam\, skyld\, svigt\, tabu m.fl.\nOm at passe på sig selv i frivilligarbejdet – Håndtering af følelser udløst af hjælpe- rollen\, supervision\nDerudover er der afsat tid til erfaringsudveksling\, bl.a. om hvordan man starter nyt lokalt arbejde\, drøftelse af foreningens etik og værdier\, samt udvikling af samarbejdet mellem foreningens frivillige\, herunder gensidige forventninger.\n\nFrivilligseminaret er \n \n  \n  \n  \nProcesleder og underviser: Cand. Psych. Morten Holler. \nMorten Holler er medstifter af Dansk Krisekorps / Dansk Erhvervspsykologi\, er i dag krise- og erhvervspsykolog\, foredragsholder samt supervisor. \n  \nMødeleder: Formand for Landsforeningen for efterladte efter selvmord\, Ellen Bæk \nI øvrigt medvirker Johanne Knigge\, Thisted samt Helle Damm-Henrichsen\, Ole Specht Jensen og Hanne Tang fra landsbestyrelsen. \n  \nProgram (Til print: Indbydelse_2022) \nLørdag \n09.30 – 10.00 Ankomst og kaffe \n10.00 – 12.00 \n\nVelkomst og indledning\nErfaringsudveksling. Oplæg v. Ole Specht Jensen og Hanne Tang\nFakta om selvmord i Danmark v. Ellen Bæk\nOm Landsforeningen for efterladte efter selvmord v. Johanne Knigge\n\n12.00 – 13.00 Frokost – Buffet med 1 øl eller vand \n13.00 – 17.00 Kommunikation v. Morten Holler \n\nHvordan forstår vi det at være frivillig og hvad indebærer rollen.\nHvordan ledes en gruppe\, / et fællesskab så deltagerne oplever at blive klogere\, få udtrykt deres tanker og følelser i et trygt og tillidsfuldt miljø.\n\n14.30 – 15.00 Pause med eftermiddagskaffe \n15.00 – 17.00 Svære følelser ved selvmord v. Morten Holler \n17.00 – 18.00 Indkvartering \n18.00 – Middag\, (2 retter fastsat af køkkenet) derefter kaffe/te\, fælles erfaringsudveksling\, hygge og hvile. \n  \nSøndag \n7.30 – 8.30:    Morgenmad \n8.30 – 12.00: \n\nHvordan beskytter man sig selv i frivilligarbejdet v. Morten Holler\nBrug af supervision v. Morten Holler og Ellen Bæk\nLokalt arbejde – opstart og vedligehold v. Ellen Bæk og Hanne Tang\nSamtale- og spørgetime\n\n12.00 – 13.00: Frokost incl. 1 øl eller 1 vand \n13.00 – 15.00: \n\nForeningens værdier og etik\nBestyrelsens arbejde\nRekruttering af nye frivillige\nGennemgang og drøftelse af gensidige forventninger til samarbejdet mellem bestyrelsen og lokalkredse og andre frivillige.\nOpsamling\, evaluering og afslutning\nEftermiddagskaffe – Farvel og tak for denne gang.\n\n  \nTilmelding: mail til info@efterladte.dk senest 8. januar\, 2022. \nDeltagelse er som udgangspunkt gratis. Som udgangspunkt gives enkeltværelse\, men ønsker du at bo sammen med en anden deltager angives dette også ved tilmelding. Transporten og drikkevarer (udover det nævnte) er for egen eller lokalkredsens regning. \nHar du særlige ønsker til kost – vegetar eller andet – så gør opmærksom på det ved tilmelding. \nNærmere oplysninger fås ved henvendelse til landsformand Ellen Bæk\, mobil 2423 4475 \n  \nVel mødt og venlig hilsen \nLandsbestyrelsen
URL:https://efterladte.dk/aktivitet/frivilligseminar-2022-vejle/
LOCATION:Vejle Center Hotel\, Willy Sørensens Plads 3\, Vejle\, DK 7100
CATEGORIES:Landsforeningen,Seminar
ATTACH;FMTTYPE=image/jpeg:https://efterladte.dk/wp-content/uploads/2018/02/volunteers-2654004_640.jpg
ORGANIZER;CN="Landsforeningen":MAILTO:info@efterladte.dk
END:VEVENT
END:VCALENDAR