BEGIN:VCALENDAR
VERSION:2.0
PRODID:-//Efterladte.dk - ECPv6.15.17.1//NONSGML v1.0//EN
CALSCALE:GREGORIAN
METHOD:PUBLISH
X-ORIGINAL-URL:https://efterladte.dk
X-WR-CALDESC:Begivenheder for Efterladte.dk
REFRESH-INTERVAL;VALUE=DURATION:PT1H
X-Robots-Tag:noindex
X-PUBLISHED-TTL:PT1H
BEGIN:VTIMEZONE
TZID:Europe/Copenhagen
BEGIN:DAYLIGHT
TZOFFSETFROM:+0100
TZOFFSETTO:+0200
TZNAME:CEST
DTSTART:20210328T010000
END:DAYLIGHT
BEGIN:STANDARD
TZOFFSETFROM:+0200
TZOFFSETTO:+0100
TZNAME:CET
DTSTART:20211031T010000
END:STANDARD
BEGIN:DAYLIGHT
TZOFFSETFROM:+0100
TZOFFSETTO:+0200
TZNAME:CEST
DTSTART:20220327T010000
END:DAYLIGHT
BEGIN:STANDARD
TZOFFSETFROM:+0200
TZOFFSETTO:+0100
TZNAME:CET
DTSTART:20221030T010000
END:STANDARD
BEGIN:DAYLIGHT
TZOFFSETFROM:+0100
TZOFFSETTO:+0200
TZNAME:CEST
DTSTART:20230326T010000
END:DAYLIGHT
BEGIN:STANDARD
TZOFFSETFROM:+0200
TZOFFSETTO:+0100
TZNAME:CET
DTSTART:20231029T010000
END:STANDARD
END:VTIMEZONE
BEGIN:VEVENT
DTSTART;TZID=Europe/Copenhagen:20220324T183000
DTEND;TZID=Europe/Copenhagen:20220324T203000
DTSTAMP:20260423T063449
CREATED:20211119T151426Z
LAST-MODIFIED:20211122T153211Z
UID:8442-1648146600-1648153800@efterladte.dk
SUMMARY:Generalforsamling og caféaften - Farum
DESCRIPTION:Lokalkreds Sjælland indbyder til generalforsamling og caféaften.  \n  \nProgram for aftenen: \nKort generalforsamling – dagsorden efter vedtægterne \nDagsorden for generalforsamlingen er: \n\nValg af dirigent.\nValg af referent.\nValg af to stemmetællere.\nGodkendelse af endelig dagsorden.\nBestyrelsens årsberetning.\nÅrsregnskab til godkendelse.\nValg til bestyrelse og suppleanter. Læs *\nValg af revisor og revisorsuppleant.\nIndkomne forslag.\nEventuelt.\n\n* Præsentation af vores Frivillige arbejde – Hvad indebærer det at være frivillig i Efterladte efter selvmord – Lokalkreds Sjælland? \nBestyrelsen består p.t. af Formand: Elisabeth Vikbjerg\, Kasserer: Janni Johanne Mortensen\, Suppleant: Jacqueline Fester er stoppet i 2020. Formand og kasserer er på valg i år 2022\, begge ønsker ikke genvalg. \nVi mangler og søger flere frivillige kræfter i Lokalkreds Sjælland\, der har lyst og overskud til at deltage i det frivillige arbejde i Efterladte efter selmord – Lokalkreds Sjælland\, en del af Landsforeningen for efterladte efter selvmord. Vi søger både bestyrelsesmedlemmer og suppleanter.  \nSom bestyrelsesmedlem er man på valg hvert 2. år og som suppleant på valg en gang om året. \nDer serveres kaffe og te. \nEfter generalforsamlingen holder vi caféaften med samtale og samvær. \nNB! – Tilmelding senest 21. marts via NemTilmeld: Generalforsamling og caféaften – Farum (nemtilmeld.dk) \nAlle er velkomne! \n\nTil vore arrangementer møder du andre efterladte.\nDu får mulighed for at tale og dele erfaringer med andre i en lignende situation som dig –  I fortrolighed mellem deltagerne\, naturligvis.\nDu får mulighed for et varmt\, uformelt samvær i et fællesskab\, hvor selvmord ikke er tabu.\nDu er altid velkommen til at tage en ven med\, hvis du har behov for det.\n\nVel mødt og venlig hilsen \n\nElisabeth og Janni\n\n\nBestyrelsen – Lokalkreds Sjælland\n\n\nmail sjaelland@efterladte.dk\n\n  \n 
URL:https://efterladte.dk/aktivitet/generalforsamling-og-cafeaften-farum-2/
LOCATION:Farum Kulturhus\, Stavnsholtvej 3\, Farum\, 3520
CATEGORIES:Cafémøde,Generalforsamling,Lokalkreds Sjælland
ATTACH;FMTTYPE=image/jpeg:https://efterladte.dk/wp-content/uploads/2017/07/Kobenhavn_Tage-e1499097163204.jpg
ORGANIZER;CN="Lokalkreds Sj%C3%A6lland":MAILTO:sjaelland@efterladte.dk
END:VEVENT
END:VCALENDAR