BEGIN:VCALENDAR
VERSION:2.0
PRODID:-//Efterladte.dk - ECPv6.15.17.1//NONSGML v1.0//EN
CALSCALE:GREGORIAN
METHOD:PUBLISH
X-ORIGINAL-URL:https://efterladte.dk
X-WR-CALDESC:Begivenheder for Efterladte.dk
REFRESH-INTERVAL;VALUE=DURATION:PT1H
X-Robots-Tag:noindex
X-PUBLISHED-TTL:PT1H
BEGIN:VTIMEZONE
TZID:Europe/Copenhagen
BEGIN:DAYLIGHT
TZOFFSETFROM:+0100
TZOFFSETTO:+0200
TZNAME:CEST
DTSTART:20210328T010000
END:DAYLIGHT
BEGIN:STANDARD
TZOFFSETFROM:+0200
TZOFFSETTO:+0100
TZNAME:CET
DTSTART:20211031T010000
END:STANDARD
BEGIN:DAYLIGHT
TZOFFSETFROM:+0100
TZOFFSETTO:+0200
TZNAME:CEST
DTSTART:20220327T010000
END:DAYLIGHT
BEGIN:STANDARD
TZOFFSETFROM:+0200
TZOFFSETTO:+0100
TZNAME:CET
DTSTART:20221030T010000
END:STANDARD
BEGIN:DAYLIGHT
TZOFFSETFROM:+0100
TZOFFSETTO:+0200
TZNAME:CEST
DTSTART:20230326T010000
END:DAYLIGHT
BEGIN:STANDARD
TZOFFSETFROM:+0200
TZOFFSETTO:+0100
TZNAME:CET
DTSTART:20231029T010000
END:STANDARD
END:VTIMEZONE
BEGIN:VEVENT
DTSTART;TZID=Europe/Copenhagen:20220127T190000
DTEND;TZID=Europe/Copenhagen:20220127T213000
DTSTAMP:20260423T100729
CREATED:20210918T150236Z
LAST-MODIFIED:20211119T145351Z
UID:8307-1643310000-1643319000@efterladte.dk
SUMMARY:Foredragsaften: Min fars selvmord - Herlev
DESCRIPTION:Lokalkreds Sjælland inviterer til foredragsaften med Mikkel Frey Damgaard.  \n  \nAftenens program: \nVelkomst \nOplæg med Mikkel Frey Damgaard\, overskriften er: Min fars selvmord \nMikkel Frey Damgaard er journalist\, og i mange år arbejdede han med traditionelt journalistisk arbejde. Blandt andet som undersøgende journalist\, og som nyhedsvært på Deadline og DR2Dagen. Men i 2016 var tiden moden til at tage livtag med en personlig tragedie\, der havde været uberørt i mange år. Mikkels far tog sit liv i 1986\, og selvmordet havde kastet skygger over hele familien lige siden. Efter et intenst terapiforløb lavede Mikkel først “Selvmordstanker” på P1 og medvirkede siden i DR-dokumentaren “Min fars farvel” på DR1 om selvmord. \nEn hård og svær proces\, som åbnede gamle sår og mønstre. I 2019 udgav han bogen “Sørgekåben”\, og forsøgte at fortælle hele historien om selvmordet. Der gemte sig hemmeligheder\, som aldrig havde set dagens lys. På trods af tragedien og smerten lykkedes det at finde en ny vej. Mikkel fortæller om arbejdet\, men også om en helt ny livsbane som lystfisker og et nyt ståsted i livet. \nDer serveres kaffe/te. \nDebat om Mikkels oplæg\, samtale og samvær. \nFarvel og tak for i aften. \nNB! – Tilmelding senest 24. januar via NemTilmeld: Foredragsaften: Min fars selvmord – Herlev (nemtilmeld.dk) \n  \nLink til: ‎Selvmordstanker med Mikkel Frey Damgaard på Apple Podcasts \nLink til: Min fars farvel: Sæson 1 – 1. episode | Se online her | DRTV \nLink til: Sørgekåben : en fortælling om fædre\, sønner\, sommerfugle og min fars selvmord af Mikkel Frey Damgaard | Litteratursiden \n  \nAlle er velkomne! \n\nTil vore arrangementer møder du andre efterladte.\nDu får mulighed for at tale og dele erfaringer med andre i en lignende situation som dig –  I fortrolighed mellem deltagerne\, naturligvis.\nDu får mulighed for et varmt\, uformelt samvær i et fællesskab\, hvor selvmord ikke er tabu.\nDu er altid velkommen til at tage en ven med\, hvis du har behov for det.\n\n  \nVel mødt og venlig hilsen \n\nElisabeth og Janni\n\n\nBestyrelsen – Lokalkreds Sjælland\n\n\nmail sjaelland@efterladte.dk
URL:https://efterladte.dk/aktivitet/foredragsaften-min-fars-selvmord-herlev/
LOCATION:Frivilligcenter Herlev\, Herlev Hovedgade 172 (Indkørsel fra J.E. Pitznersvej)\, Herlev\, 2730
CATEGORIES:Foredrag,Lokalkreds Sjælland
ATTACH;FMTTYPE=image/jpeg:https://efterladte.dk/wp-content/uploads/2017/07/Kobenhavn_Tage-e1499097163204.jpg
ORGANIZER;CN="Lokalkreds Sj%C3%A6lland":MAILTO:sjaelland@efterladte.dk
END:VEVENT
END:VCALENDAR