BEGIN:VCALENDAR
VERSION:2.0
PRODID:-//Efterladte.dk - ECPv6.15.17.1//NONSGML v1.0//EN
CALSCALE:GREGORIAN
METHOD:PUBLISH
X-ORIGINAL-URL:https://efterladte.dk
X-WR-CALDESC:Begivenheder for Efterladte.dk
REFRESH-INTERVAL;VALUE=DURATION:PT1H
X-Robots-Tag:noindex
X-PUBLISHED-TTL:PT1H
BEGIN:VTIMEZONE
TZID:Europe/Copenhagen
BEGIN:DAYLIGHT
TZOFFSETFROM:+0100
TZOFFSETTO:+0200
TZNAME:CEST
DTSTART:20200329T010000
END:DAYLIGHT
BEGIN:STANDARD
TZOFFSETFROM:+0200
TZOFFSETTO:+0100
TZNAME:CET
DTSTART:20201025T010000
END:STANDARD
BEGIN:DAYLIGHT
TZOFFSETFROM:+0100
TZOFFSETTO:+0200
TZNAME:CEST
DTSTART:20210328T010000
END:DAYLIGHT
BEGIN:STANDARD
TZOFFSETFROM:+0200
TZOFFSETTO:+0100
TZNAME:CET
DTSTART:20211031T010000
END:STANDARD
BEGIN:DAYLIGHT
TZOFFSETFROM:+0100
TZOFFSETTO:+0200
TZNAME:CEST
DTSTART:20220327T010000
END:DAYLIGHT
BEGIN:STANDARD
TZOFFSETFROM:+0200
TZOFFSETTO:+0100
TZNAME:CET
DTSTART:20221030T010000
END:STANDARD
END:VTIMEZONE
BEGIN:VEVENT
DTSTART;TZID=Europe/Copenhagen:20211209T180000
DTEND;TZID=Europe/Copenhagen:20211209T203000
DTSTAMP:20260423T114959
CREATED:20210706T130926Z
LAST-MODIFIED:20211119T141346Z
UID:7868-1639072800-1639081800@efterladte.dk
SUMMARY:Julecafé med spisning - Farum
DESCRIPTION:Lokalkreds Sjælland inviterer til caféaften – Julecafé med spisning \nAftenens program – Samtale og samvær.  \nJulen nærmer sig\, og som efterladt kan det give anledning til blandede følelser. \nVi vil tage udgangspunkt i at mødes omkring temaet “Traditioner og højtider” – Hvad hjælper os “igennem” julen\, og hvad kan eventuelt give os håb og trøst? \nVi inviterer på et let aftensmåltid. Der vil være en egenbetaling på 50 kr. til maden. \nNB! Af hensyn til bestilling af mad\, vil vi gerne have din tilmelding senest 6. december via link: Julecafé – Farum (nemtilmeld.dk) \nAlle er velkomne! \n\nTil vore arrangementer møder du andre efterladte.\nDu får mulighed for at tale og dele erfaringer med andre i en lignende situation som dig. –  I fortrolighed mellem deltagerne\, naturligvis.\nDu får mulighed for et varmt\, uformelt samvær i et fællesskab\, hvor selvmord ikke er tabu.\nDu er altid velkommen til at tage en ven med\, hvis du har behov for det.\n\nVel mødt og venlig hilsen \n\nElisabeth og Janni\n\n\nBestyrelsen – Lokalkreds Sjælland\n\n\nmail sjaelland@efterladte.dk
URL:https://efterladte.dk/aktivitet/julecafe-farum/
LOCATION:Farum Kulturhus\, Stavnsholtvej 3\, Farum\, 3520
CATEGORIES:Cafémøde,Lokalkreds Sjælland
ATTACH;FMTTYPE=image/jpeg:https://efterladte.dk/wp-content/uploads/2017/07/Kobenhavn_Tage-1.jpg
ORGANIZER;CN="Lokalkreds Sj%C3%A6lland":MAILTO:sjaelland@efterladte.dk
END:VEVENT
END:VCALENDAR