BEGIN:VCALENDAR
VERSION:2.0
PRODID:-//Efterladte.dk - ECPv6.15.17.1//NONSGML v1.0//EN
CALSCALE:GREGORIAN
METHOD:PUBLISH
X-ORIGINAL-URL:https://efterladte.dk
X-WR-CALDESC:Begivenheder for Efterladte.dk
REFRESH-INTERVAL;VALUE=DURATION:PT1H
X-Robots-Tag:noindex
X-PUBLISHED-TTL:PT1H
BEGIN:VTIMEZONE
TZID:Europe/Copenhagen
BEGIN:DAYLIGHT
TZOFFSETFROM:+0100
TZOFFSETTO:+0200
TZNAME:CEST
DTSTART:20200329T010000
END:DAYLIGHT
BEGIN:STANDARD
TZOFFSETFROM:+0200
TZOFFSETTO:+0100
TZNAME:CET
DTSTART:20201025T010000
END:STANDARD
BEGIN:DAYLIGHT
TZOFFSETFROM:+0100
TZOFFSETTO:+0200
TZNAME:CEST
DTSTART:20210328T010000
END:DAYLIGHT
BEGIN:STANDARD
TZOFFSETFROM:+0200
TZOFFSETTO:+0100
TZNAME:CET
DTSTART:20211031T010000
END:STANDARD
BEGIN:DAYLIGHT
TZOFFSETFROM:+0100
TZOFFSETTO:+0200
TZNAME:CEST
DTSTART:20220327T010000
END:DAYLIGHT
BEGIN:STANDARD
TZOFFSETFROM:+0200
TZOFFSETTO:+0100
TZNAME:CET
DTSTART:20221030T010000
END:STANDARD
END:VTIMEZONE
BEGIN:VEVENT
DTSTART;TZID=Europe/Copenhagen:20210617T190000
DTEND;TZID=Europe/Copenhagen:20210617T210000
DTSTAMP:20260423T220416
CREATED:20210330T113651Z
LAST-MODIFIED:20210603T045914Z
UID:7341-1623956400-1623963600@efterladte.dk
SUMMARY:Sommercafé udendørs - Herlev
DESCRIPTION:Lokalkreds Sjælland inviterer til sommercafé!\n  \nVi holder arrangementet udendørs\, (i Haven ved Frivilligcenter og selvhjælp)\, men har lokaler hvis vejret ikke arter sig. Tag gerne varm trøje og tæppe med! \n  \nAftenens program –  Vi ønsker hinanden god sommer – Samtale og samvær. \n\nVi byder på en let Sommerbuffet i anledning af genåbning og sommeren.\nVi bestiller maden udefra og der er sikkert også en lille tår kaffe efterfølgende.\n\n  \nAlle er velkomne – Vi har et max deltagertal på 18! Det er gratis at deltage \nNB! Tilmelding senest mandag d. 14.06.2021 via NemTilmeld: Sommercafé udendørs – Herlev (nemtilmeld.dk) \n  \n\nTil vore arrangementer møder du andre efterladte.\nDu får mulighed for at tale og dele erfaringer med andre i en lignende situation som dig.  –  I fortrolighed mellem deltagerne\, naturligvis.\nDu får mulighed for et varmt\, uformelt samvær i et forum\, hvor selvmord ikke er tabu.\nDu er altid velkommen til at tage en ven med\, hvis du har behov for det.\n\n  \n\nVel mødt og venlig hilsen\nElisabeth og Janni\n\n\nBestyrelsen – Lokalkreds Sjælland\n\n\nmail sjaelland@efterladte.dk
URL:https://efterladte.dk/aktivitet/sommercafe-udendoers-herlev/
LOCATION:Frivilligcenter Herlev\, Herlev Hovedgade 172 (Indkørsel fra J.E. Pitznersvej)\, Herlev\, 2730
CATEGORIES:Cafémøde,Lokalkreds Sjælland
ATTACH;FMTTYPE=image/jpeg:https://efterladte.dk/wp-content/uploads/2017/07/Kobenhavn_Tage-e1499097163204.jpg
ORGANIZER;CN="Lokalkreds Sj%C3%A6lland":MAILTO:sjaelland@efterladte.dk
END:VEVENT
END:VCALENDAR