BEGIN:VCALENDAR
VERSION:2.0
PRODID:-//Efterladte.dk - ECPv6.15.17.1//NONSGML v1.0//EN
CALSCALE:GREGORIAN
METHOD:PUBLISH
X-ORIGINAL-URL:https://efterladte.dk
X-WR-CALDESC:Begivenheder for Efterladte.dk
REFRESH-INTERVAL;VALUE=DURATION:PT1H
X-Robots-Tag:noindex
X-PUBLISHED-TTL:PT1H
BEGIN:VTIMEZONE
TZID:Europe/Copenhagen
BEGIN:DAYLIGHT
TZOFFSETFROM:+0100
TZOFFSETTO:+0200
TZNAME:CEST
DTSTART:20220327T010000
END:DAYLIGHT
BEGIN:STANDARD
TZOFFSETFROM:+0200
TZOFFSETTO:+0100
TZNAME:CET
DTSTART:20221030T010000
END:STANDARD
BEGIN:DAYLIGHT
TZOFFSETFROM:+0100
TZOFFSETTO:+0200
TZNAME:CEST
DTSTART:20230326T010000
END:DAYLIGHT
BEGIN:STANDARD
TZOFFSETFROM:+0200
TZOFFSETTO:+0100
TZNAME:CET
DTSTART:20231029T010000
END:STANDARD
BEGIN:DAYLIGHT
TZOFFSETFROM:+0100
TZOFFSETTO:+0200
TZNAME:CEST
DTSTART:20240331T010000
END:DAYLIGHT
BEGIN:STANDARD
TZOFFSETFROM:+0200
TZOFFSETTO:+0100
TZNAME:CET
DTSTART:20241027T010000
END:STANDARD
END:VTIMEZONE
BEGIN:VEVENT
DTSTART;TZID=Europe/Copenhagen:20230318T130000
DTEND;TZID=Europe/Copenhagen:20230318T163000
DTSTAMP:20260423T205115
CREATED:20221104T093557Z
LAST-MODIFIED:20221130T105752Z
UID:10450-1679144400-1679157000@efterladte.dk
SUMMARY:Temalørdag: Kunstterapi - Aarhus
DESCRIPTION:Landsforeningen for efterladte efter selvmord tilbyder kunstterapi\, lørdag d. 18. marts kl. 13.00 – ca. 16.30\, Frivilligcenter Aarhus\, Sønder Allé 33\, 8000 Aarhus. Vi skal være i mødelokale 9. \nVil du have lejlighed til at se på din sorg\, fra en anderledes vinkel\, så kom og vær med til en eftermiddag med kunstterapi. \nDeltagelse kræver ingen forudsætninger for at kunne tegne. Eftermiddagen består af enkle øvelser\, og fælles samtale. \n Kurset ledes af Hanne Svensmark\, som er uddannet kunstterapeut og arbejder som sognepræst i Dronninglund. Hanne var i en årrække formand for landsforeningen\, og hun har igennem mange år ledet vores selvhjælpsseminar. Hanne er kunstneren bag layoutet på: Efterladte.dk \nDeltagerpris: 100 kr. for medlemmer og 200 kr. for ikke medlemmer\, som dækker materialer og kaffe/te. \nDer er plads 8 deltagere. \nSidste frist for tilmelding er 14. marts via link: https://efterladte.nemtilmeld.dk/198/ \n\nTil vore arrangementer møder du andre efterladte.\nDu får mulighed for at tale og dele erfaringer med andre i en lignende situation som dig. –  I fortrolighed mellem deltagerne\, naturligvis.\nDu får mulighed for et varmt\, uformelt samvær i et fællesskab\, hvor selvmord ikke er tabu.\n\nFor spørgsmål kontakt: \nEllen Bæk\, mobil: 2423 4475\, mail: info@efterladte.dk
URL:https://efterladte.dk/aktivitet/temaloerdag-kunstterapi-aarhus/
LOCATION:Frivilligcenter Aarhus\, Sønder Allé 33\, Aarhus\, 8000
CATEGORIES:Kunstterapi,Landsforeningen
ATTACH;FMTTYPE=image/jpeg:https://efterladte.dk/wp-content/uploads/2021/11/Kunstterapi_2-e1637244081174.jpg
ORGANIZER;CN="Landsforeningen":MAILTO:info@efterladte.dk
END:VEVENT
END:VCALENDAR