BEGIN:VCALENDAR
VERSION:2.0
PRODID:-//Efterladte.dk - ECPv6.15.17.1//NONSGML v1.0//EN
CALSCALE:GREGORIAN
METHOD:PUBLISH
X-WR-CALNAME:Efterladte.dk
X-ORIGINAL-URL:https://efterladte.dk
X-WR-CALDESC:Begivenheder for Efterladte.dk
REFRESH-INTERVAL;VALUE=DURATION:PT1H
X-Robots-Tag:noindex
X-PUBLISHED-TTL:PT1H
BEGIN:VTIMEZONE
TZID:Europe/Copenhagen
BEGIN:DAYLIGHT
TZOFFSETFROM:+0100
TZOFFSETTO:+0200
TZNAME:CEST
DTSTART:20230326T010000
END:DAYLIGHT
BEGIN:STANDARD
TZOFFSETFROM:+0200
TZOFFSETTO:+0100
TZNAME:CET
DTSTART:20231029T010000
END:STANDARD
BEGIN:DAYLIGHT
TZOFFSETFROM:+0100
TZOFFSETTO:+0200
TZNAME:CEST
DTSTART:20240331T010000
END:DAYLIGHT
BEGIN:STANDARD
TZOFFSETFROM:+0200
TZOFFSETTO:+0100
TZNAME:CET
DTSTART:20241027T010000
END:STANDARD
BEGIN:DAYLIGHT
TZOFFSETFROM:+0100
TZOFFSETTO:+0200
TZNAME:CEST
DTSTART:20250330T010000
END:DAYLIGHT
BEGIN:STANDARD
TZOFFSETFROM:+0200
TZOFFSETTO:+0100
TZNAME:CET
DTSTART:20251026T010000
END:STANDARD
END:VTIMEZONE
BEGIN:VEVENT
DTSTART;TZID=Europe/Copenhagen:20240303T100000
DTEND;TZID=Europe/Copenhagen:20240303T160000
DTSTAMP:20260421T224016
CREATED:20231126T174028Z
LAST-MODIFIED:20240220T074336Z
UID:13018-1709460000-1709481600@efterladte.dk
SUMMARY:Indbydelse til Årsmøde og Generalforsamling - Odense
DESCRIPTION:Indbydelse til Årsmøde og Generalforsamling i Landsforeningen for efterladte efter selvmord søndag d. 3. marts 2024\, kl. 10.00 – 16.00 \nSted: Comwell\, H.C. Andersen\, Claus Bergs Gade 7\, 5000 Odense C \nParkering: Hotellet har 90 parkeringspladser til rådighed som koster 45 kr. per time\, max kr. 150\,- per døgn. Det er en dyr løsning\, vil du finde andre muligheder\, henviser vi til siden parkering i Odense: https://www.odense.dk/borger/trafik-og-veje/parkering \n\n\n  \nÅrsmødetaler: Daniel Rye\, Dansk freelance fotograf og forfatter: læs mere: https://www.danielrye.dk/ \n  \nDagens program:  \nFra kl. 9.00 er der morgenmad i restauranten. \nKl. 10.00: Velkomst og orientering ved formand Ellen Bæk. Præsentation af deltagerne \nKl. 10.30: Oplæg ved Daniel Rye \nDaniel Rye er en dansk freelance fotograf\, der i 13 måneder i 2013 og 2014 blev holdt som gidsel af Islamisk Stat. Han blev frigivet i juni 2014 efter at der var betalt en løsesum på 15 millioner kroner. \nUndervejs kom han derud\, hvor han ikke kunne se anden udvej end at tage sit eget liv. Det skete ikke\, men han kan beskrive følelsen af at stå med tanken om at slippe herfra som det altdominerende. \nHan har siden sin frigivelse holdt foredrag og fået udgivet bøger om gidseltagningen\, og bogen “Ser du månen Daniel” er blevet filmatiseret. Senest har han udgivet bogen “Nærmest fri – min vej ud af mørket”\, som handler om årene efter. \nDaniel fortæller med en intensitet og nerve\, som var man der selv. Selv om vi aldrig kan begribe\, hvad han har gennemlevet\, så kender de fleste af os til det mørke\, han så åbent og direkte kan fortælle om. \nSamtaletid med opfølgning på Daniel Ryes oplæg. \nKl. 12.00: Spørgetime ved landsformanden \nSpørgsmål om Efterladte og hvad årsmødedeltagerne ellers har på hjerte \nKl. 13.00: Frokost – Comwell restaurant \nKl. 14.00: Generalforsamling – Se: Dagsorden til generalforsamling 2024 \nKl. 16.00: Mødet slut – Farvel og tak for i dag \n  \nTilmeldingsfristen er forlænget til 28. februar 2024\, kl. 18.00 via link:   https://efterladte.nemtilmeld.dk/331/ \nFor spørgsmål kontakt formand Ellen Bæk\, Tlf.: 2423 4475 eller e-mail: info@efterladte.dk \nDeltagelse i årsmødet er gratis\, men deltagerne betaler selv deres frokost og rejseomkostninger. \n  \nMed venlig hilsen \nLandsbestyrelsen
URL:https://efterladte.dk/aktivitet/indbydelse-til-aarsmoede-og-generalforsamling-odense-4/
LOCATION:Comwell\, H.C. Andersen\, Claus Bergs Gade 7\, Odense C\, 5000
CATEGORIES:Årsmøde,Generalforsamling,Landsforeningen
ATTACH;FMTTYPE=image/jpeg:https://efterladte.dk/wp-content/uploads/2023/11/Daniel_Rye_2023-scaled-e1701020644704.jpg
ORGANIZER;CN="Landsforeningen":MAILTO:info@efterladte.dk
END:VEVENT
BEGIN:VEVENT
DTSTART;TZID=Europe/Copenhagen:20240303T140000
DTEND;TZID=Europe/Copenhagen:20240303T160000
DTSTAMP:20260421T224016
CREATED:20231127T134230Z
LAST-MODIFIED:20231129T084051Z
UID:13032-1709474400-1709481600@efterladte.dk
SUMMARY:Dagsorden til generalforsamling - Odense
DESCRIPTION:Dagsorden til generalforsamling i Landsforeningen for efterladte efter selvmord\, søndag den 3. marts 2024 kl. 14.00 \nSted: Comwell\, H.C. Andersen\, Claus Bergs Gade 7\, 5000 Odense C \n  \nIndregistrering af stemmeberettigede kan ske fra 13.45 \nTilmelding senest 18. februar via NemTilmeld: https://efterladte.nemtilmeld.dk/331/ \nAlle er velkommen! I tilfælde af afstemning\, er det kun medlemmer af foreningen der er stemmeberettigede. \n  \nDagsorden: \n\nValg af dirigent\nValg af referent\nValg af to stemmetællere\nGodkendelse af endelig dagsorden\nBestyrelsens årsberetning til godkendelse\nÅrsregnskabet til godkendelse\nBudgetforslag\, herunder fastsættelse af kontingent\nValg af bestyrelse samt suppleanter\nIndkomne forslag. Der kan indsendes forslag til formanden på info@efterladte.dk indtil 11. februar\nEventuelt.\n\nGeneralforsamlingen forventes afsluttet senest 16.00\, der er en pause undervejs. \nFor spørgsmål kontakt formand Ellen Bæk\, Tlf.: 2423 4475 eller e-mail: info@efterladte.dk \n  \nVALG TIL BESTYRELSEN 2024: \nBestyrelsesmedlemmerne vælges for to år ad gangen\, suppleanterne for 1 år. \nI år er: Ellen Bæk\, Ole Specht Jensen og Preben Bøgelund på valg. Ole modtager ikke genvalg\, de øvrige er villige til at modtage genvalg. \nI øvrigt består bestyrelsen af: Hanne Tang\, John Jespersen\, Mai Bakmand og Morten Slyngborg og suppleanter: Sally Jacobsen og Torben Jensen. \n  \nHUSK! \n\nVi er en frivillig forening der altid har brug for flere hænder. Vi vil meget gerne være bredt repræsenteret i hele landet.\nOvervej om bestyrelsesarbejdet kan være noget for dig\, det er både hyggeligt og lærerigt at være med i arbejdet.\nUndlad ikke at gå til generalforsamling – Vi presser ikke nogen til at gå ind i bestyrelsen\, det skal være noget man selv har lyst til.\nVil du høre mere om bestyrelsesarbejdet\, er du velkommen til at kontakte bestyrelsen\,\nlæs mere http://efterladte.dk/om-os/bestyrelsen/\n\n  \nVel mødt og venlig hilsen \nLandsbestyrelsen
URL:https://efterladte.dk/aktivitet/dagsorden-til-generalforsamling-odense-4/
LOCATION:Comwell\, H.C. Andersen\, Claus Bergs Gade 7\, Odense C\, 5000
CATEGORIES:Generalforsamling,Landsforeningen
ATTACH;FMTTYPE=image/jpeg:https://efterladte.dk/wp-content/uploads/2023/11/bestyrelsesmoede-e1701092535294.jpg
ORGANIZER;CN="Landsforeningen":MAILTO:info@efterladte.dk
END:VEVENT
BEGIN:VEVENT
DTSTART;TZID=Europe/Copenhagen:20240321T190000
DTEND;TZID=Europe/Copenhagen:20240321T210000
DTSTAMP:20260421T224016
CREATED:20231125T095331Z
LAST-MODIFIED:20231129T084749Z
UID:12937-1711047600-1711054800@efterladte.dk
SUMMARY:Caféaften med generalforsamling – Thisted
DESCRIPTION:Lokalkreds Thy inviterer til generalforsamling og caféaften med samtale og erfaringsudveksling \nSted: Frivillig Thy\, Nytorv 8\, 7700 Thisted \n  \nProgram for aftenen: \n\nEn kort generalforsamling\, dagsordenen er efter vedtægterne\nEfter generalforsamlingen samtale og erfaringsudveksling\n\nBestyrelsen består af: Hanne Tang – Formand\, Inge-Lis Have – Næstformand og Anders Hornstrup – Kasserer. Suppleant: Lisbeth Hornstrup \nDagsorden for generalforsamlingen er: \n\nValg af dirigent.\nValg af referent.\nValg af to stemmetællere.\nGodkendelse af endelig dagsorden.\nBestyrelsens årsberetning.\nÅrsregnskab til godkendelse.\nValg til bestyrelse og suppleanter.\nValg af revisor og revisorsuppleant.\nIndkomne forslag.\nEventuelt.\n\nDer serveres kaffe/the med kage og frugt. Deltagere i vore arrangementer betaler 30 kr.\, som delvis dækning af vore udgifter. \nNB! Tilmelding senest tirsdag 19. marts kl. 18.00 via NemTilmeld:   https://efterladte.nemtilmeld.dk/323/ \nAlle er velkomne!  \n\nTil café- og temaaftener møder du andre efterladte efter selvmord.\nDu får mulighed for at tale og dele erfaringer med andre i en lignende situation som dig. –  I fortrolighed mellem deltagerne\, naturligvis.\nDu får mulighed for et varmt\, uformelt samvær i et fællesskab\, hvor selvmord ikke er tabu.\nDu er altid velkommen til at tage en ven med\, hvis du har behov for det.\n\n  \nKontaktpersoner for Lokalkreds Thy: \nHanne Tang\, tlf. 2240 8784 eller hanne@tang.dk \nAnders Hornstrup\, tlf. 3057 0488 \n 
URL:https://efterladte.dk/aktivitet/cafeaften-med-generalforsamling-thisted-3/
LOCATION:Frivillig Thy\, Nytorv 8\, Thisted\, 7700
CATEGORIES:Cafémøde,Generalforsamling,Lokalkreds Thy
ATTACH;FMTTYPE=image/jpeg:https://efterladte.dk/wp-content/uploads/2017/08/Thy_nationalprak-e1501743996649.jpg
ORGANIZER;CN="Lokalkreds Thy":MAILTO:hanne@tang.dk
END:VEVENT
END:VCALENDAR