BEGIN:VCALENDAR
VERSION:2.0
PRODID:-//Efterladte.dk - ECPv6.15.17.1//NONSGML v1.0//EN
CALSCALE:GREGORIAN
METHOD:PUBLISH
X-WR-CALNAME:Efterladte.dk
X-ORIGINAL-URL:https://efterladte.dk
X-WR-CALDESC:Begivenheder for Efterladte.dk
REFRESH-INTERVAL;VALUE=DURATION:PT1H
X-Robots-Tag:noindex
X-PUBLISHED-TTL:PT1H
BEGIN:VTIMEZONE
TZID:Europe/Copenhagen
BEGIN:DAYLIGHT
TZOFFSETFROM:+0100
TZOFFSETTO:+0200
TZNAME:CEST
DTSTART:20220327T010000
END:DAYLIGHT
BEGIN:STANDARD
TZOFFSETFROM:+0200
TZOFFSETTO:+0100
TZNAME:CET
DTSTART:20221030T010000
END:STANDARD
BEGIN:DAYLIGHT
TZOFFSETFROM:+0100
TZOFFSETTO:+0200
TZNAME:CEST
DTSTART:20230326T010000
END:DAYLIGHT
BEGIN:STANDARD
TZOFFSETFROM:+0200
TZOFFSETTO:+0100
TZNAME:CET
DTSTART:20231029T010000
END:STANDARD
BEGIN:DAYLIGHT
TZOFFSETFROM:+0100
TZOFFSETTO:+0200
TZNAME:CEST
DTSTART:20240331T010000
END:DAYLIGHT
BEGIN:STANDARD
TZOFFSETFROM:+0200
TZOFFSETTO:+0100
TZNAME:CET
DTSTART:20241027T010000
END:STANDARD
END:VTIMEZONE
BEGIN:VEVENT
DTSTART;TZID=Europe/Copenhagen:20230413T190000
DTEND;TZID=Europe/Copenhagen:20230413T210000
DTSTAMP:20260422T170326
CREATED:20221106T154726Z
LAST-MODIFIED:20221209T114236Z
UID:10547-1681412400-1681419600@efterladte.dk
SUMMARY:Generalforsamling og caféaften med tema - Aalborg
DESCRIPTION:Lokalkreds Nordjylland inviterer til generalforsamling og caféaften med tema \nSted: De Frivilliges Hus\, Hadsundvej 35\, 9000 Aalborg. Vi skal være i mødelokale 8 på 1. sal (der er elevator) \nProgram for aftenen er:  \nEn dialog om ønsker og forslag til aktiviteter i Lokalkreds Nordjylland. En kort generalforsamling\, dagsordenen er efter vedtægterne. Derefter caféaften med tema: Hvad har hjulpet dig? \nBestyrelsen består af: Lars Agertoft Iversen – Formand\, Mogens Aarup– Kasserer\, Aase Worm\, Ejnar Bæk og Ellen Bæk – Sekretær og kontaktperson. \nLars har beslutte at stoppe i bestyrelsen\, de øvrige er villige til genvalg. Vi vil gerne have nye kræfter med i bestyrelsen.  \nDagsorden for generalforsamlingen er: \n\nValg af dirigent.\nValg af referent.\nValg af to stemmetællere.\nGodkendelse af endelig dagsorden.\nBestyrelsens årsberetning.\nÅrsregnskab til godkendelse.\nValg til bestyrelse og suppleanter.\nValg af revisor og revisorsuppleant.\nIndkomne forslag.\nEventuelt.\n\nEfter generalforsamlingen caféaften med tema: Hvad har hjulpet dig? \n \nVi vil høre lidt fra Anette Wilhjelm Jahns CD:  \nBroder min – en sorgens vandring \nSpor 8: Til dig\, der vil hjælpe en efterladt \nOg tale om aftenens tema: Hvad har hjulpet dig? \nDer serveres kaffe/te og kage. \nAlle er velkomne! \nNB! Tilmelding senest 11. april kl. 18.00 via link: https://efterladte.nemtilmeld.dk/205/ \n\nTil vore arrangementer møder du andre efterladte.\nDu får mulighed for at tale og dele erfaringer med andre i en lignende situation som dig. –  I fortrolighed mellem deltagerne\, naturligvis.\nDu får mulighed for et varmt\, uformelt samvær i et fællesskab\, hvor selvmord ikke er tabu.\nDu er altid velkommen til at tage en ven med\, hvis du har behov for det.\n\n  \nVel mødt og venlig hilsen \nBestyrelsen – Lokalkreds Nordjylland \nLars Agertoft Iversen\, Mogens Aarup\, Aase Worm\, Ejnar Bæk og \nEllen Bæk\, Sekretær / kontaktperson\, nordjylland@efterladte.dk \nMobil: 2423 4475 \n 
URL:https://efterladte.dk/aktivitet/generalforsamling-og-cafeaften-med-tema-aalborg/
LOCATION:De Frivilliges Hus Aalborg\, Hadsundvej 35\, Aalborg\, 9000
CATEGORIES:Cafémøde,Generalforsamling,Lokalkreds Nordjylland
ATTACH;FMTTYPE=image/jpeg:https://efterladte.dk/wp-content/uploads/2016/12/aalborg-vandside.jpg
ORGANIZER;CN="Lokalkreds Nordjylland":MAILTO:nordjylland@efterladte.dk
END:VEVENT
END:VCALENDAR