BEGIN:VCALENDAR
VERSION:2.0
PRODID:-//Efterladte.dk - ECPv6.15.17.1//NONSGML v1.0//EN
CALSCALE:GREGORIAN
METHOD:PUBLISH
X-WR-CALNAME:Efterladte.dk
X-ORIGINAL-URL:https://efterladte.dk
X-WR-CALDESC:Begivenheder for Efterladte.dk
REFRESH-INTERVAL;VALUE=DURATION:PT1H
X-Robots-Tag:noindex
X-PUBLISHED-TTL:PT1H
BEGIN:VTIMEZONE
TZID:Europe/Copenhagen
BEGIN:DAYLIGHT
TZOFFSETFROM:+0100
TZOFFSETTO:+0200
TZNAME:CEST
DTSTART:20250330T010000
END:DAYLIGHT
BEGIN:STANDARD
TZOFFSETFROM:+0200
TZOFFSETTO:+0100
TZNAME:CET
DTSTART:20251026T010000
END:STANDARD
BEGIN:DAYLIGHT
TZOFFSETFROM:+0100
TZOFFSETTO:+0200
TZNAME:CEST
DTSTART:20260329T010000
END:DAYLIGHT
BEGIN:STANDARD
TZOFFSETFROM:+0200
TZOFFSETTO:+0100
TZNAME:CET
DTSTART:20261025T010000
END:STANDARD
BEGIN:DAYLIGHT
TZOFFSETFROM:+0100
TZOFFSETTO:+0200
TZNAME:CEST
DTSTART:20270328T010000
END:DAYLIGHT
BEGIN:STANDARD
TZOFFSETFROM:+0200
TZOFFSETTO:+0100
TZNAME:CET
DTSTART:20271031T010000
END:STANDARD
END:VTIMEZONE
BEGIN:VEVENT
DTSTART;TZID=Europe/Copenhagen:20260423T190000
DTEND;TZID=Europe/Copenhagen:20260423T210000
DTSTAMP:20260423T020531
CREATED:20251029T101149Z
LAST-MODIFIED:20251029T102036Z
UID:17111-1776970800-1776978000@efterladte.dk
SUMMARY:Caféaften med samtale - Vejle
DESCRIPTION:Efterladte efter selvmord\, Cafégruppe Vejle\, inviterer til caféaften med samtale og erfaringsudveksling. Aftenens tema: “En samtale om hvordan vi hver for sig håndterer vores sorg”. \nSted: Foreningernes Hus Vejle\, Vissingsgade 31\, 7100 Vejle. Vi skal være i et mødelokale på 1. sal (der er elevator). En af os vil vente ved indgangen. \n  \nAftenens program: \nVelkomst og kort præsentation af deltagerne – v. cafégruppen. \nSamtale og erfaringsudveksling – Aftenens tema: “En samtale om hvordan vi hver for sig håndterer vores sorg”. \nTanken er\, at vi deler os op i små grupper eller i plenum\, afhængig af\, hvor mange vi er. \nVi lægger op til et par timers samvær og samtale med andre efterladte efter selvmord. \nHer er det OK at tale om sorgen\, savnet og de svære følelser.\nDet der tales om\, er i fortrolighed mellem deltagerne. \nTil mødet byder vi på en kop kaffe/te med lidt sødt eller sundt til. Vi håber\, du møder op til en uformel snak med andre\, der har mistet til selvmord. \nAfrunding – Farvel og tak for i aften. \nArrangementet er gratis. Der er plads til 25 deltagere. \nNB! Tilmelding senest søndag 19. april kl. 18.00 via NemTilmeld:   https://efterladte.nemtilmeld.dk/573/ \nPS! vær påpasselig med parkering\, så du ikke får en bøde. \nHvis du vil have gratis parkering\, kan man parkere\, i Trondur P-hus\, Volmersgade 9\, 7100 Vejle \nAlle er velkomne! \n\nTil vores arrangementer møder du andre efterladte efter selvmord.\nDu får mulighed for at tale og dele erfaringer med andre i en lignende situation som dig. –  I fortrolighed mellem deltagerne\, naturligvis.\nDu får mulighed for et varmt\, uformelt samvær i et fællesskab\, hvor selvmord ikke er tabu.\nDu er altid velkommen til at tage en ven med\, hvis du har behov for det.\n\n  \nVel mødt og venlig hilsen \nPå vegne af Cafégruppe Vejle / efterladte.dk  \nMette Dam Jørgensen: mobil 3142 2552\, mail: mettedj99@gmail.com eller \nJonna Højvang: mobil 5049 2151\, mail: jonnahojvang@gmail.com\, for evt. spørgsmål\, \nMorten Holler og Torben Jensen fra Landsbestyrelsen
URL:https://efterladte.dk/aktivitet/cafeaften-med-samtale-vejle-2/
LOCATION:Foreningernes Hus Vejle\, Vissingsgade 31\, Vejle\, DK 7100
CATEGORIES:Cafégruppe Vejle,Cafémøde
ATTACH;FMTTYPE=image/jpeg:https://efterladte.dk/wp-content/uploads/2020/12/Vejle-e1608308152724.jpg
ORGANIZER;CN="Caf%C3%A9gruppe Vejle - Mette / Jonna":MAILTO:mettedj99@gmail.com / jonnahojvang@gmail.com /
END:VEVENT
BEGIN:VEVENT
DTSTART;TZID=Europe/Copenhagen:20260423T190000
DTEND;TZID=Europe/Copenhagen:20260423T210000
DTSTAMP:20260423T020531
CREATED:20251114T100836Z
LAST-MODIFIED:20260304T093407Z
UID:17319-1776970800-1776978000@efterladte.dk
SUMMARY:Caféaften: Om at huske\, hvem den anden er – Thisted
DESCRIPTION:Lokalkreds Thy inviterer til caféaften med foredrag v. sognepræst og psykoterapeut Hanne Svensmark. \nSted: Frivillig Thy\, Nytorv 8\, 7700 Thisted \n  \nProgram: \nVelkomst og kort præsentation af deltagerne – ved bestyrelsen \n”Om at huske\, hvem den anden er” – Foredrag v. sognepræst og psykoterapeut Hanne Svensmark. \nNår vi har mistet til selvmord\, kan det indimellem føles som om vi også har mistet adgangen til at huske\, hvem han eller hun var før tabet. \nMen den vi savner\, er så meget mere end den måde livet endte på. \nDenne aften vil Hanne Svensmark sætte fokus på\, hvordan man kan generobre alle minderne og hvorfor det kan være hjælpsomt i sorgen. \nVi lægger op til et par timers samvær og samtale med andre efterladte efter selvmord. \nHer er det OK at tale om sorgen\, savnet og de svære følelser.\nDet der tales om\, er i fortrolighed mellem deltagerne. \nDer serveres kaffe/the med kage og frugt. Deltagere i vore arrangementer betaler 30 kr.\, som delvis dækning af vore udgifter. \nAfrunding – Farvel og tak for i aften. \nNB! Tilmelding senest tirsdag 21. april kl. 18.00 via NemTilmeld:   https://efterladte.nemtilmeld.dk/598/ \nAlle er velkomne!  \n\nTil café- og temaaftener møder du andre efterladte efter selvmord.\nDu får mulighed for at tale og dele erfaringer med andre i en lignende situation som dig. –  I fortrolighed mellem deltagerne\, naturligvis.\nDu får mulighed for et varmt\, uformelt samvær i et fællesskab\, hvor selvmord ikke er tabu.\nDu er altid velkommen til at tage en ven med\, hvis du har behov for det.\n\n  \nVel mødt og venlig hilsen \nBestyrelsen Lokalkreds Thy / efterladte.dk \nHanne Tang\, mobil: 2240 8784\, mail: hanne@tang.dk\, Lisbeth og Anders Hornstrup\, mobil: 3057 0488 for evt. spørgsmål\, Alice Jensen og Ingelis Have
URL:https://efterladte.dk/aktivitet/cafeaften-om-at-huske-hvem-den-anden-er-thisted/
LOCATION:Frivillig Thy\, Nytorv 8\, Thisted\, 7700
CATEGORIES:Cafémøde,Foredrag,Lokalkreds Thy
ATTACH;FMTTYPE=image/jpeg:https://efterladte.dk/wp-content/uploads/2025/11/Hanne_Om-at-huske-scaled-e1763114903292.jpg
ORGANIZER;CN="Lokalkreds Thy":MAILTO:hanne@tang.dk
END:VEVENT
END:VCALENDAR